Workbook
Name Excel_BuiltIn__FilterDatabase: 'Class. Personale'!$A$1:$V$1

Sheet 50 IV Femm_
L1: =SUM(L3:L52) -> 17 | M1: =SUM(M3:M52) -> 17 | N1: =SUM(N3:N52) -> 0 | O1: =SUM(O3:O52) -> 24 | P1: =SUM(P3:P52) -> 0 | Q1: =SUM(Q3:Q52) -> 8 | R1: =SUM(R3:R52) -> 0 | S1: =SUM(S3:S52) -> 12 | ... AD1: =SUM(AD3:AD52) -> 12
B2: PETT | C2: COGNOME | D2: NOME | E2: COGNOME NOME | F2: SCUOLA | G2: CIRCOLO | H2: CLASSE | I2: TEMPO | J2: P.TI | K2: P.ti Personali | L2: AB | M2: VF | N2: VL | O2: VV | P2: CAS | Q2: SAN | R2: DCO | S2: ICG | T2: BOT | U2: DEA | V2: DON | W2: MAR | X2: RAM | Y2: RIC | Z2: RMA | AA2: VID | AB2: ADA | AC2: GAM | AD2: TRO
A3: 1 | B3: 1097 | C3: =IF($B3="","",VLOOKUP($B3,'Class. Personale'!$B:$I,2,)) -> TIRABOSCHI | D3: =IF($B3="","",VLOOKUP($B3,'Class. Personale'!$B:$I,3,)) -> ANGELICA | E3: =CONCATENATE(C3,D3) -> TIRABOSCHIANGELICA | F3: =IF($B3="","",VLOOKUP($B3,'Class. Personale'!$B:$I,5,)) -> TRO | G3: =IF($B3="","",VLOOKUP($B3,'Class. Personale'!$B:$I,6,)) -> ICG | H3: =IF($B3="","",VLOOKUP($B3,'Class. Personale'!$B:$I,7,)) -> IV | I3: 8.1 | J3: 12 | K3: 1000 | L3: =IF($G3="","",IF($G3="AB",$J3,"")) | M3: =IF($G3="","",IF($G3="VF",$J3,"")) | N3: =IF($G3="","",IF($G3="VL",$J3,"")) | O3: =IF($G3="","",IF($G3="VV",$J3,"")) | P3: =IF($G3="","",IF($G3="CAS",$J3,"")) | Q3: =IF($G3="","",IF($G3="SAN",$J3,"")) | R3: =IF($F3="","",IF($F3="DCO",$J3,"")) | S3: =IF($G3="","",IF($G3="ICG",$J3,"")) -> 12 | T3: =IF($F3="","",IF($F3="BOT",$J3,"")) | U3: =IF($F3="","",IF($F3="DEA",$J3,"")) | V3: =IF($F3="","",IF($F3="DON",$J3,"")) | W3: =IF($F3="","",IF($F3="MAR",$J3,"")) | X3: =IF($F3="","",IF($F3="RAM",$J3,"")) | Y3: =IF($F3="","",IF($F3="RIC",$J3,"")) | Z3: =IF($F3="","",IF($F3="RMA",$J3,"")) | AA3: =IF($F3="","",IF($F3="VID",$J3,"")) | AB3: =IF($F3="","",IF($F3="ADA",$J3,"")) | AC3: =IF($F3="","",IF($F3="GAM",$J3,"")) | AD3: =IF($F3="","",IF($F3="TRO",$J3,"")) -> 12
A4: 2 | B4: 1066 | C4: =IF($B4="","",VLOOKUP($B4,'Class. Personale'!$B:$I,2,)) -> BRANDOLINI | D4: =IF($B4="","",VLOOKUP($B4,'Class. Personale'!$B:$I,3,)) -> GIULIA | E4: =CONCATENATE(C4,D4) -> BRANDOLINIGIULIA | F4: =IF($B4="","",VLOOKUP($B4,'Class. Personale'!$B:$I,5,)) -> VID | G4: =IF($B4="","",VLOOKUP($B4,'Class. Personale'!$B:$I,6,)) -> VF | H4: =IF($B4="","",VLOOKUP($B4,'Class. Personale'!$B:$I,7,)) -> IV | I4: 8.13 | J4: 11 | K4: 999 | L4: =IF($G4="","",IF($G4="AB",$J4,"")) | M4: =IF($G4="","",IF($G4="VF",$J4,"")) -> 11 | N4: =IF($G4="","",IF($G4="VL",$J4,"")) | O4: =IF($G4="","",IF($G4="VV",$J4,"")) | P4: =IF($G4="","",IF($G4="CAS",$J4,"")) | Q4: =IF($G4="","",IF($G4="SAN",$J4,"")) | R4: =IF($F4="","",IF($F4="DCO",$J4,"")) | S4: =IF($G4="","",IF($G4="ICG",$J4,"")) | T4: =IF($F4="","",IF($F4="BOT",$J4,"")) | U4: =IF($F4="","",IF($F4="DEA",$J4,"")) | V4: =IF($F4="","",IF($F4="DON",$J4,"")) | W4: =IF($F4="","",IF($F4="MAR",$J4,"")) | X4: =IF($F4="","",IF($F4="RAM",$J4,"")) | Y4: =IF($F4="","",IF($F4="RIC",$J4,"")) | Z4: =IF($F4="","",IF($F4="RMA",$J4,"")) | AA4: =IF($F4="","",IF($F4="VID",$J4,"")) -> 11 | AB4: =IF($F4="","",IF($F4="ADA",$J4,"")) | AC4: =IF($F4="","",IF($F4="GAM",$J4,"")) | AD4: =IF($F4="","",IF($F4="TRO",$J4,""))
A5: 3 | B5: 1081 | C5: =IF($B5="","",VLOOKUP($B5,'Class. Personale'!$B:$I,2,)) -> FARACI | D5: =IF($B5="","",VLOOKUP($B5,'Class. Personale'!$B:$I,3,)) -> BEATRICE | E5: =CONCATENATE(C5,D5) -> FARACIBEATRICE | F5: =IF($B5="","",VLOOKUP($B5,'Class. Personale'!$B:$I,5,)) -> RAM | G5: =IF($B5="","",VLOOKUP($B5,'Class. Personale'!$B:$I,6,)) -> AB | H5: =IF($B5="","",VLOOKUP($B5,'Class. Personale'!$B:$I,7,)) -> IV | I5: 8.32 | J5: 10 | K5: 998 | L5: =IF($G5="","",IF($G5="AB",$J5,"")) -> 10 | M5: =IF($G5="","",IF($G5="VF",$J5,"")) | N5: =IF($G5="","",IF($G5="VL",$J5,"")) | O5: =IF($G5="","",IF($G5="VV",$J5,"")) | P5: =IF($G5="","",IF($G5="CAS",$J5,"")) | Q5: =IF($G5="","",IF($G5="SAN",$J5,"")) | R5: =IF($F5="","",IF($F5="DCO",$J5,"")) | S5: =IF($G5="","",IF($G5="ICG",$J5,"")) | T5: =IF($F5="","",IF($F5="BOT",$J5,"")) | U5: =IF($F5="","",IF($F5="DEA",$J5,"")) | V5: =IF($F5="","",IF($F5="DON",$J5,"")) | W5: =IF($F5="","",IF($F5="MAR",$J5,"")) | X5: =IF($F5="","",IF($F5="RAM",$J5,"")) -> 10 | Y5: =IF($F5="","",IF($F5="RIC",$J5,"")) | Z5: =IF($F5="","",IF($F5="RMA",$J5,"")) | AA5: =IF($F5="","",IF($F5="VID",$J5,"")) | AB5: =IF($F5="","",IF($F5="ADA",$J5,"")) | AC5: =IF($F5="","",IF($F5="GAM",$J5,"")) | AD5: =IF($F5="","",IF($F5="TRO",$J5,""))
A6: 4 | B6: 1030 | C6: =IF($B6="","",VLOOKUP($B6,'Class. Personale'!$B:$I,2,)) -> MANGANO | D6: =IF($B6="","",VLOOKUP($B6,'Class. Personale'!$B:$I,3,)) -> CHLOE | E6: =CONCATENATE(C6,D6) -> MANGANOCHLOE | F6: =IF($B6="","",VLOOKUP($B6,'Class. Personale'!$B:$I,5,)) -> DON | G6: =IF($B6="","",VLOOKUP($B6,'Class. Personale'!$B:$I,6,)) -> VV | H6: =IF($B6="","",VLOOKUP($B6,'Class. Personale'!$B:$I,7,)) -> IV | I6: 8.33 | J6: 9 | K6: 997 | L6: =IF($G6="","",IF($G6="AB",$J6,"")) | M6: =IF($G6="","",IF($G6="VF",$J6,"")) | N6: =IF($G6="","",IF($G6="VL",$J6,"")) | O6: =IF($G6="","",IF($G6="VV",$J6,"")) -> 9 | P6: =IF($G6="","",IF($G6="CAS",$J6,"")) | Q6: =IF($G6="","",IF($G6="SAN",$J6,"")) | R6: =IF($F6="","",IF($F6="DCO",$J6,"")) | S6: =IF($G6="","",IF($G6="ICG",$J6,"")) | T6: =IF($F6="","",IF($F6="BOT",$J6,"")) | U6: =IF($F6="","",IF($F6="DEA",$J6,"")) | V6: =IF($F6="","",IF($F6="DON",$J6,"")) -> 9 | W6: =IF($F6="","",IF($F6="MAR",$J6,"")) | X6: =IF($F6="","",IF($F6="RAM",$J6,"")) | Y6: =IF($F6="","",IF($F6="RIC",$J6,"")) | Z6: =IF($F6="","",IF($F6="RMA",$J6,"")) | AA6: =IF($F6="","",IF($F6="VID",$J6,"")) | AB6: =IF($F6="","",IF($F6="ADA",$J6,"")) | AC6: =IF($F6="","",IF($F6="GAM",$J6,"")) | AD6: =IF($F6="","",IF($F6="TRO",$J6,""))
A7: 5 | B7: 1057 | C7: =IF($B7="","",VLOOKUP($B7,'Class. Personale'!$B:$I,2,)) -> Krasnitskaya | D7: =IF($B7="","",VLOOKUP($B7,'Class. Personale'!$B:$I,3,)) -> Noemi | E7: =CONCATENATE(C7,D7) -> KrasnitskayaNoemi | F7: =IF($B7="","",VLOOKUP($B7,'Class. Personale'!$B:$I,5,)) -> SAN | G7: SAN | H7: =IF($B7="","",VLOOKUP($B7,'Class. Personale'!$B:$I,7,)) -> IV | I7: 8.39 | J7: 8 | K7: 996 | L7: =IF($G7="","",IF($G7="AB",$J7,"")) | M7: =IF($G7="","",IF($G7="VF",$J7,"")) | N7: =IF($G7="","",IF($G7="VL",$J7,"")) | O7: =IF($G7="","",IF($G7="VV",$J7,"")) | P7: =IF($G7="","",IF($G7="CAS",$J7,"")) | Q7: =IF($G7="","",IF($G7="SAN",$J7,"")) -> 8 | R7: =IF($F7="","",IF($F7="DCO",$J7,"")) | S7: =IF($G7="","",IF($G7="ICG",$J7,"")) | T7: =IF($F7="","",IF($F7="BOT",$J7,"")) | U7: =IF($F7="","",IF($F7="DEA",$J7,"")) | V7: =IF($F7="","",IF($F7="DON",$J7,"")) | W7: =IF($F7="","",IF($F7="MAR",$J7,"")) | X7: =IF($F7="","",IF($F7="RAM",$J7,"")) | Y7: =IF($F7="","",IF($F7="RIC",$J7,"")) | Z7: =IF($F7="","",IF($F7="RMA",$J7,"")) | AA7: =IF($F7="","",IF($F7="VID",$J7,"")) | AB7: =IF($F7="","",IF($F7="ADA",$J7,"")) | AC7: =IF($F7="","",IF($F7="GAM",$J7,"")) | AD7: =IF($F7="","",IF($F7="TRO",$J7,""))
A8: 6 | B8: 1082 | C8: =IF($B8="","",VLOOKUP($B8,'Class. Personale'!$B:$I,2,)) -> NEGRINI | D8: =IF($B8="","",VLOOKUP($B8,'Class. Personale'!$B:$I,3,)) -> REBECCA | E8: =CONCATENATE(C8,D8) -> NEGRINIREBECCA | F8: =IF($B8="","",VLOOKUP($B8,'Class. Personale'!$B:$I,5,)) -> RAM | G8: =IF($B8="","",VLOOKUP($B8,'Class. Personale'!$B:$I,6,)) -> AB | H8: =IF($B8="","",VLOOKUP($B8,'Class. Personale'!$B:$I,7,)) -> IV | I8: 8.43 | J8: 7 | K8: 995 | L8: =IF($G8="","",IF($G8="AB",$J8,"")) -> 7 | M8: =IF($G8="","",IF($G8="VF",$J8,"")) | N8: =IF($G8="","",IF($G8="VL",$J8,"")) | O8: =IF($G8="","",IF($G8="VV",$J8,"")) | P8: =IF($G8="","",IF($G8="CAS",$J8,"")) | Q8: =IF($G8="","",IF($G8="SAN",$J8,"")) | R8: =IF($F8="","",IF($F8="DCO",$J8,"")) | S8: =IF($G8="","",IF($G8="ICG",$J8,"")) | T8: =IF($F8="","",IF($F8="BOT",$J8,"")) | U8: =IF($F8="","",IF($F8="DEA",$J8,"")) | V8: =IF($F8="","",IF($F8="DON",$J8,"")) | W8: =IF($F8="","",IF($F8="MAR",$J8,"")) | X8: =IF($F8="","",IF($F8="RAM",$J8,"")) -> 7 | Y8: =IF($F8="","",IF($F8="RIC",$J8,"")) | Z8: =IF($F8="","",IF($F8="RMA",$J8,"")) | AA8: =IF($F8="","",IF($F8="VID",$J8,"")) | AB8: =IF($F8="","",IF($F8="ADA",$J8,"")) | AC8: =IF($F8="","",IF($F8="GAM",$J8,"")) | AD8: =IF($F8="","",IF($F8="TRO",$J8,""))
A9: 7 | B9: 1065 | C9: =IF($B9="","",VLOOKUP($B9,'Class. Personale'!$B:$I,2,)) -> MACCARONE | D9: =IF($B9="","",VLOOKUP($B9,'Class. Personale'!$B:$I,3,)) -> ASIA | E9: =CONCATENATE(C9,D9) -> MACCARONEASIA | F9: =IF($B9="","",VLOOKUP($B9,'Class. Personale'!$B:$I,5,)) -> VID | G9: =IF($B9="","",VLOOKUP($B9,'Class. Personale'!$B:$I,6,)) -> VF | H9: =IF($B9="","",VLOOKUP($B9,'Class. Personale'!$B:$I,7,)) -> IV | I9: 8.46 | J9: 6 | K9: 994 | L9: =IF($G9="","",IF($G9="AB",$J9,"")) | M9: =IF($G9="","",IF($G9="VF",$J9,"")) -> 6 | N9: =IF($G9="","",IF($G9="VL",$J9,"")) | O9: =IF($G9="","",IF($G9="VV",$J9,"")) | P9: =IF($G9="","",IF($G9="CAS",$J9,"")) | Q9: =IF($G9="","",IF($G9="SAN",$J9,"")) | R9: =IF($F9="","",IF($F9="DCO",$J9,"")) | S9: =IF($G9="","",IF($G9="ICG",$J9,"")) | T9: =IF($F9="","",IF($F9="BOT",$J9,"")) | U9: =IF($F9="","",IF($F9="DEA",$J9,"")) | V9: =IF($F9="","",IF($F9="DON",$J9,"")) | W9: =IF($F9="","",IF($F9="MAR",$J9,"")) | X9: =IF($F9="","",IF($F9="RAM",$J9,"")) | Y9: =IF($F9="","",IF($F9="RIC",$J9,"")) | Z9: =IF($F9="","",IF($F9="RMA",$J9,"")) | AA9: =IF($F9="","",IF($F9="VID",$J9,"")) -> 6 | AB9: =IF($F9="","",IF($F9="ADA",$J9,"")) | AC9: =IF($F9="","",IF($F9="GAM",$J9,"")) | AD9: =IF($F9="","",IF($F9="TRO",$J9,""))
A10: 8 | B10: 1040 | C10: =IF($B10="","",VLOOKUP($B10,'Class. Personale'!$B:$I,2,)) -> CASTILLO | D10: =IF($B10="","",VLOOKUP($B10,'Class. Personale'!$B:$I,3,)) -> JADINE GLYZEL | E10: =CONCATENATE(C10,D10) -> CASTILLOJADINE GLYZEL | F10: =IF($B10="","",VLOOKUP($B10,'Class. Personale'!$B:$I,5,)) -> RMA | G10: =IF($B10="","",VLOOKUP($B10,'Class. Personale'!$B:$I,6,)) -> VV | H10: =IF($B10="","",VLOOKUP($B10,'Class. Personale'!$B:$I,7,)) -> IV | I10: 8.57 | J10: 5 | K10: 993 | L10: =IF($G10="","",IF($G10="AB",$J10,"")) | M10: =IF($G10="","",IF($G10="VF",$J10,"")) | N10: =IF($G10="","",IF($G10="VL",$J10,"")) | O10: =IF($G10="","",IF($G10="VV",$J10,"")) -> 5 | P10: =IF($G10="","",IF($G10="CAS",$J10,"")) | Q10: =IF($G10="","",IF($G10="SAN",$J10,"")) | R10: =IF($F10="","",IF($F10="DCO",$J10,"")) | S10: =IF($G10="","",IF($G10="ICG",$J10,"")) | T10: =IF($F10="","",IF($F10="BOT",$J10,"")) | U10: =IF($F10="","",IF($F10="DEA",$J10,"")) | V10: =IF($F10="","",IF($F10="DON",$J10,"")) | W10: =IF($F10="","",IF($F10="MAR",$J10,"")) | X10: =IF($F10="","",IF($F10="RAM",$J10,"")) | Y10: =IF($F10="","",IF($F10="RIC",$J10,"")) | Z10: =IF($F10="","",IF($F10="RMA",$J10,"")) -> 5 | AA10: =IF($F10="","",IF($F10="VID",$J10,"")) | AB10: =IF($F10="","",IF($F10="ADA",$J10,"")) | AC10: =IF($F10="","",IF($F10="GAM",$J10,"")) | AD10: =IF($F10="","",IF($F10="TRO",$J10,""))
A11: 9 | B11: 1039 | C11: =IF($B11="","",VLOOKUP($B11,'Class. Personale'!$B:$I,2,)) -> OUANDAOGO | D11: =IF($B11="","",VLOOKUP($B11,'Class. Personale'!$B:$I,3,)) -> KARIMA NAYLA | E11: =CONCATENATE(C11,D11) -> OUANDAOGOKARIMA NAYLA | F11: =IF($B11="","",VLOOKUP($B11,'Class. Personale'!$B:$I,5,)) -> MAR | G11: =IF($B11="","",VLOOKUP($B11,'Class. Personale'!$B:$I,6,)) -> VV | H11: =IF($B11="","",VLOOKUP($B11,'Class. Personale'!$B:$I,7,)) -> IV | I11: 8.58 | J11: 4 | K11: 992 | L11: =IF($G11="","",IF($G11="AB",$J11,"")) | M11: =IF($G11="","",IF($G11="VF",$J11,"")) | N11: =IF($G11="","",IF($G11="VL",$J11,"")) | O11: =IF($G11="","",IF($G11="VV",$J11,"")) -> 4 | P11: =IF($G11="","",IF($G11="CAS",$J11,"")) | Q11: =IF($G11="","",IF($G11="SAN",$J11,"")) | R11: =IF($F11="","",IF($F11="DCO",$J11,"")) | S11: =IF($G11="","",IF($G11="ICG",$J11,"")) | T11: =IF($F11="","",IF($F11="BOT",$J11,"")) | U11: =IF($F11="","",IF($F11="DEA",$J11,"")) | V11: =IF($F11="","",IF($F11="DON",$J11,"")) | W11: =IF($F11="","",IF($F11="MAR",$J11,"")) -> 4 | X11: =IF($F11="","",IF($F11="RAM",$J11,"")) | Y11: =IF($F11="","",IF($F11="RIC",$J11,"")) | Z11: =IF($F11="","",IF($F11="RMA",$J11,"")) | AA11: =IF($F11="","",IF($F11="VID",$J11,"")) | AB11: =IF($F11="","",IF($F11="ADA",$J11,"")) | AC11: =IF($F11="","",IF($F11="GAM",$J11,"")) | AD11: =IF($F11="","",IF($F11="TRO",$J11,""))
A12: 10 | B12: 1046 | C12: =IF($B12="","",VLOOKUP($B12,'Class. Personale'!$B:$I,2,)) -> FALL | D12: =IF($B12="","",VLOOKUP($B12,'Class. Personale'!$B:$I,3,)) -> MBATHIO | E12: =CONCATENATE(C12,D12) -> FALLMBATHIO | F12: =IF($B12="","",VLOOKUP($B12,'Class. Personale'!$B:$I,5,)) -> RMA | G12: =IF($B12="","",VLOOKUP($B12,'Class. Personale'!$B:$I,6,)) -> VV | H12: =IF($B12="","",VLOOKUP($B12,'Class. Personale'!$B:$I,7,)) -> IV | I12: 8.64 | J12: 3 | K12: 991 | L12: =IF($G12="","",IF($G12="AB",$J12,"")) | M12: =IF($G12="","",IF($G12="VF",$J12,"")) | N12: =IF($G12="","",IF($G12="VL",$J12,"")) | O12: =IF($G12="","",IF($G12="VV",$J12,"")) -> 3 | P12: =IF($G12="","",IF($G12="CAS",$J12,"")) | Q12: =IF($G12="","",IF($G12="SAN",$J12,"")) | R12: =IF($F12="","",IF($F12="DCO",$J12,"")) | S12: =IF($G12="","",IF($G12="ICG",$J12,"")) | T12: =IF($F12="","",IF($F12="BOT",$J12,"")) | U12: =IF($F12="","",IF($F12="DEA",$J12,"")) | V12: =IF($F12="","",IF($F12="DON",$J12,"")) | W12: =IF($F12="","",IF($F12="MAR",$J12,"")) | X12: =IF($F12="","",IF($F12="RAM",$J12,"")) | Y12: =IF($F12="","",IF($F12="RIC",$J12,"")) | Z12: =IF($F12="","",IF($F12="RMA",$J12,"")) -> 3 | AA12: =IF($F12="","",IF($F12="VID",$J12,"")) | AB12: =IF($F12="","",IF($F12="ADA",$J12,"")) | AC12: =IF($F12="","",IF($F12="GAM",$J12,"")) | AD12: =IF($F12="","",IF($F12="TRO",$J12,""))
A13: 11 | B13: 1032 | C13: =IF($B13="","",VLOOKUP($B13,'Class. Personale'!$B:$I,2,)) -> DI GUGLIELMO | D13: =IF($B13="","",VLOOKUP($B13,'Class. Personale'!$B:$I,3,)) -> AGNESE | E13: =CONCATENATE(C13,D13) -> DI GUGLIELMOAGNESE | F13: =IF($B13="","",VLOOKUP($B13,'Class. Personale'!$B:$I,5,)) -> DON | G13: =IF($B13="","",VLOOKUP($B13,'Class. Personale'!$B:$I,6,)) -> VV | H13: =IF($B13="","",VLOOKUP($B13,'Class. Personale'!$B:$I,7,)) -> IV | I13: 8.68 | J13: 2 | K13: 990 | L13: =IF($G13="","",IF($G13="AB",$J13,"")) | M13: =IF($G13="","",IF($G13="VF",$J13,"")) | N13: =IF($G13="","",IF($G13="VL",$J13,"")) | O13: =IF($G13="","",IF($G13="VV",$J13,"")) -> 2 | P13: =IF($G13="","",IF($G13="CAS",$J13,"")) | Q13: =IF($G13="","",IF($G13="SAN",$J13,"")) | R13: =IF($F13="","",IF($F13="DCO",$J13,"")) | S13: =IF($G13="","",IF($G13="ICG",$J13,"")) | T13: =IF($F13="","",IF($F13="BOT",$J13,"")) | U13: =IF($F13="","",IF($F13="DEA",$J13,"")) | V13: =IF($F13="","",IF($F13="DON",$J13,"")) -> 2 | W13: =IF($F13="","",IF($F13="MAR",$J13,"")) | X13: =IF($F13="","",IF($F13="RAM",$J13,"")) | Y13: =IF($F13="","",IF($F13="RIC",$J13,"")) | Z13: =IF($F13="","",IF($F13="RMA",$J13,"")) | AA13: =IF($F13="","",IF($F13="VID",$J13,"")) | AB13: =IF($F13="","",IF($F13="ADA",$J13,"")) | AC13: =IF($F13="","",IF($F13="GAM",$J13,"")) | AD13: =IF($F13="","",IF($F13="TRO",$J13,""))
A14: 12 | B14: 1049 | C14: =IF($B14="","",VLOOKUP($B14,'Class. Personale'!$B:$I,2,)) -> PREVIDE MASSARA | D14: =IF($B14="","",VLOOKUP($B14,'Class. Personale'!$B:$I,3,)) -> MIA | E14: =CONCATENATE(C14,D14) -> PREVIDE MASSARAMIA | F14: =IF($B14="","",VLOOKUP($B14,'Class. Personale'!$B:$I,5,)) -> RMA | G14: =IF($B14="","",VLOOKUP($B14,'Class. Personale'!$B:$I,6,)) -> VV | H14: =IF($B14="","",VLOOKUP($B14,'Class. Personale'!$B:$I,7,)) -> IV | I14: 8.73 | J14: 1 | K14: 989 | L14: =IF($G14="","",IF($G14="AB",$J14,"")) | M14: =IF($G14="","",IF($G14="VF",$J14,"")) | N14: =IF($G14="","",IF($G14="VL",$J14,"")) | O14: =IF($G14="","",IF($G14="VV",$J14,"")) -> 1 | P14: =IF($G14="","",IF($G14="CAS",$J14,"")) | Q14: =IF($G14="","",IF($G14="SAN",$J14,"")) | R14: =IF($F14="","",IF($F14="DCO",$J14,"")) | S14: =IF($G14="","",IF($G14="ICG",$J14,"")) | T14: =IF($F14="","",IF($F14="BOT",$J14,"")) | U14: =IF($F14="","",IF($F14="DEA",$J14,"")) | V14: =IF($F14="","",IF($F14="DON",$J14,"")) | W14: =IF($F14="","",IF($F14="MAR",$J14,"")) | X14: =IF($F14="","",IF($F14="RAM",$J14,"")) | Y14: =IF($F14="","",IF($F14="RIC",$J14,"")) | Z14: =IF($F14="","",IF($F14="RMA",$J14,"")) -> 1 | AA14: =IF($F14="","",IF($F14="VID",$J14,"")) | AB14: =IF($F14="","",IF($F14="ADA",$J14,"")) | AC14: =IF($F14="","",IF($F14="GAM",$J14,"")) | AD14: =IF($F14="","",IF($F14="TRO",$J14,""))
A15: 13 | B15: 1051 | C15: =IF($B15="","",VLOOKUP($B15,'Class. Personale'!$B:$I,2,)) -> FERRARI TRECATE | D15: =IF($B15="","",VLOOKUP($B15,'Class. Personale'!$B:$I,3,)) -> SELINA | E15: =CONCATENATE(C15,D15) -> FERRARI TRECATESELINA | F15: =IF($B15="","",VLOOKUP($B15,'Class. Personale'!$B:$I,5,)) -> RIC | G15: VF | H15: =IF($B15="","",VLOOKUP($B15,'Class. Personale'!$B:$I,7,)) -> IV | I15: 8.76 | J15: 0 | K15: 988 | L15: =IF($G15="","",IF($G15="AB",$J15,"")) | M15: =IF($G15="","",IF($G15="VF",$J15,"")) -> 0 | N15: =IF($G15="","",IF($G15="VL",$J15,"")) | O15: =IF($G15="","",IF($G15="VV",$J15,"")) | P15: =IF($G15="","",IF($G15="CAS",$J15,"")) | Q15: =IF($G15="","",IF($G15="SAN",$J15,"")) | R15: =IF($F15="","",IF($F15="DCO",$J15,"")) | S15: =IF($G15="","",IF($G15="ICG",$J15,"")) | T15: =IF($F15="","",IF($F15="BOT",$J15,"")) | U15: =IF($F15="","",IF($F15="DEA",$J15,"")) | V15: =IF($F15="","",IF($F15="DON",$J15,"")) | W15: =IF($F15="","",IF($F15="MAR",$J15,"")) | X15: =IF($F15="","",IF($F15="RAM",$J15,"")) | Y15: =IF($F15="","",IF($F15="RIC",$J15,"")) -> 0 | Z15: =IF($F15="","",IF($F15="RMA",$J15,"")) | AA15: =IF($F15="","",IF($F15="VID",$J15,"")) | AB15: =IF($F15="","",IF($F15="ADA",$J15,"")) | AC15: =IF($F15="","",IF($F15="GAM",$J15,"")) | AD15: =IF($F15="","",IF($F15="TRO",$J15,""))
A16: 14 | B16: 1084 | C16: =IF($B16="","",VLOOKUP($B16,'Class. Personale'!$B:$I,2,)) -> ZARIQA | D16: =IF($B16="","",VLOOKUP($B16,'Class. Personale'!$B:$I,3,)) -> KAWTHAR | E16: =CONCATENATE(C16,D16) -> ZARIQAKAWTHAR | F16: =IF($B16="","",VLOOKUP($B16,'Class. Personale'!$B:$I,5,)) -> RAM | G16: =IF($B16="","",VLOOKUP($B16,'Class. Personale'!$B:$I,6,)) -> AB | H16: =IF($B16="","",VLOOKUP($B16,'Class. Personale'!$B:$I,7,)) -> IV | I16: 8.79 | K16: 987 | L16: =IF($G16="","",IF($G16="AB",$J16,"")) -> 0 | M16: =IF($G16="","",IF($G16="VF",$J16,"")) | N16: =IF($G16="","",IF($G16="VL",$J16,"")) | O16: =IF($G16="","",IF($G16="VV",$J16,"")) | P16: =IF($G16="","",IF($G16="CAS",$J16,"")) | Q16: =IF($G16="","",IF($G16="SAN",$J16,"")) | R16: =IF($F16="","",IF($F16="DCO",$J16,"")) | S16: =IF($G16="","",IF($G16="ICG",$J16,"")) | T16: =IF($F16="","",IF($F16="BOT",$J16,"")) | U16: =IF($F16="","",IF($F16="DEA",$J16,"")) | V16: =IF($F16="","",IF($F16="DON",$J16,"")) | W16: =IF($F16="","",IF($F16="MAR",$J16,"")) | X16: =IF($F16="","",IF($F16="RAM",$J16,"")) -> 0 | Y16: =IF($F16="","",IF($F16="RIC",$J16,"")) | Z16: =IF($F16="","",IF($F16="RMA",$J16,"")) | AA16: =IF($F16="","",IF($F16="VID",$J16,"")) | AB16: =IF($F16="","",IF($F16="ADA",$J16,"")) | AC16: =IF($F16="","",IF($F16="GAM",$J16,"")) | AD16: =IF($F16="","",IF($F16="TRO",$J16,""))
A17: 15 | B17: 1041 | C17: =IF($B17="","",VLOOKUP($B17,'Class. Personale'!$B:$I,2,)) -> LOZOVAN | D17: =IF($B17="","",VLOOKUP($B17,'Class. Personale'!$B:$I,3,)) -> LIA | E17: =CONCATENATE(C17,D17) -> LOZOVANLIA | F17: =IF($B17="","",VLOOKUP($B17,'Class. Personale'!$B:$I,5,)) -> RMA | G17: =IF($B17="","",VLOOKUP($B17,'Class. Personale'!$B:$I,6,)) -> VV | H17: =IF($B17="","",VLOOKUP($B17,'Class. Personale'!$B:$I,7,)) -> IV | I17: 8.8 | K17: 986 | L17: =IF($G17="","",IF($G17="AB",$J17,"")) | M17: =IF($G17="","",IF($G17="VF",$J17,"")) | N17: =IF($G17="","",IF($G17="VL",$J17,"")) | O17: =IF($G17="","",IF($G17="VV",$J17,"")) -> 0 | P17: =IF($G17="","",IF($G17="CAS",$J17,"")) | Q17: =IF($G17="","",IF($G17="SAN",$J17,"")) | R17: =IF($F17="","",IF($F17="DCO",$J17,"")) | S17: =IF($G17="","",IF($G17="ICG",$J17,"")) | T17: =IF($F17="","",IF($F17="BOT",$J17,"")) | U17: =IF($F17="","",IF($F17="DEA",$J17,"")) | V17: =IF($F17="","",IF($F17="DON",$J17,"")) | W17: =IF($F17="","",IF($F17="MAR",$J17,"")) | X17: =IF($F17="","",IF($F17="RAM",$J17,"")) | Y17: =IF($F17="","",IF($F17="RIC",$J17,"")) | Z17: =IF($F17="","",IF($F17="RMA",$J17,"")) -> 0 | AA17: =IF($F17="","",IF($F17="VID",$J17,"")) | AB17: =IF($F17="","",IF($F17="ADA",$J17,"")) | AC17: =IF($F17="","",IF($F17="GAM",$J17,"")) | AD17: =IF($F17="","",IF($F17="TRO",$J17,""))
A18: 16 | B18: 1028 | C18: =IF($B18="","",VLOOKUP($B18,'Class. Personale'!$B:$I,2,)) -> CECHETTO | D18: =IF($B18="","",VLOOKUP($B18,'Class. Personale'!$B:$I,3,)) -> VIOLA | E18: =CONCATENATE(C18,D18) -> CECHETTOVIOLA | F18: =IF($B18="","",VLOOKUP($B18,'Class. Personale'!$B:$I,5,)) -> DON | G18: =IF($B18="","",VLOOKUP($B18,'Class. Personale'!$B:$I,6,)) -> VV | H18: =IF($B18="","",VLOOKUP($B18,'Class. Personale'!$B:$I,7,)) -> IV | I18: 8.86 | K18: 985 | L18: =IF($G18="","",IF($G18="AB",$J18,"")) | M18: =IF($G18="","",IF($G18="VF",$J18,"")) | N18: =IF($G18="","",IF($G18="VL",$J18,"")) | O18: =IF($G18="","",IF($G18="VV",$J18,"")) -> 0 | P18: =IF($G18="","",IF($G18="CAS",$J18,"")) | Q18: =IF($G18="","",IF($G18="SAN",$J18,"")) | R18: =IF($F18="","",IF($F18="DCO",$J18,"")) | S18: =IF($G18="","",IF($G18="ICG",$J18,"")) | T18: =IF($F18="","",IF($F18="BOT",$J18,"")) | U18: =IF($F18="","",IF($F18="DEA",$J18,"")) | V18: =IF($F18="","",IF($F18="DON",$J18,"")) -> 0 | W18: =IF($F18="","",IF($F18="MAR",$J18,"")) | X18: =IF($F18="","",IF($F18="RAM",$J18,"")) | Y18: =IF($F18="","",IF($F18="RIC",$J18,"")) | Z18: =IF($F18="","",IF($F18="RMA",$J18,"")) | AA18: =IF($F18="","",IF($F18="VID",$J18,"")) | AB18: =IF($F18="","",IF($F18="ADA",$J18,"")) | AC18: =IF($F18="","",IF($F18="GAM",$J18,"")) | AD18: =IF($F18="","",IF($F18="TRO",$J18,""))
A19: 17 | B19: 1038 | C19: =IF($B19="","",VLOOKUP($B19,'Class. Personale'!$B:$I,2,)) -> RUGGERI | D19: =IF($B19="","",VLOOKUP($B19,'Class. Personale'!$B:$I,3,)) -> BIANCA | E19: =CONCATENATE(C19,D19) -> RUGGERIBIANCA | F19: =IF($B19="","",VLOOKUP($B19,'Class. Personale'!$B:$I,5,)) -> MAR | G19: =IF($B19="","",VLOOKUP($B19,'Class. Personale'!$B:$I,6,)) -> VV | H19: =IF($B19="","",VLOOKUP($B19,'Class. Personale'!$B:$I,7,)) -> IV | I19: 8.87 | K19: 984 | L19: =IF($G19="","",IF($G19="AB",$J19,"")) | M19: =IF($G19="","",IF($G19="VF",$J19,"")) | N19: =IF($G19="","",IF($G19="VL",$J19,"")) | O19: =IF($G19="","",IF($G19="VV",$J19,"")) -> 0 | P19: =IF($G19="","",IF($G19="CAS",$J19,"")) | Q19: =IF($G19="","",IF($G19="SAN",$J19,"")) | R19: =IF($F19="","",IF($F19="DCO",$J19,"")) | S19: =IF($G19="","",IF($G19="ICG",$J19,"")) | T19: =IF($F19="","",IF($F19="BOT",$J19,"")) | U19: =IF($F19="","",IF($F19="DEA",$J19,"")) | V19: =IF($F19="","",IF($F19="DON",$J19,"")) | W19: =IF($F19="","",IF($F19="MAR",$J19,"")) -> 0 | X19: =IF($F19="","",IF($F19="RAM",$J19,"")) | Y19: =IF($F19="","",IF($F19="RIC",$J19,"")) | Z19: =IF($F19="","",IF($F19="RMA",$J19,"")) | AA19: =IF($F19="","",IF($F19="VID",$J19,"")) | AB19: =IF($F19="","",IF($F19="ADA",$J19,"")) | AC19: =IF($F19="","",IF($F19="GAM",$J19,"")) | AD19: =IF($F19="","",IF($F19="TRO",$J19,""))
A20: 18 | B20: 1036 | C20: =IF($B20="","",VLOOKUP($B20,'Class. Personale'!$B:$I,2,)) -> GOZZINI | D20: =IF($B20="","",VLOOKUP($B20,'Class. Personale'!$B:$I,3,)) -> ANITA | E20: =CONCATENATE(C20,D20) -> GOZZINIANITA | F20: =IF($B20="","",VLOOKUP($B20,'Class. Personale'!$B:$I,5,)) -> MAR | G20: VV | H20: =IF($B20="","",VLOOKUP($B20,'Class. Personale'!$B:$I,7,)) -> IV | I20: 8.9 | K20: 983 | L20: =IF($G20="","",IF($G20="AB",$J20,"")) | M20: =IF($G20="","",IF($G20="VF",$J20,"")) | N20: =IF($G20="","",IF($G20="VL",$J20,"")) | O20: =IF($G20="","",IF($G20="VV",$J20,"")) -> 0 | P20: =IF($G20="","",IF($G20="CAS",$J20,"")) | Q20: =IF($G20="","",IF($G20="SAN",$J20,"")) | R20: =IF($F20="","",IF($F20="DCO",$J20,"")) | S20: =IF($G20="","",IF($G20="ICG",$J20,"")) | T20: =IF($F20="","",IF($F20="BOT",$J20,"")) | U20: =IF($F20="","",IF($F20="DEA",$J20,"")) | V20: =IF($F20="","",IF($F20="DON",$J20,"")) | W20: =IF($F20="","",IF($F20="MAR",$J20,"")) -> 0 | X20: =IF($F20="","",IF($F20="RAM",$J20,"")) | Y20: =IF($F20="","",IF($F20="RIC",$J20,"")) | Z20: =IF($F20="","",IF($F20="RMA",$J20,"")) | AA20: =IF($F20="","",IF($F20="VID",$J20,"")) | AB20: =IF($F20="","",IF($F20="ADA",$J20,"")) | AC20: =IF($F20="","",IF($F20="GAM",$J20,"")) | AD20: =IF($F20="","",IF($F20="TRO",$J20,""))
A21: 19 | B21: 1027 | C21: =IF($B21="","",VLOOKUP($B21,'Class. Personale'!$B:$I,2,)) -> CANAZZA | D21: =IF($B21="","",VLOOKUP($B21,'Class. Personale'!$B:$I,3,)) -> CECILIA | E21: =CONCATENATE(C21,D21) -> CANAZZACECILIA | F21: =IF($B21="","",VLOOKUP($B21,'Class. Personale'!$B:$I,5,)) -> DON | G21: =IF($B21="","",VLOOKUP($B21,'Class. Personale'!$B:$I,6,)) -> VV | H21: =IF($B21="","",VLOOKUP($B21,'Class. Personale'!$B:$I,7,)) -> IV | I21: 8.9 | K21: 982 | L21: =IF($G21="","",IF($G21="AB",$J21,"")) | M21: =IF($G21="","",IF($G21="VF",$J21,"")) | N21: =IF($G21="","",IF($G21="VL",$J21,"")) | O21: =IF($G21="","",IF($G21="VV",$J21,"")) -> 0 | P21: =IF($G21="","",IF($G21="CAS",$J21,"")) | Q21: =IF($G21="","",IF($G21="SAN",$J21,"")) | R21: =IF($F21="","",IF($F21="DCO",$J21,"")) | S21: =IF($G21="","",IF($G21="ICG",$J21,"")) | T21: =IF($F21="","",IF($F21="BOT",$J21,"")) | U21: =IF($F21="","",IF($F21="DEA",$J21,"")) | V21: =IF($F21="","",IF($F21="DON",$J21,"")) -> 0 | W21: =IF($F21="","",IF($F21="MAR",$J21,"")) | X21: =IF($F21="","",IF($F21="RAM",$J21,"")) | Y21: =IF($F21="","",IF($F21="RIC",$J21,"")) | Z21: =IF($F21="","",IF($F21="RMA",$J21,"")) | AA21: =IF($F21="","",IF($F21="VID",$J21,"")) | AB21: =IF($F21="","",IF($F21="ADA",$J21,"")) | AC21: =IF($F21="","",IF($F21="GAM",$J21,"")) | AD21: =IF($F21="","",IF($F21="TRO",$J21,""))
A22: 20 | B22: 1013 | C22: =IF($B22="","",VLOOKUP($B22,'Class. Personale'!$B:$I,2,)) -> ZANETTI | D22: =IF($B22="","",VLOOKUP($B22,'Class. Personale'!$B:$I,3,)) -> ELISA | E22: =CONCATENATE(C22,D22) -> ZANETTIELISA | F22: =IF($B22="","",VLOOKUP($B22,'Class. Personale'!$B:$I,5,)) -> DEA | G22: =IF($B22="","",VLOOKUP($B22,'Class. Personale'!$B:$I,6,)) -> VL | H22: =IF($B22="","",VLOOKUP($B22,'Class. Personale'!$B:$I,7,)) -> IV | I22: 8.91 | K22: 981 | L22: =IF($G22="","",IF($G22="AB",$J22,"")) | M22: =IF($G22="","",IF($G22="VF",$J22,"")) | N22: =IF($G22="","",IF($G22="VL",$J22,"")) -> 0 | O22: =IF($G22="","",IF($G22="VV",$J22,"")) | P22: =IF($G22="","",IF($G22="CAS",$J22,"")) | Q22: =IF($G22="","",IF($G22="SAN",$J22,"")) | R22: =IF($F22="","",IF($F22="DCO",$J22,"")) | S22: =IF($G22="","",IF($G22="ICG",$J22,"")) | T22: =IF($F22="","",IF($F22="BOT",$J22,"")) | U22: =IF($F22="","",IF($F22="DEA",$J22,"")) -> 0 | V22: =IF($F22="","",IF($F22="DON",$J22,"")) | W22: =IF($F22="","",IF($F22="MAR",$J22,"")) | X22: =IF($F22="","",IF($F22="RAM",$J22,"")) | Y22: =IF($F22="","",IF($F22="RIC",$J22,"")) | Z22: =IF($F22="","",IF($F22="RMA",$J22,"")) | AA22: =IF($F22="","",IF($F22="VID",$J22,"")) | AB22: =IF($F22="","",IF($F22="ADA",$J22,"")) | AC22: =IF($F22="","",IF($F22="GAM",$J22,"")) | AD22: =IF($F22="","",IF($F22="TRO",$J22,""))
A23: 21 | B23: 1083 | C23: =IF($B23="","",VLOOKUP($B23,'Class. Personale'!$B:$I,2,)) -> EL SAIED | D23: =IF($B23="","",VLOOKUP($B23,'Class. Personale'!$B:$I,3,)) -> RENAD | E23: =CONCATENATE(C23,D23) -> EL SAIEDRENAD | F23: =IF($B23="","",VLOOKUP($B23,'Class. Personale'!$B:$I,5,)) -> RAM | G23: =IF($B23="","",VLOOKUP($B23,'Class. Personale'!$B:$I,6,)) -> AB | H23: =IF($B23="","",VLOOKUP($B23,'Class. Personale'!$B:$I,7,)) -> IV | I23: 8.95 | K23: 980 | L23: =IF($G23="","",IF($G23="AB",$J23,"")) -> 0 | M23: =IF($G23="","",IF($G23="VF",$J23,"")) | N23: =IF($G23="","",IF($G23="VL",$J23,"")) | O23: =IF($G23="","",IF($G23="VV",$J23,"")) | P23: =IF($G23="","",IF($G23="CAS",$J23,"")) | Q23: =IF($G23="","",IF($G23="SAN",$J23,"")) | R23: =IF($F23="","",IF($F23="DCO",$J23,"")) | S23: =IF($G23="","",IF($G23="ICG",$J23,"")) | T23: =IF($F23="","",IF($F23="BOT",$J23,"")) | U23: =IF($F23="","",IF($F23="DEA",$J23,"")) | V23: =IF($F23="","",IF($F23="DON",$J23,"")) | W23: =IF($F23="","",IF($F23="MAR",$J23,"")) | X23: =IF($F23="","",IF($F23="RAM",$J23,"")) -> 0 | Y23: =IF($F23="","",IF($F23="RIC",$J23,"")) | Z23: =IF($F23="","",IF($F23="RMA",$J23,"")) | AA23: =IF($F23="","",IF($F23="VID",$J23,"")) | AB23: =IF($F23="","",IF($F23="ADA",$J23,"")) | AC23: =IF($F23="","",IF($F23="GAM",$J23,"")) | AD23: =IF($F23="","",IF($F23="TRO",$J23,""))
A24: 22 | B24: 1004 | C24: =IF($B24="","",VLOOKUP($B24,'Class. Personale'!$B:$I,2,)) -> ARDIANI | D24: =IF($B24="","",VLOOKUP($B24,'Class. Personale'!$B:$I,3,)) -> MATILDE | E24: =CONCATENATE(C24,D24) -> ARDIANIMATILDE | F24: =IF($B24="","",VLOOKUP($B24,'Class. Personale'!$B:$I,5,)) -> DEA | G24: =IF($B24="","",VLOOKUP($B24,'Class. Personale'!$B:$I,6,)) -> VL | H24: =IF($B24="","",VLOOKUP($B24,'Class. Personale'!$B:$I,7,)) -> IV | I24: 8.97 | K24: 979 | L24: =IF($G24="","",IF($G24="AB",$J24,"")) | M24: =IF($G24="","",IF($G24="VF",$J24,"")) | N24: =IF($G24="","",IF($G24="VL",$J24,"")) -> 0 | O24: =IF($G24="","",IF($G24="VV",$J24,"")) | P24: =IF($G24="","",IF($G24="CAS",$J24,"")) | Q24: =IF($G24="","",IF($G24="SAN",$J24,"")) | R24: =IF($F24="","",IF($F24="DCO",$J24,"")) | S24: =IF($G24="","",IF($G24="ICG",$J24,"")) | T24: =IF($F24="","",IF($F24="BOT",$J24,"")) | U24: =IF($F24="","",IF($F24="DEA",$J24,"")) -> 0 | V24: =IF($F24="","",IF($F24="DON",$J24,"")) | W24: =IF($F24="","",IF($F24="MAR",$J24,"")) | X24: =IF($F24="","",IF($F24="RAM",$J24,"")) | Y24: =IF($F24="","",IF($F24="RIC",$J24,"")) | Z24: =IF($F24="","",IF($F24="RMA",$J24,"")) | AA24: =IF($F24="","",IF($F24="VID",$J24,"")) | AB24: =IF($F24="","",IF($F24="ADA",$J24,"")) | AC24: =IF($F24="","",IF($F24="GAM",$J24,"")) | AD24: =IF($F24="","",IF($F24="TRO",$J24,""))
A25: 23 | B25: 1007 | C25: =IF($B25="","",VLOOKUP($B25,'Class. Personale'!$B:$I,2,)) -> MACCHIA | D25: =IF($B25="","",VLOOKUP($B25,'Class. Personale'!$B:$I,3,)) -> FRANCESCA | E25: =CONCATENATE(C25,D25) -> MACCHIAFRANCESCA | F25: =IF($B25="","",VLOOKUP($B25,'Class. Personale'!$B:$I,5,)) -> DEA | G25: LIB | H25: =IF($B25="","",VLOOKUP($B25,'Class. Personale'!$B:$I,7,)) -> IV | I25: 9.1 | K25: 978 | L25: =IF($G25="","",IF($G25="AB",$J25,"")) | M25: =IF($G25="","",IF($G25="VF",$J25,"")) | N25: =IF($G25="","",IF($G25="VL",$J25,"")) | O25: =IF($G25="","",IF($G25="VV",$J25,"")) | P25: =IF($G25="","",IF($G25="CAS",$J25,"")) | Q25: =IF($G25="","",IF($G25="SAN",$J25,"")) | R25: =IF($F25="","",IF($F25="DCO",$J25,"")) | S25: =IF($G25="","",IF($G25="ICG",$J25,"")) | T25: =IF($F25="","",IF($F25="BOT",$J25,"")) | U25: =IF($F25="","",IF($F25="DEA",$J25,"")) -> 0 | V25: =IF($F25="","",IF($F25="DON",$J25,"")) | W25: =IF($F25="","",IF($F25="MAR",$J25,"")) | X25: =IF($F25="","",IF($F25="RAM",$J25,"")) | Y25: =IF($F25="","",IF($F25="RIC",$J25,"")) | Z25: =IF($F25="","",IF($F25="RMA",$J25,"")) | AA25: =IF($F25="","",IF($F25="VID",$J25,"")) | AB25: =IF($F25="","",IF($F25="ADA",$J25,"")) | AC25: =IF($F25="","",IF($F25="GAM",$J25,"")) | AD25: =IF($F25="","",IF($F25="TRO",$J25,""))
A26: 24 | B26: 1056 | C26: =IF($B26="","",VLOOKUP($B26,'Class. Personale'!$B:$I,2,)) -> SANSONE | D26: =IF($B26="","",VLOOKUP($B26,'Class. Personale'!$B:$I,3,)) -> AGNESE | E26: =CONCATENATE(C26,D26) -> SANSONEAGNESE | F26: =IF($B26="","",VLOOKUP($B26,'Class. Personale'!$B:$I,5,)) -> RIC | G26: =IF($B26="","",VLOOKUP($B26,'Class. Personale'!$B:$I,6,)) -> VF | H26: =IF($B26="","",VLOOKUP($B26,'Class. Personale'!$B:$I,7,)) -> IV | I26: 9.12 | K26: 977 | L26: =IF($G26="","",IF($G26="AB",$J26,"")) | M26: =IF($G26="","",IF($G26="VF",$J26,"")) -> 0 | N26: =IF($G26="","",IF($G26="VL",$J26,"")) | O26: =IF($G26="","",IF($G26="VV",$J26,"")) | P26: =IF($G26="","",IF($G26="CAS",$J26,"")) | Q26: =IF($G26="","",IF($G26="SAN",$J26,"")) | R26: =IF($F26="","",IF($F26="DCO",$J26,"")) | S26: =IF($G26="","",IF($G26="ICG",$J26,"")) | T26: =IF($F26="","",IF($F26="BOT",$J26,"")) | U26: =IF($F26="","",IF($F26="DEA",$J26,"")) | V26: =IF($F26="","",IF($F26="DON",$J26,"")) | W26: =IF($F26="","",IF($F26="MAR",$J26,"")) | X26: =IF($F26="","",IF($F26="RAM",$J26,"")) | Y26: =IF($F26="","",IF($F26="RIC",$J26,"")) -> 0 | Z26: =IF($F26="","",IF($F26="RMA",$J26,"")) | AA26: =IF($F26="","",IF($F26="VID",$J26,"")) | AB26: =IF($F26="","",IF($F26="ADA",$J26,"")) | AC26: =IF($F26="","",IF($F26="GAM",$J26,"")) | AD26: =IF($F26="","",IF($F26="TRO",$J26,""))
A27: 25 | B27: 1072 | C27: =IF($B27="","",VLOOKUP($B27,'Class. Personale'!$B:$I,2,)) -> MIGLIAVACCA | D27: =IF($B27="","",VLOOKUP($B27,'Class. Personale'!$B:$I,3,)) -> ALIDA | E27: =CONCATENATE(C27,D27) -> MIGLIAVACCAALIDA | F27: =IF($B27="","",VLOOKUP($B27,'Class. Personale'!$B:$I,5,)) -> VID | G27: =IF($B27="","",VLOOKUP($B27,'Class. Personale'!$B:$I,6,)) -> VF | H27: =IF($B27="","",VLOOKUP($B27,'Class. Personale'!$B:$I,7,)) -> IV | I27: 9.12 | K27: 976 | L27: =IF($G27="","",IF($G27="AB",$J27,"")) | M27: =IF($G27="","",IF($G27="VF",$J27,"")) -> 0 | N27: =IF($G27="","",IF($G27="VL",$J27,"")) | O27: =IF($G27="","",IF($G27="VV",$J27,"")) | P27: =IF($G27="","",IF($G27="CAS",$J27,"")) | Q27: =IF($G27="","",IF($G27="SAN",$J27,"")) | R27: =IF($F27="","",IF($F27="DCO",$J27,"")) | S27: =IF($G27="","",IF($G27="ICG",$J27,"")) | T27: =IF($F27="","",IF($F27="BOT",$J27,"")) | U27: =IF($F27="","",IF($F27="DEA",$J27,"")) | V27: =IF($F27="","",IF($F27="DON",$J27,"")) | W27: =IF($F27="","",IF($F27="MAR",$J27,"")) | X27: =IF($F27="","",IF($F27="RAM",$J27,"")) | Y27: =IF($F27="","",IF($F27="RIC",$J27,"")) | Z27: =IF($F27="","",IF($F27="RMA",$J27,"")) | AA27: =IF($F27="","",IF($F27="VID",$J27,"")) -> 0 | AB27: =IF($F27="","",IF($F27="ADA",$J27,"")) | AC27: =IF($F27="","",IF($F27="GAM",$J27,"")) | AD27: =IF($F27="","",IF($F27="TRO",$J27,""))
A28: 26 | B28: 1025 | C28: =IF($B28="","",VLOOKUP($B28,'Class. Personale'!$B:$I,2,)) -> BERTAZZOLO | D28: =IF($B28="","",VLOOKUP($B28,'Class. Personale'!$B:$I,3,)) -> MIA | E28: =CONCATENATE(C28,D28) -> BERTAZZOLOMIA | F28: =IF($B28="","",VLOOKUP($B28,'Class. Personale'!$B:$I,5,)) -> TRO | G28: =IF($B28="","",VLOOKUP($B28,'Class. Personale'!$B:$I,6,)) -> ICG | H28: =IF($B28="","",VLOOKUP($B28,'Class. Personale'!$B:$I,7,)) -> IV | I28: 9.15 | K28: 975 | L28: =IF($G28="","",IF($G28="AB",$J28,"")) | M28: =IF($G28="","",IF($G28="VF",$J28,"")) | N28: =IF($G28="","",IF($G28="VL",$J28,"")) | O28: =IF($G28="","",IF($G28="VV",$J28,"")) | P28: =IF($G28="","",IF($G28="CAS",$J28,"")) | Q28: =IF($G28="","",IF($G28="SAN",$J28,"")) | R28: =IF($F28="","",IF($F28="DCO",$J28,"")) | S28: =IF($G28="","",IF($G28="ICG",$J28,"")) -> 0 | T28: =IF($F28="","",IF($F28="BOT",$J28,"")) | U28: =IF($F28="","",IF($F28="DEA",$J28,"")) | V28: =IF($F28="","",IF($F28="DON",$J28,"")) | W28: =IF($F28="","",IF($F28="MAR",$J28,"")) | X28: =IF($F28="","",IF($F28="RAM",$J28,"")) | Y28: =IF($F28="","",IF($F28="RIC",$J28,"")) | Z28: =IF($F28="","",IF($F28="RMA",$J28,"")) | AA28: =IF($F28="","",IF($F28="VID",$J28,"")) | AB28: =IF($F28="","",IF($F28="ADA",$J28,"")) | AC28: =IF($F28="","",IF($F28="GAM",$J28,"")) | AD28: =IF($F28="","",IF($F28="TRO",$J28,"")) -> 0
A29: 27 | B29: 1023 | C29: =IF($B29="","",VLOOKUP($B29,'Class. Personale'!$B:$I,2,)) -> GANZI | D29: =IF($B29="","",VLOOKUP($B29,'Class. Personale'!$B:$I,3,)) -> GRETA | E29: =CONCATENATE(C29,D29) -> GANZIGRETA | F29: =IF($B29="","",VLOOKUP($B29,'Class. Personale'!$B:$I,5,)) -> GAM | G29: =IF($B29="","",VLOOKUP($B29,'Class. Personale'!$B:$I,6,)) -> ICG | H29: =IF($B29="","",VLOOKUP($B29,'Class. Personale'!$B:$I,7,)) -> IV | I29: 9.16 | K29: 974 | L29: =IF($G29="","",IF($G29="AB",$J29,"")) | M29: =IF($G29="","",IF($G29="VF",$J29,"")) | N29: =IF($G29="","",IF($G29="VL",$J29,"")) | O29: =IF($G29="","",IF($G29="VV",$J29,"")) | P29: =IF($G29="","",IF($G29="CAS",$J29,"")) | Q29: =IF($G29="","",IF($G29="SAN",$J29,"")) | R29: =IF($F29="","",IF($F29="DCO",$J29,"")) | S29: =IF($G29="","",IF($G29="ICG",$J29,"")) -> 0 | T29: =IF($F29="","",IF($F29="BOT",$J29,"")) | U29: =IF($F29="","",IF($F29="DEA",$J29,"")) | V29: =IF($F29="","",IF($F29="DON",$J29,"")) | W29: =IF($F29="","",IF($F29="MAR",$J29,"")) | X29: =IF($F29="","",IF($F29="RAM",$J29,"")) | Y29: =IF($F29="","",IF($F29="RIC",$J29,"")) | Z29: =IF($F29="","",IF($F29="RMA",$J29,"")) | AA29: =IF($F29="","",IF($F29="VID",$J29,"")) | AB29: =IF($F29="","",IF($F29="ADA",$J29,"")) | AC29: =IF($F29="","",IF($F29="GAM",$J29,"")) -> 0 | AD29: =IF($F29="","",IF($F29="TRO",$J29,""))
A30: 28 | B30: 1085 | C30: =IF($B30="","",VLOOKUP($B30,'Class. Personale'!$B:$I,2,)) -> TONSI | D30: =IF($B30="","",VLOOKUP($B30,'Class. Personale'!$B:$I,3,)) -> BEATRICE | E30: =CONCATENATE(C30,D30) -> TONSIBEATRICE | F30: =IF($B30="","",VLOOKUP($B30,'Class. Personale'!$B:$I,5,)) -> RAM | G30: =IF($B30="","",VLOOKUP($B30,'Class. Personale'!$B:$I,6,)) -> AB | H30: =IF($B30="","",VLOOKUP($B30,'Class. Personale'!$B:$I,7,)) -> IV | I30: 9.16 | K30: 973 | L30: =IF($G30="","",IF($G30="AB",$J30,"")) -> 0 | M30: =IF($G30="","",IF($G30="VF",$J30,"")) | N30: =IF($G30="","",IF($G30="VL",$J30,"")) | O30: =IF($G30="","",IF($G30="VV",$J30,"")) | P30: =IF($G30="","",IF($G30="CAS",$J30,"")) | Q30: =IF($G30="","",IF($G30="SAN",$J30,"")) | R30: =IF($F30="","",IF($F30="DCO",$J30,"")) | S30: =IF($G30="","",IF($G30="ICG",$J30,"")) | T30: =IF($F30="","",IF($F30="BOT",$J30,"")) | U30: =IF($F30="","",IF($F30="DEA",$J30,"")) | V30: =IF($F30="","",IF($F30="DON",$J30,"")) | W30: =IF($F30="","",IF($F30="MAR",$J30,"")) | X30: =IF($F30="","",IF($F30="RAM",$J30,"")) -> 0 | Y30: =IF($F30="","",IF($F30="RIC",$J30,"")) | Z30: =IF($F30="","",IF($F30="RMA",$J30,"")) | AA30: =IF($F30="","",IF($F30="VID",$J30,"")) | AB30: =IF($F30="","",IF($F30="ADA",$J30,"")) | AC30: =IF($F30="","",IF($F30="GAM",$J30,"")) | AD30: =IF($F30="","",IF($F30="TRO",$J30,""))
A31: 29 | B31: 1042 | C31: =IF($B31="","",VLOOKUP($B31,'Class. Personale'!$B:$I,2,)) -> MOHAMED | D31: =IF($B31="","",VLOOKUP($B31,'Class. Personale'!$B:$I,3,)) -> HAGAR | E31: =CONCATENATE(C31,D31) -> MOHAMEDHAGAR | F31: =IF($B31="","",VLOOKUP($B31,'Class. Personale'!$B:$I,5,)) -> RMA | G31: =IF($B31="","",VLOOKUP($B31,'Class. Personale'!$B:$I,6,)) -> VV | H31: =IF($B31="","",VLOOKUP($B31,'Class. Personale'!$B:$I,7,)) -> IV | I31: 9.19 | K31: 972 | L31: =IF($G31="","",IF($G31="AB",$J31,"")) | M31: =IF($G31="","",IF($G31="VF",$J31,"")) | N31: =IF($G31="","",IF($G31="VL",$J31,"")) | O31: =IF($G31="","",IF($G31="VV",$J31,"")) -> 0 | P31: =IF($G31="","",IF($G31="CAS",$J31,"")) | Q31: =IF($G31="","",IF($G31="SAN",$J31,"")) | R31: =IF($F31="","",IF($F31="DCO",$J31,"")) | S31: =IF($G31="","",IF($G31="ICG",$J31,"")) | T31: =IF($F31="","",IF($F31="BOT",$J31,"")) | U31: =IF($F31="","",IF($F31="DEA",$J31,"")) | V31: =IF($F31="","",IF($F31="DON",$J31,"")) | W31: =IF($F31="","",IF($F31="MAR",$J31,"")) | X31: =IF($F31="","",IF($F31="RAM",$J31,"")) | Y31: =IF($F31="","",IF($F31="RIC",$J31,"")) | Z31: =IF($F31="","",IF($F31="RMA",$J31,"")) -> 0 | AA31: =IF($F31="","",IF($F31="VID",$J31,"")) | AB31: =IF($F31="","",IF($F31="ADA",$J31,"")) | AC31: =IF($F31="","",IF($F31="GAM",$J31,"")) | AD31: =IF($F31="","",IF($F31="TRO",$J31,""))
A32: 30 | B32: 1024 | C32: =IF($B32="","",VLOOKUP($B32,'Class. Personale'!$B:$I,2,)) -> FERLISI | D32: =IF($B32="","",VLOOKUP($B32,'Class. Personale'!$B:$I,3,)) -> EMILY | E32: =CONCATENATE(C32,D32) -> FERLISIEMILY | F32: =IF($B32="","",VLOOKUP($B32,'Class. Personale'!$B:$I,5,)) -> GAM | G32: =IF($B32="","",VLOOKUP($B32,'Class. Personale'!$B:$I,6,)) -> ICG | H32: =IF($B32="","",VLOOKUP($B32,'Class. Personale'!$B:$I,7,)) -> IV | I32: 9.2 | K32: 971 | L32: =IF($G32="","",IF($G32="AB",$J32,"")) | M32: =IF($G32="","",IF($G32="VF",$J32,"")) | N32: =IF($G32="","",IF($G32="VL",$J32,"")) | O32: =IF($G32="","",IF($G32="VV",$J32,"")) | P32: =IF($G32="","",IF($G32="CAS",$J32,"")) | Q32: =IF($G32="","",IF($G32="SAN",$J32,"")) | R32: =IF($F32="","",IF($F32="DCO",$J32,"")) | S32: =IF($G32="","",IF($G32="ICG",$J32,"")) -> 0 | T32: =IF($F32="","",IF($F32="BOT",$J32,"")) | U32: =IF($F32="","",IF($F32="DEA",$J32,"")) | V32: =IF($F32="","",IF($F32="DON",$J32,"")) | W32: =IF($F32="","",IF($F32="MAR",$J32,"")) | X32: =IF($F32="","",IF($F32="RAM",$J32,"")) | Y32: =IF($F32="","",IF($F32="RIC",$J32,"")) | Z32: =IF($F32="","",IF($F32="RMA",$J32,"")) | AA32: =IF($F32="","",IF($F32="VID",$J32,"")) | AB32: =IF($F32="","",IF($F32="ADA",$J32,"")) | AC32: =IF($F32="","",IF($F32="GAM",$J32,"")) -> 0 | AD32: =IF($F32="","",IF($F32="TRO",$J32,""))
A33: 31 | B33: 1064 | C33: =IF($B33="","",VLOOKUP($B33,'Class. Personale'!$B:$I,2,)) -> GIANNINI | D33: =IF($B33="","",VLOOKUP($B33,'Class. Personale'!$B:$I,3,)) -> SOFIA | E33: =CONCATENATE(C33,D33) -> GIANNINISOFIA | F33: =IF($B33="","",VLOOKUP($B33,'Class. Personale'!$B:$I,5,)) -> VID | G33: =IF($B33="","",VLOOKUP($B33,'Class. Personale'!$B:$I,6,)) -> VF | H33: =IF($B33="","",VLOOKUP($B33,'Class. Personale'!$B:$I,7,)) -> IV | I33: 9.26 | K33: 970 | L33: =IF($G33="","",IF($G33="AB",$J33,"")) | M33: =IF($G33="","",IF($G33="VF",$J33,"")) -> 0 | N33: =IF($G33="","",IF($G33="VL",$J33,"")) | O33: =IF($G33="","",IF($G33="VV",$J33,"")) | P33: =IF($G33="","",IF($G33="CAS",$J33,"")) | Q33: =IF($G33="","",IF($G33="SAN",$J33,"")) | R33: =IF($F33="","",IF($F33="DCO",$J33,"")) | S33: =IF($G33="","",IF($G33="ICG",$J33,"")) | T33: =IF($F33="","",IF($F33="BOT",$J33,"")) | U33: =IF($F33="","",IF($F33="DEA",$J33,"")) | V33: =IF($F33="","",IF($F33="DON",$J33,"")) | W33: =IF($F33="","",IF($F33="MAR",$J33,"")) | X33: =IF($F33="","",IF($F33="RAM",$J33,"")) | Y33: =IF($F33="","",IF($F33="RIC",$J33,"")) | Z33: =IF($F33="","",IF($F33="RMA",$J33,"")) | AA33: =IF($F33="","",IF($F33="VID",$J33,"")) -> 0 | AB33: =IF($F33="","",IF($F33="ADA",$J33,"")) | AC33: =IF($F33="","",IF($F33="GAM",$J33,"")) | AD33: =IF($F33="","",IF($F33="TRO",$J33,""))
A34: 32 | B34: 1091 | C34: =IF($B34="","",VLOOKUP($B34,'Class. Personale'!$B:$I,2,)) -> SCANDALITTI | D34: =IF($B34="","",VLOOKUP($B34,'Class. Personale'!$B:$I,3,)) -> CHIARA | E34: =CONCATENATE(C34,D34) -> SCANDALITTICHIARA | F34: =IF($B34="","",VLOOKUP($B34,'Class. Personale'!$B:$I,5,)) -> RAM | G34: =IF($B34="","",VLOOKUP($B34,'Class. Personale'!$B:$I,6,)) -> AB | H34: =IF($B34="","",VLOOKUP($B34,'Class. Personale'!$B:$I,7,)) -> IV | I34: 9.3 | K34: 969
A35: 33 | B35: 1037 | C35: =IF($B35="","",VLOOKUP($B35,'Class. Personale'!$B:$I,2,)) -> NICODEMO | D35: =IF($B35="","",VLOOKUP($B35,'Class. Personale'!$B:$I,3,)) -> TEA | E35: =CONCATENATE(C35,D35) -> NICODEMOTEA | F35: =IF($B35="","",VLOOKUP($B35,'Class. Personale'!$B:$I,5,)) -> MAR | G35: =IF($B35="","",VLOOKUP($B35,'Class. Personale'!$B:$I,6,)) -> VV | H35: =IF($B35="","",VLOOKUP($B35,'Class. Personale'!$B:$I,7,)) -> IV | I35: 9.3 | K35: 968
A36: 34 | B36: 1086 | C36: =IF($B36="","",VLOOKUP($B36,'Class. Personale'!$B:$I,2,)) -> POLOLLA | D36: =IF($B36="","",VLOOKUP($B36,'Class. Personale'!$B:$I,3,)) -> MILA | E36: =CONCATENATE(C36,D36) -> POLOLLAMILA | F36: =IF($B36="","",VLOOKUP($B36,'Class. Personale'!$B:$I,5,)) -> RAM | G36: =IF($B36="","",VLOOKUP($B36,'Class. Personale'!$B:$I,6,)) -> AB | H36: =IF($B36="","",VLOOKUP($B36,'Class. Personale'!$B:$I,7,)) -> IV | I36: 9.31 | K36: 967
A37: 35 | B37: 1020 | C37: =IF($B37="","",VLOOKUP($B37,'Class. Personale'!$B:$I,2,)) -> SEMAGN | D37: =IF($B37="","",VLOOKUP($B37,'Class. Personale'!$B:$I,3,)) -> ERICA | E37: =CONCATENATE(C37,D37) -> SEMAGNERICA | F37: =IF($B37="","",VLOOKUP($B37,'Class. Personale'!$B:$I,5,)) -> DEA | G37: =IF($B37="","",VLOOKUP($B37,'Class. Personale'!$B:$I,6,)) -> VL | H37: =IF($B37="","",VLOOKUP($B37,'Class. Personale'!$B:$I,7,)) -> IV | I37: 9.32 | K37: 966
A38: 36 | B38: 1034 | C38: =IF($B38="","",VLOOKUP($B38,'Class. Personale'!$B:$I,2,)) -> PANETTA | D38: =IF($B38="","",VLOOKUP($B38,'Class. Personale'!$B:$I,3,)) -> SOFIA | E38: =CONCATENATE(C38,D38) -> PANETTASOFIA | F38: =IF($B38="","",VLOOKUP($B38,'Class. Personale'!$B:$I,5,)) -> DON | G38: =IF($B38="","",VLOOKUP($B38,'Class. Personale'!$B:$I,6,)) -> VV | H38: =IF($B38="","",VLOOKUP($B38,'Class. Personale'!$B:$I,7,)) -> IV | I38: 9.34 | K38: 965
A39: 37 | B39: 1052 | C39: =IF($B39="","",VLOOKUP($B39,'Class. Personale'!$B:$I,2,)) -> VASSORI | D39: =IF($B39="","",VLOOKUP($B39,'Class. Personale'!$B:$I,3,)) -> ADELE | E39: =CONCATENATE(C39,D39) -> VASSORIADELE | F39: =IF($B39="","",VLOOKUP($B39,'Class. Personale'!$B:$I,5,)) -> RIC | G39: =IF($B39="","",VLOOKUP($B39,'Class. Personale'!$B:$I,6,)) -> VF | H39: =IF($B39="","",VLOOKUP($B39,'Class. Personale'!$B:$I,7,)) -> IV | I39: 9.36 | K39: 964
A40: 38 | B40: 1009 | C40: =IF($B40="","",VLOOKUP($B40,'Class. Personale'!$B:$I,2,)) -> MOBARAK | D40: =IF($B40="","",VLOOKUP($B40,'Class. Personale'!$B:$I,3,)) -> SOFIA | E40: =CONCATENATE(C40,D40) -> MOBARAKSOFIA | F40: =IF($B40="","",VLOOKUP($B40,'Class. Personale'!$B:$I,5,)) -> DEA | G40: =IF($B40="","",VLOOKUP($B40,'Class. Personale'!$B:$I,6,)) -> VL | H40: =IF($B40="","",VLOOKUP($B40,'Class. Personale'!$B:$I,7,)) -> IV | I40: 9.4 | K40: 963
A41: 39 | B41: 1003 | C41: =IF($B41="","",VLOOKUP($B41,'Class. Personale'!$B:$I,2,)) -> WHABA | D41: =IF($B41="","",VLOOKUP($B41,'Class. Personale'!$B:$I,3,)) -> LOREN | E41: =CONCATENATE(C41,D41) -> WHABALOREN | F41: =IF($B41="","",VLOOKUP($B41,'Class. Personale'!$B:$I,5,)) -> DEA | G41: =IF($B41="","",VLOOKUP($B41,'Class. Personale'!$B:$I,6,)) -> VL | H41: =IF($B41="","",VLOOKUP($B41,'Class. Personale'!$B:$I,7,)) -> IV | I41: 9.4 | K41: 962
A42: 40 | B42: 1047 | C42: =IF($B42="","",VLOOKUP($B42,'Class. Personale'!$B:$I,2,)) -> NICOLA | D42: =IF($B42="","",VLOOKUP($B42,'Class. Personale'!$B:$I,3,)) -> MARIA CHIARA | E42: =CONCATENATE(C42,D42) -> NICOLAMARIA CHIARA | F42: =IF($B42="","",VLOOKUP($B42,'Class. Personale'!$B:$I,5,)) -> RMA | G42: =IF($B42="","",VLOOKUP($B42,'Class. Personale'!$B:$I,6,)) -> VV | H42: =IF($B42="","",VLOOKUP($B42,'Class. Personale'!$B:$I,7,)) -> IV | I42: 9.42 | K42: 961
A43: 41 | B43: 1021 | C43: =IF($B43="","",VLOOKUP($B43,'Class. Personale'!$B:$I,2,)) -> ALEANDRI | D43: =IF($B43="","",VLOOKUP($B43,'Class. Personale'!$B:$I,3,)) -> AURORA | E43: =CONCATENATE(C43,D43) -> ALEANDRIAURORA | F43: =IF($B43="","",VLOOKUP($B43,'Class. Personale'!$B:$I,5,)) -> DCO | G43: =IF($B43="","",VLOOKUP($B43,'Class. Personale'!$B:$I,6,)) -> DCO | H43: =IF($B43="","",VLOOKUP($B43,'Class. Personale'!$B:$I,7,)) -> IV | I43: 9.49 | K43: 960
A44: 42 | B44: 1044 | C44: =IF($B44="","",VLOOKUP($B44,'Class. Personale'!$B:$I,2,)) -> TOSCANO | D44: =IF($B44="","",VLOOKUP($B44,'Class. Personale'!$B:$I,3,)) -> BIANCA | E44: =CONCATENATE(C44,D44) -> TOSCANOBIANCA | F44: =IF($B44="","",VLOOKUP($B44,'Class. Personale'!$B:$I,5,)) -> RMA | G44: =IF($B44="","",VLOOKUP($B44,'Class. Personale'!$B:$I,6,)) -> VV | H44: =IF($B44="","",VLOOKUP($B44,'Class. Personale'!$B:$I,7,)) -> IV | I44: 9.49 | K44: 959
A45: 43 | B45: 1006 | C45: =IF($B45="","",VLOOKUP($B45,'Class. Personale'!$B:$I,2,)) -> EL FATTAHI | D45: =IF($B45="","",VLOOKUP($B45,'Class. Personale'!$B:$I,3,)) -> AYA | E45: =CONCATENATE(C45,D45) -> EL FATTAHIAYA | F45: =IF($B45="","",VLOOKUP($B45,'Class. Personale'!$B:$I,5,)) -> DEA | G45: =IF($B45="","",VLOOKUP($B45,'Class. Personale'!$B:$I,6,)) -> VL | H45: =IF($B45="","",VLOOKUP($B45,'Class. Personale'!$B:$I,7,)) -> IV | I45: 9.5 | K45: 958
A46: 44 | B46: 1069 | C46: =IF($B46="","",VLOOKUP($B46,'Class. Personale'!$B:$I,2,)) -> BELLONI | D46: =IF($B46="","",VLOOKUP($B46,'Class. Personale'!$B:$I,3,)) -> EMMA | E46: =CONCATENATE(C46,D46) -> BELLONIEMMA | F46: =IF($B46="","",VLOOKUP($B46,'Class. Personale'!$B:$I,5,)) -> VID | G46: =IF($B46="","",VLOOKUP($B46,'Class. Personale'!$B:$I,6,)) -> VF | H46: =IF($B46="","",VLOOKUP($B46,'Class. Personale'!$B:$I,7,)) -> IV | I46: 9.52 | K46: 957
A47: 45 | B47: 1094 | C47: ABDELGHANY | D47: =IF($B47="","",VLOOKUP($B47,'Class. Personale'!$B:$I,3,)) -> YASER FATHY KAMEL | E47: =CONCATENATE(C47,D47) -> ABDELGHANYYASER FATHY KAMEL | F47: =IF($B47="","",VLOOKUP($B47,'Class. Personale'!$B:$I,5,)) -> BOT | G47: =IF($B47="","",VLOOKUP($B47,'Class. Personale'!$B:$I,6,)) -> VL | H47: =IF($B47="","",VLOOKUP($B47,'Class. Personale'!$B:$I,7,)) -> IV | I47: 9.59 | K47: 956
A48: 46 | B48: 1045 | C48: =IF($B48="","",VLOOKUP($B48,'Class. Personale'!$B:$I,2,)) -> DE MERCURIO | D48: =IF($B48="","",VLOOKUP($B48,'Class. Personale'!$B:$I,3,)) -> GIULIA | E48: =CONCATENATE(C48,D48) -> DE MERCURIOGIULIA | F48: =IF($B48="","",VLOOKUP($B48,'Class. Personale'!$B:$I,5,)) -> RMA | G48: =IF($B48="","",VLOOKUP($B48,'Class. Personale'!$B:$I,6,)) -> VV | H48: =IF($B48="","",VLOOKUP($B48,'Class. Personale'!$B:$I,7,)) -> IV | I48: 9.6 | K48: 955
A49: 47 | B49: 1090 | C49: =IF($B49="","",VLOOKUP($B49,'Class. Personale'!$B:$I,2,)) -> KOKOMANI | D49: =IF($B49="","",VLOOKUP($B49,'Class. Personale'!$B:$I,3,)) -> ZOE | E49: =CONCATENATE(C49,D49) -> KOKOMANIZOE | F49: =IF($B49="","",VLOOKUP($B49,'Class. Personale'!$B:$I,5,)) -> RAM | G49: =IF($B49="","",VLOOKUP($B49,'Class. Personale'!$B:$I,6,)) -> AB | H49: =IF($B49="","",VLOOKUP($B49,'Class. Personale'!$B:$I,7,)) -> IV | I49: 9.64 | K49: 954
A50: 48 | B50: 1029 | C50: =IF($B50="","",VLOOKUP($B50,'Class. Personale'!$B:$I,2,)) -> CORBELLA | D50: =IF($B50="","",VLOOKUP($B50,'Class. Personale'!$B:$I,3,)) -> MARTA | E50: =CONCATENATE(C50,D50) -> CORBELLAMARTA | F50: =IF($B50="","",VLOOKUP($B50,'Class. Personale'!$B:$I,5,)) -> DON | G50: =IF($B50="","",VLOOKUP($B50,'Class. Personale'!$B:$I,6,)) -> VV | H50: =IF($B50="","",VLOOKUP($B50,'Class. Personale'!$B:$I,7,)) -> IV | I50: 9.65 | K50: 953
A51: 49 | B51: 1070 | C51: =IF($B51="","",VLOOKUP($B51,'Class. Personale'!$B:$I,2,)) -> CASONATI | D51: =IF($B51="","",VLOOKUP($B51,'Class. Personale'!$B:$I,3,)) -> ELISA | E51: =CONCATENATE(C51,D51) -> CASONATI ELISA | F51: =IF($B51="","",VLOOKUP($B51,'Class. Personale'!$B:$I,5,)) -> VID | G51: =IF($B51="","",VLOOKUP($B51,'Class. Personale'!$B:$I,6,)) -> VF | H51: =IF($B51="","",VLOOKUP($B51,'Class. Personale'!$B:$I,7,)) -> IV | I51: 9.72 | K51: 952
A52: 50 | B52: 1060 | C52: =IF($B52="","",VLOOKUP($B52,'Class. Personale'!$B:$I,2,)) -> DANISE | D52: =IF($B52="","",VLOOKUP($B52,'Class. Personale'!$B:$I,3,)) -> SOFIA | E52: =CONCATENATE(C52,D52) -> DANISESOFIA | F52: =IF($B52="","",VLOOKUP($B52,'Class. Personale'!$B:$I,5,)) -> ADA | G52: =IF($B52="","",VLOOKUP($B52,'Class. Personale'!$B:$I,6,)) -> VF | H52: =IF($B52="","",VLOOKUP($B52,'Class. Personale'!$B:$I,7,)) -> IV | I52: 9.83 | K52: 951
A53: 51 | B53: 1092 | C53: =IF($B53="","",VLOOKUP($B53,'Class. Personale'!$B:$I,2,)) -> MASI | D53: =IF($B53="","",VLOOKUP($B53,'Class. Personale'!$B:$I,3,)) -> FRANCESCA | E53: =CONCATENATE(C53,D53) -> MASIFRANCESCA | F53: =IF($B53="","",VLOOKUP($B53,'Class. Personale'!$B:$I,5,)) -> RAM | G53: =IF($B53="","",VLOOKUP($B53,'Class. Personale'!$B:$I,6,)) -> AB | H53: =IF($B53="","",VLOOKUP($B53,'Class. Personale'!$B:$I,7,)) -> IV | I53: 9.9 | K53: 950
A54: 52 | B54: 1048 | C54: =IF($B54="","",VLOOKUP($B54,'Class. Personale'!$B:$I,2,)) -> OGU | D54: =IF($B54="","",VLOOKUP($B54,'Class. Personale'!$B:$I,3,)) -> GLORIA CHIDERA | E54: =CONCATENATE(C54,D54) -> OGUGLORIA CHIDERA | F54: =IF($B54="","",VLOOKUP($B54,'Class. Personale'!$B:$I,5,)) -> RMA | G54: =IF($B54="","",VLOOKUP($B54,'Class. Personale'!$B:$I,6,)) -> VV | H54: =IF($B54="","",VLOOKUP($B54,'Class. Personale'!$B:$I,7,)) -> IV | I54: 9.96 | K54: 949
A55: 53 | B55: 1089 | C55: =IF($B55="","",VLOOKUP($B55,'Class. Personale'!$B:$I,2,)) -> QUAGLIA | D55: =IF($B55="","",VLOOKUP($B55,'Class. Personale'!$B:$I,3,)) -> GRETA | E55: =CONCATENATE(C55,D55) -> QUAGLIAGRETA | F55: =IF($B55="","",VLOOKUP($B55,'Class. Personale'!$B:$I,5,)) -> RAM | G55: =IF($B55="","",VLOOKUP($B55,'Class. Personale'!$B:$I,6,)) -> AB | H55: =IF($B55="","",VLOOKUP($B55,'Class. Personale'!$B:$I,7,)) -> IV | I55: 10 | K55: 948
A56: 54 | B56: 1050 | C56: =IF($B56="","",VLOOKUP($B56,'Class. Personale'!$B:$I,2,)) -> COLLAKU | D56: =IF($B56="","",VLOOKUP($B56,'Class. Personale'!$B:$I,3,)) -> CHLOE | E56: =CONCATENATE(C56,D56) -> COLLAKUCHLOE | F56: =IF($B56="","",VLOOKUP($B56,'Class. Personale'!$B:$I,5,)) -> RIC | G56: =IF($B56="","",VLOOKUP($B56,'Class. Personale'!$B:$I,6,)) -> VF | H56: =IF($B56="","",VLOOKUP($B56,'Class. Personale'!$B:$I,7,)) -> IV | I56: 10.2 | K56: 947
A57: 55 | B57: 1053 | C57: =IF($B57="","",VLOOKUP($B57,'Class. Personale'!$B:$I,2,)) -> LATTANZIO | D57: =IF($B57="","",VLOOKUP($B57,'Class. Personale'!$B:$I,3,)) -> CAMILLA | E57: =CONCATENATE(C57,D57) -> LATTANZIOCAMILLA | F57: =IF($B57="","",VLOOKUP($B57,'Class. Personale'!$B:$I,5,)) -> RIC | G57: =IF($B57="","",VLOOKUP($B57,'Class. Personale'!$B:$I,6,)) -> VF | H57: =IF($B57="","",VLOOKUP($B57,'Class. Personale'!$B:$I,7,)) -> IV | I57: 10.22 | K57: 946
A58: 56 | B58: 1033 | C58: =IF($B58="","",VLOOKUP($B58,'Class. Personale'!$B:$I,2,)) -> FRONGILLO | D58: =IF($B58="","",VLOOKUP($B58,'Class. Personale'!$B:$I,3,)) -> LUCREZIA | E58: =CONCATENATE(C58,D58) -> FRONGILLOLUCREZIA | F58: =IF($B58="","",VLOOKUP($B58,'Class. Personale'!$B:$I,5,)) -> DON | G58: =IF($B58="","",VLOOKUP($B58,'Class. Personale'!$B:$I,6,)) -> VV | H58: =IF($B58="","",VLOOKUP($B58,'Class. Personale'!$B:$I,7,)) -> IV | I58: 10.29 | K58: 945
A59: 57 | B59: 1005 | C59: =IF($B59="","",VLOOKUP($B59,'Class. Personale'!$B:$I,2,)) -> COPURKUYU | D59: =IF($B59="","",VLOOKUP($B59,'Class. Personale'!$B:$I,3,)) -> ESER | E59: =CONCATENATE(C59,D59) -> COPURKUYUESER | F59: =IF($B59="","",VLOOKUP($B59,'Class. Personale'!$B:$I,5,)) -> DEA | G59: =IF($B59="","",VLOOKUP($B59,'Class. Personale'!$B:$I,6,)) -> VL | H59: =IF($B59="","",VLOOKUP($B59,'Class. Personale'!$B:$I,7,)) -> IV | I59: 10.3 | K59: 944
... A66: 64 | B66: 1068 | C66: =IF($B66="","",VLOOKUP($B66,'Class. Personale'!$B:$I,2,)) -> ABDELAZIZ | D66: =IF($B66="","",VLOOKUP($B66,'Class. Personale'!$B:$I,3,)) -> NAGHAM | E66: =CONCATENATE(C66,D66) -> ABDELAZIZNAGHAM | F66: =IF($B66="","",VLOOKUP($B66,'Class. Personale'!$B:$I,5,)) -> VID | G66: =IF($B66="","",VLOOKUP($B66,'Class. Personale'!$B:$I,6,)) -> VF | H66: =IF($B66="","",VLOOKUP($B66,'Class. Personale'!$B:$I,7,)) -> IV | I66: 10.93 | K66: 937
A67: 65 | C67: =IF($B67="","",VLOOKUP($B67,'Class. Personale'!$B:$I,2,)) | D67: =IF($B67="","",VLOOKUP($B67,'Class. Personale'!$B:$I,3,)) | E67: =CONCATENATE(C67,D67) | F67: =IF($B67="","",VLOOKUP($B67,'Class. Personale'!$B:$I,5,)) | G67: =IF($B67="","",VLOOKUP($B67,'Class. Personale'!$B:$I,6,)) | H67: =IF($B67="","",VLOOKUP($B67,'Class. Personale'!$B:$I,7,)) | K67: 936
A68: 66 | C68: =IF($B68="","",VLOOKUP($B68,'Class. Personale'!$B:$I,2,)) | D68: =IF($B68="","",VLOOKUP($B68,'Class. Personale'!$B:$I,3,)) | E68: =CONCATENATE(C68,D68) | F68: =IF($B68="","",VLOOKUP($B68,'Class. Personale'!$B:$I,5,)) | G68: =IF($B68="","",VLOOKUP($B68,'Class. Personale'!$B:$I,6,)) | H68: =IF($B68="","",VLOOKUP($B68,'Class. Personale'!$B:$I,7,)) | K68: 935
A69: 67 | C69: =IF($B69="","",VLOOKUP($B69,'Class. Personale'!$B:$I,2,)) | D69: =IF($B69="","",VLOOKUP($B69,'Class. Personale'!$B:$I,3,)) | E69: =CONCATENATE(C69,D69) | F69: =IF($B69="","",VLOOKUP($B69,'Class. Personale'!$B:$I,5,)) | G69: =IF($B69="","",VLOOKUP($B69,'Class. Personale'!$B:$I,6,)) | H69: =IF($B69="","",VLOOKUP($B69,'Class. Personale'!$B:$I,7,)) | K69: 934
A70: 68 | C70: =IF($B70="","",VLOOKUP($B70,'Class. Personale'!$B:$I,2,)) | D70: =IF($B70="","",VLOOKUP($B70,'Class. Personale'!$B:$I,3,)) | E70: =CONCATENATE(C70,D70) | F70: =IF($B70="","",VLOOKUP($B70,'Class. Personale'!$B:$I,5,)) | G70: =IF($B70="","",VLOOKUP($B70,'Class. Personale'!$B:$I,6,)) | H70: =IF($B70="","",VLOOKUP($B70,'Class. Personale'!$B:$I,7,)) | K70: 933
A71: 69 | C71: =IF($B71="","",VLOOKUP($B71,'Class. Personale'!$B:$I,2,)) | D71: =IF($B71="","",VLOOKUP($B71,'Class. Personale'!$B:$I,3,)) | E71: =CONCATENATE(C71,D71) | F71: =IF($B71="","",VLOOKUP($B71,'Class. Personale'!$B:$I,5,)) | G71: =IF($B71="","",VLOOKUP($B71,'Class. Personale'!$B:$I,6,)) | H71: =IF($B71="","",VLOOKUP($B71,'Class. Personale'!$B:$I,7,)) | K71: 932
A72: 70 | C72: =IF($B72="","",VLOOKUP($B72,'Class. Personale'!$B:$I,2,)) | D72: =IF($B72="","",VLOOKUP($B72,'Class. Personale'!$B:$I,3,)) | E72: =CONCATENATE(C72,D72) | F72: =IF($B72="","",VLOOKUP($B72,'Class. Personale'!$B:$I,5,)) | G72: =IF($B72="","",VLOOKUP($B72,'Class. Personale'!$B:$I,6,)) | H72: =IF($B72="","",VLOOKUP($B72,'Class. Personale'!$B:$I,7,)) | K72: 931
A73: 71 | C73: =IF($B73="","",VLOOKUP($B73,'Class. Personale'!$B:$I,2,)) | D73: =IF($B73="","",VLOOKUP($B73,'Class. Personale'!$B:$I,3,)) | E73: =CONCATENATE(C73,D73) | F73: =IF($B73="","",VLOOKUP($B73,'Class. Personale'!$B:$I,5,)) | G73: =IF($B73="","",VLOOKUP($B73,'Class. Personale'!$B:$I,6,)) | H73: =IF($B73="","",VLOOKUP($B73,'Class. Personale'!$B:$I,7,)) | K73: 930
A74: 72 | C74: =IF($B74="","",VLOOKUP($B74,'Class. Personale'!$B:$I,2,)) | D74: =IF($B74="","",VLOOKUP($B74,'Class. Personale'!$B:$I,3,)) | E74: =CONCATENATE(C74,D74) | F74: =IF($B74="","",VLOOKUP($B74,'Class. Personale'!$B:$I,5,)) | G74: =IF($B74="","",VLOOKUP($B74,'Class. Personale'!$B:$I,6,)) | H74: =IF($B74="","",VLOOKUP($B74,'Class. Personale'!$B:$I,7,)) | K74: 929
A75: 73 | C75: =IF($B75="","",VLOOKUP($B75,'Class. Personale'!$B:$I,2,)) | D75: =IF($B75="","",VLOOKUP($B75,'Class. Personale'!$B:$I,3,)) | E75: =CONCATENATE(C75,D75) | F75: =IF($B75="","",VLOOKUP($B75,'Class. Personale'!$B:$I,5,)) | G75: =IF($B75="","",VLOOKUP($B75,'Class. Personale'!$B:$I,6,)) | H75: =IF($B75="","",VLOOKUP($B75,'Class. Personale'!$B:$I,7,)) | K75: 928
A76: 74 | C76: =IF($B76="","",VLOOKUP($B76,'Class. Personale'!$B:$I,2,)) | D76: =IF($B76="","",VLOOKUP($B76,'Class. Personale'!$B:$I,3,)) | E76: =CONCATENATE(C76,D76) | F76: =IF($B76="","",VLOOKUP($B76,'Class. Personale'!$B:$I,5,)) | G76: =IF($B76="","",VLOOKUP($B76,'Class. Personale'!$B:$I,6,)) | H76: =IF($B76="","",VLOOKUP($B76,'Class. Personale'!$B:$I,7,)) | K76: 927
A77: 75 | C77: =IF($B77="","",VLOOKUP($B77,'Class. Personale'!$B:$I,2,)) | D77: =IF($B77="","",VLOOKUP($B77,'Class. Personale'!$B:$I,3,)) | E77: =CONCATENATE(C77,D77) | F77: =IF($B77="","",VLOOKUP($B77,'Class. Personale'!$B:$I,5,)) | G77: =IF($B77="","",VLOOKUP($B77,'Class. Personale'!$B:$I,6,)) | H77: =IF($B77="","",VLOOKUP($B77,'Class. Personale'!$B:$I,7,)) | K77: 926
A78: 76 | C78: =IF($B78="","",VLOOKUP($B78,'Class. Personale'!$B:$I,2,)) | D78: =IF($B78="","",VLOOKUP($B78,'Class. Personale'!$B:$I,3,)) | E78: =CONCATENATE(C78,D78) | F78: =IF($B78="","",VLOOKUP($B78,'Class. Personale'!$B:$I,5,)) | G78: =IF($B78="","",VLOOKUP($B78,'Class. Personale'!$B:$I,6,)) | H78: =IF($B78="","",VLOOKUP($B78,'Class. Personale'!$B:$I,7,)) | K78: 925
... A152: 150 | C152: =IF($B152="","",VLOOKUP($B152,'Class. Personale'!$B:$I,2,)) | D152: =IF($B152="","",VLOOKUP($B152,'Class. Personale'!$B:$I,3,)) | E152: =CONCATENATE(C152,D152) | F152: =IF($B152="","",VLOOKUP($B152,'Class. Personale'!$B:$I,5,)) | G152: =IF($B152="","",VLOOKUP($B152,'Class. Personale'!$B:$I,6,)) | H152: =IF($B152="","",VLOOKUP($B152,'Class. Personale'!$B:$I,7,)) | K152: 851
K153: 850
K154: 849
K155: 848
K156: 847
K157: 846
K158: 845
K159: 844
K160: 843
K161: 842
K162: 841
K163: 840
K164: 839
... K1002: 1

Sheet 50 IV Masc_
L1: =SUM(L3:L52) -> 5 | M1: =SUM(M3:M52) -> 27 | N1: =SUM(N3:N52) -> 0 | O1: =SUM(O3:O52) -> 39 | P1: =SUM(P3:P52) -> 0 | Q1: =SUM(Q3:Q52) -> 0 | R1: =SUM(R3:R52) -> 0 | S1: =SUM(S3:S52) -> 0 | ... AD1: =SUM(AD3:AD52) -> 0
B2: PETT | C2: COGNOME | D2: NOME | E2: COGNOME NOME | F2: SCUOLA | G2: CIRCOLO | H2: CLASSE | I2: TEMPO | J2: P.TI | K2: P.ti Personali | L2: AB | M2: VF | N2: VL | O2: VV | P2: CAS | Q2: SAN | R2: DCO | S2: ICG | T2: BOT | U2: DEA | V2: DON | W2: MAR | X2: RAM | Y2: RIC | Z2: RMA | AA2: VID | AB2: ADA | AC2: GAM | AD2: TRO
A3: 1 | B3: 2095 | C3: =IF($B3="","",VLOOKUP($B3,'Class. Personale'!$B:$I,2,)) -> BAZZAN | D3: =IF($B3="","",VLOOKUP($B3,'Class. Personale'!$B:$I,3,)) -> FILIPPO VITTORIO | E3: =CONCATENATE(C3,D3) -> BAZZANFILIPPO VITTORIO | F3: =IF($B3="","",VLOOKUP($B3,'Class. Personale'!$B:$I,5,)) -> VID | G3: VF | H3: =IF($B3="","",VLOOKUP($B3,'Class. Personale'!$B:$I,7,)) -> IV | I3: 7.63 | J3: 12 | K3: 1000 | L3: =IF($G3="","",IF($G3="AB",$J3,"")) | M3: =IF($G3="","",IF($G3="VF",$J3,"")) -> 12 | N3: =IF($G3="","",IF($G3="VL",$J3,"")) | O3: =IF($G3="","",IF($G3="VV",$J3,"")) | P3: =IF($G3="","",IF($G3="CAS",$J3,"")) | Q3: =IF($G3="","",IF($G3="SAN",$J3,"")) | R3: =IF($F3="","",IF($F3="DCO",$J3,"")) | S3: =IF($G3="","",IF($G3="ICG",$J3,"")) | T3: =IF($F3="","",IF($F3="BOT",$J3,"")) | U3: =IF($F3="","",IF($F3="DEA",$J3,"")) | V3: =IF($F3="","",IF($F3="DON",$J3,"")) | W3: =IF($F3="","",IF($F3="MAR",$J3,"")) | X3: =IF($F3="","",IF($F3="RAM",$J3,"")) | Y3: =IF($F3="","",IF($F3="RIC",$J3,"")) | Z3: =IF($F3="","",IF($F3="RMA",$J3,"")) | AA3: =IF($F3="","",IF($F3="VID",$J3,"")) -> 12 | AB3: =IF($F3="","",IF($F3="ADA",$J3,"")) | AC3: =IF($F3="","",IF($F3="GAM",$J3,"")) | AD3: =IF($F3="","",IF($F3="TRO",$J3,""))
A4: 2 | B4: 2034 | C4: =IF($B4="","",VLOOKUP($B4,'Class. Personale'!$B:$I,2,)) -> EMANUELE | D4: =IF($B4="","",VLOOKUP($B4,'Class. Personale'!$B:$I,3,)) -> GIORGIO ANTONINO | E4: =CONCATENATE(C4,D4) -> EMANUELEGIORGIO ANTONINO | F4: =IF($B4="","",VLOOKUP($B4,'Class. Personale'!$B:$I,5,)) -> DON | G4: =IF($B4="","",VLOOKUP($B4,'Class. Personale'!$B:$I,6,)) -> VV | H4: =IF($B4="","",VLOOKUP($B4,'Class. Personale'!$B:$I,7,)) -> IV | I4: 7.75 | J4: 11 | K4: 999 | L4: =IF($G4="","",IF($G4="AB",$J4,"")) | M4: =IF($G4="","",IF($G4="VF",$J4,"")) | N4: =IF($G4="","",IF($G4="VL",$J4,"")) | O4: =IF($G4="","",IF($G4="VV",$J4,"")) -> 11 | P4: =IF($G4="","",IF($G4="CAS",$J4,"")) | Q4: =IF($G4="","",IF($G4="SAN",$J4,"")) | R4: =IF($F4="","",IF($F4="DCO",$J4,"")) | S4: =IF($G4="","",IF($G4="ICG",$J4,"")) | T4: =IF($F4="","",IF($F4="BOT",$J4,"")) | U4: =IF($F4="","",IF($F4="DEA",$J4,"")) | V4: =IF($F4="","",IF($F4="DON",$J4,"")) -> 11 | W4: =IF($F4="","",IF($F4="MAR",$J4,"")) | X4: =IF($F4="","",IF($F4="RAM",$J4,"")) | Y4: =IF($F4="","",IF($F4="RIC",$J4,"")) | Z4: =IF($F4="","",IF($F4="RMA",$J4,"")) | AA4: =IF($F4="","",IF($F4="VID",$J4,"")) | AB4: =IF($F4="","",IF($F4="ADA",$J4,"")) | AC4: =IF($F4="","",IF($F4="GAM",$J4,"")) | AD4: =IF($F4="","",IF($F4="TRO",$J4,""))
A5: 3 | B5: 2030 | C5: =IF($B5="","",VLOOKUP($B5,'Class. Personale'!$B:$I,2,)) -> BACCOSI | D5: =IF($B5="","",VLOOKUP($B5,'Class. Personale'!$B:$I,3,)) -> RICCARDO | E5: =CONCATENATE(C5,D5) -> BACCOSIRICCARDO | F5: =IF($B5="","",VLOOKUP($B5,'Class. Personale'!$B:$I,5,)) -> DON | G5: =IF($B5="","",VLOOKUP($B5,'Class. Personale'!$B:$I,6,)) -> VV | H5: =IF($B5="","",VLOOKUP($B5,'Class. Personale'!$B:$I,7,)) -> IV | I5: 7.79 | J5: 10 | K5: 998 | L5: =IF($G5="","",IF($G5="AB",$J5,"")) | M5: =IF($G5="","",IF($G5="VF",$J5,"")) | N5: =IF($G5="","",IF($G5="VL",$J5,"")) | O5: =IF($G5="","",IF($G5="VV",$J5,"")) -> 10 | P5: =IF($G5="","",IF($G5="CAS",$J5,"")) | Q5: =IF($G5="","",IF($G5="SAN",$J5,"")) | R5: =IF($F5="","",IF($F5="DCO",$J5,"")) | S5: =IF($G5="","",IF($G5="ICG",$J5,"")) | T5: =IF($F5="","",IF($F5="BOT",$J5,"")) | U5: =IF($F5="","",IF($F5="DEA",$J5,"")) | V5: =IF($F5="","",IF($F5="DON",$J5,"")) -> 10 | W5: =IF($F5="","",IF($F5="MAR",$J5,"")) | X5: =IF($F5="","",IF($F5="RAM",$J5,"")) | Y5: =IF($F5="","",IF($F5="RIC",$J5,"")) | Z5: =IF($F5="","",IF($F5="RMA",$J5,"")) | AA5: =IF($F5="","",IF($F5="VID",$J5,"")) | AB5: =IF($F5="","",IF($F5="ADA",$J5,"")) | AC5: =IF($F5="","",IF($F5="GAM",$J5,"")) | AD5: =IF($F5="","",IF($F5="TRO",$J5,""))
A6: 4 | B6: 2047 | C6: =IF($B6="","",VLOOKUP($B6,'Class. Personale'!$B:$I,2,)) -> FILIGHERA | D6: =IF($B6="","",VLOOKUP($B6,'Class. Personale'!$B:$I,3,)) -> NICOLO' | E6: =CONCATENATE(C6,D6) -> FILIGHERANICOLO' | F6: =IF($B6="","",VLOOKUP($B6,'Class. Personale'!$B:$I,5,)) -> RMA | G6: =IF($B6="","",VLOOKUP($B6,'Class. Personale'!$B:$I,6,)) -> VV | H6: =IF($B6="","",VLOOKUP($B6,'Class. Personale'!$B:$I,7,)) -> IV | I6: 7.8 | J6: 9 | K6: 997 | L6: =IF($G6="","",IF($G6="AB",$J6,"")) | M6: =IF($G6="","",IF($G6="VF",$J6,"")) | N6: =IF($G6="","",IF($G6="VL",$J6,"")) | O6: =IF($G6="","",IF($G6="VV",$J6,"")) -> 9 | P6: =IF($G6="","",IF($G6="CAS",$J6,"")) | Q6: =IF($G6="","",IF($G6="SAN",$J6,"")) | R6: =IF($F6="","",IF($F6="DCO",$J6,"")) | S6: =IF($G6="","",IF($G6="ICG",$J6,"")) | T6: =IF($F6="","",IF($F6="BOT",$J6,"")) | U6: =IF($F6="","",IF($F6="DEA",$J6,"")) | V6: =IF($F6="","",IF($F6="DON",$J6,"")) | W6: =IF($F6="","",IF($F6="MAR",$J6,"")) | X6: =IF($F6="","",IF($F6="RAM",$J6,"")) | Y6: =IF($F6="","",IF($F6="RIC",$J6,"")) | Z6: =IF($F6="","",IF($F6="RMA",$J6,"")) -> 9 | AA6: =IF($F6="","",IF($F6="VID",$J6,"")) | AB6: =IF($F6="","",IF($F6="ADA",$J6,"")) | AC6: =IF($F6="","",IF($F6="GAM",$J6,"")) | AD6: =IF($F6="","",IF($F6="TRO",$J6,""))
A7: 5 | B7: 2097 | C7: =IF($B7="","",VLOOKUP($B7,'Class. Personale'!$B:$I,2,)) -> NATOLA | D7: =IF($B7="","",VLOOKUP($B7,'Class. Personale'!$B:$I,3,)) -> SAMUEL | E7: =CONCATENATE(C7,D7) -> NATOLASAMUEL | F7: =IF($B7="","",VLOOKUP($B7,'Class. Personale'!$B:$I,5,)) -> VID | G7: =IF($B7="","",VLOOKUP($B7,'Class. Personale'!$B:$I,6,)) -> VF | H7: =IF($B7="","",VLOOKUP($B7,'Class. Personale'!$B:$I,7,)) -> IV | I7: 7.81 | J7: 8 | K7: 996 | L7: =IF($G7="","",IF($G7="AB",$J7,"")) | M7: =IF($G7="","",IF($G7="VF",$J7,"")) -> 8 | N7: =IF($G7="","",IF($G7="VL",$J7,"")) | O7: =IF($G7="","",IF($G7="VV",$J7,"")) | P7: =IF($G7="","",IF($G7="CAS",$J7,"")) | Q7: =IF($G7="","",IF($G7="SAN",$J7,"")) | R7: =IF($F7="","",IF($F7="DCO",$J7,"")) | S7: =IF($G7="","",IF($G7="ICG",$J7,"")) | T7: =IF($F7="","",IF($F7="BOT",$J7,"")) | U7: =IF($F7="","",IF($F7="DEA",$J7,"")) | V7: =IF($F7="","",IF($F7="DON",$J7,"")) | W7: =IF($F7="","",IF($F7="MAR",$J7,"")) | X7: =IF($F7="","",IF($F7="RAM",$J7,"")) | Y7: =IF($F7="","",IF($F7="RIC",$J7,"")) | Z7: =IF($F7="","",IF($F7="RMA",$J7,"")) | AA7: =IF($F7="","",IF($F7="VID",$J7,"")) -> 8 | AB7: =IF($F7="","",IF($F7="ADA",$J7,"")) | AC7: =IF($F7="","",IF($F7="GAM",$J7,"")) | AD7: =IF($F7="","",IF($F7="TRO",$J7,""))
A8: 6 | B8: 2114 | C8: =IF($B8="","",VLOOKUP($B8,'Class. Personale'!$B:$I,2,)) -> ALY SAMIR | D8: =IF($B8="","",VLOOKUP($B8,'Class. Personale'!$B:$I,3,)) -> RAMADAN | E8: =CONCATENATE(C8,D8) -> ALY SAMIRRAMADAN | F8: =IF($B8="","",VLOOKUP($B8,'Class. Personale'!$B:$I,5,)) -> RAM | G8: VB | H8: =IF($B8="","",VLOOKUP($B8,'Class. Personale'!$B:$I,7,)) -> IV | I8: 7.84 | J8: 7 | K8: 995 | L8: =IF($G8="","",IF($G8="AB",$J8,"")) | M8: =IF($G8="","",IF($G8="VF",$J8,"")) | N8: =IF($G8="","",IF($G8="VL",$J8,"")) | O8: =IF($G8="","",IF($G8="VV",$J8,"")) | P8: =IF($G8="","",IF($G8="CAS",$J8,"")) | Q8: =IF($G8="","",IF($G8="SAN",$J8,"")) | R8: =IF($F8="","",IF($F8="DCO",$J8,"")) | S8: =IF($G8="","",IF($G8="ICG",$J8,"")) | T8: =IF($F8="","",IF($F8="BOT",$J8,"")) | U8: =IF($F8="","",IF($F8="DEA",$J8,"")) | V8: =IF($F8="","",IF($F8="DON",$J8,"")) | W8: =IF($F8="","",IF($F8="MAR",$J8,"")) | X8: =IF($F8="","",IF($F8="RAM",$J8,"")) -> 7 | Y8: =IF($F8="","",IF($F8="RIC",$J8,"")) | Z8: =IF($F8="","",IF($F8="RMA",$J8,"")) | AA8: =IF($F8="","",IF($F8="VID",$J8,"")) | AB8: =IF($F8="","",IF($F8="ADA",$J8,"")) | AC8: =IF($F8="","",IF($F8="GAM",$J8,"")) | AD8: =IF($F8="","",IF($F8="TRO",$J8,""))
A9: 7 | B9: 2043 | C9: =IF($B9="","",VLOOKUP($B9,'Class. Personale'!$B:$I,2,)) -> KRADRA | D9: =IF($B9="","",VLOOKUP($B9,'Class. Personale'!$B:$I,3,)) -> ROBERT MARLON | E9: =CONCATENATE(C9,D9) -> KRADRAROBERT MARLON | F9: =IF($B9="","",VLOOKUP($B9,'Class. Personale'!$B:$I,5,)) -> MAR | G9: =IF($B9="","",VLOOKUP($B9,'Class. Personale'!$B:$I,6,)) -> VV | H9: =IF($B9="","",VLOOKUP($B9,'Class. Personale'!$B:$I,7,)) -> IV | I9: 7.86 | J9: 6 | K9: 994 | L9: =IF($G9="","",IF($G9="AB",$J9,"")) | M9: =IF($G9="","",IF($G9="VF",$J9,"")) | N9: =IF($G9="","",IF($G9="VL",$J9,"")) | O9: =IF($G9="","",IF($G9="VV",$J9,"")) -> 6 | P9: =IF($G9="","",IF($G9="CAS",$J9,"")) | Q9: =IF($G9="","",IF($G9="SAN",$J9,"")) | R9: =IF($F9="","",IF($F9="DCO",$J9,"")) | S9: =IF($G9="","",IF($G9="ICG",$J9,"")) | T9: =IF($F9="","",IF($F9="BOT",$J9,"")) | U9: =IF($F9="","",IF($F9="DEA",$J9,"")) | V9: =IF($F9="","",IF($F9="DON",$J9,"")) | W9: =IF($F9="","",IF($F9="MAR",$J9,"")) -> 6 | X9: =IF($F9="","",IF($F9="RAM",$J9,"")) | Y9: =IF($F9="","",IF($F9="RIC",$J9,"")) | Z9: =IF($F9="","",IF($F9="RMA",$J9,"")) | AA9: =IF($F9="","",IF($F9="VID",$J9,"")) | AB9: =IF($F9="","",IF($F9="ADA",$J9,"")) | AC9: =IF($F9="","",IF($F9="GAM",$J9,"")) | AD9: =IF($F9="","",IF($F9="TRO",$J9,""))
A10: 8 | B10: 2125 | C10: =IF($B10="","",VLOOKUP($B10,'Class. Personale'!$B:$I,2,)) -> MAZZON | D10: =IF($B10="","",VLOOKUP($B10,'Class. Personale'!$B:$I,3,)) -> GIULIO | E10: =CONCATENATE(C10,D10) -> MAZZONGIULIO | F10: =IF($B10="","",VLOOKUP($B10,'Class. Personale'!$B:$I,5,)) -> RAM | G10: =IF($B10="","",VLOOKUP($B10,'Class. Personale'!$B:$I,6,)) -> AB | H10: =IF($B10="","",VLOOKUP($B10,'Class. Personale'!$B:$I,7,)) -> IV | I10: 7.89 | J10: 5 | K10: 993 | L10: =IF($G10="","",IF($G10="AB",$J10,"")) -> 5 | M10: =IF($G10="","",IF($G10="VF",$J10,"")) | N10: =IF($G10="","",IF($G10="VL",$J10,"")) | O10: =IF($G10="","",IF($G10="VV",$J10,"")) | P10: =IF($G10="","",IF($G10="CAS",$J10,"")) | Q10: =IF($G10="","",IF($G10="SAN",$J10,"")) | R10: =IF($F10="","",IF($F10="DCO",$J10,"")) | S10: =IF($G10="","",IF($G10="ICG",$J10,"")) | T10: =IF($F10="","",IF($F10="BOT",$J10,"")) | U10: =IF($F10="","",IF($F10="DEA",$J10,"")) | V10: =IF($F10="","",IF($F10="DON",$J10,"")) | W10: =IF($F10="","",IF($F10="MAR",$J10,"")) | X10: =IF($F10="","",IF($F10="RAM",$J10,"")) -> 5 | Y10: =IF($F10="","",IF($F10="RIC",$J10,"")) | Z10: =IF($F10="","",IF($F10="RMA",$J10,"")) | AA10: =IF($F10="","",IF($F10="VID",$J10,"")) | AB10: =IF($F10="","",IF($F10="ADA",$J10,"")) | AC10: =IF($F10="","",IF($F10="GAM",$J10,"")) | AD10: =IF($F10="","",IF($F10="TRO",$J10,""))
A11: 9 | B11: 2070 | C11: =IF($B11="","",VLOOKUP($B11,'Class. Personale'!$B:$I,2,)) -> LUCCHESE | D11: =IF($B11="","",VLOOKUP($B11,'Class. Personale'!$B:$I,3,)) -> PIETRO | E11: =CONCATENATE(C11,D11) -> LUCCHESEPIETRO | F11: =IF($B11="","",VLOOKUP($B11,'Class. Personale'!$B:$I,5,)) -> RIC | G11: =IF($B11="","",VLOOKUP($B11,'Class. Personale'!$B:$I,6,)) -> VF | H11: =IF($B11="","",VLOOKUP($B11,'Class. Personale'!$B:$I,7,)) -> IV | I11: 7.9 | J11: 4 | K11: 992 | L11: =IF($G11="","",IF($G11="AB",$J11,"")) | M11: =IF($G11="","",IF($G11="VF",$J11,"")) -> 4 | N11: =IF($G11="","",IF($G11="VL",$J11,"")) | O11: =IF($G11="","",IF($G11="VV",$J11,"")) | P11: =IF($G11="","",IF($G11="CAS",$J11,"")) | Q11: =IF($G11="","",IF($G11="SAN",$J11,"")) | R11: =IF($F11="","",IF($F11="DCO",$J11,"")) | S11: =IF($G11="","",IF($G11="ICG",$J11,"")) | T11: =IF($F11="","",IF($F11="BOT",$J11,"")) | U11: =IF($F11="","",IF($F11="DEA",$J11,"")) | V11: =IF($F11="","",IF($F11="DON",$J11,"")) | W11: =IF($F11="","",IF($F11="MAR",$J11,"")) | X11: =IF($F11="","",IF($F11="RAM",$J11,"")) | Y11: =IF($F11="","",IF($F11="RIC",$J11,"")) -> 4 | Z11: =IF($F11="","",IF($F11="RMA",$J11,"")) | AA11: =IF($F11="","",IF($F11="VID",$J11,"")) | AB11: =IF($F11="","",IF($F11="ADA",$J11,"")) | AC11: =IF($F11="","",IF($F11="GAM",$J11,"")) | AD11: =IF($F11="","",IF($F11="TRO",$J11,""))
A12: 10 | B12: 2085 | C12: =IF($B12="","",VLOOKUP($B12,'Class. Personale'!$B:$I,2,)) -> ARRIGONE | D12: =IF($B12="","",VLOOKUP($B12,'Class. Personale'!$B:$I,3,)) -> SAMUELE | E12: =CONCATENATE(C12,D12) -> ARRIGONE SAMUELE | F12: =IF($B12="","",VLOOKUP($B12,'Class. Personale'!$B:$I,5,)) -> VID | G12: =IF($B12="","",VLOOKUP($B12,'Class. Personale'!$B:$I,6,)) -> VF | H12: =IF($B12="","",VLOOKUP($B12,'Class. Personale'!$B:$I,7,)) -> IV | I12: 7.92 | J12: 3 | K12: 991 | L12: =IF($G12="","",IF($G12="AB",$J12,"")) | M12: =IF($G12="","",IF($G12="VF",$J12,"")) -> 3 | N12: =IF($G12="","",IF($G12="VL",$J12,"")) | O12: =IF($G12="","",IF($G12="VV",$J12,"")) | P12: =IF($G12="","",IF($G12="CAS",$J12,"")) | Q12: =IF($G12="","",IF($G12="SAN",$J12,"")) | R12: =IF($F12="","",IF($F12="DCO",$J12,"")) | S12: =IF($G12="","",IF($G12="ICG",$J12,"")) | T12: =IF($F12="","",IF($F12="BOT",$J12,"")) | U12: =IF($F12="","",IF($F12="DEA",$J12,"")) | V12: =IF($F12="","",IF($F12="DON",$J12,"")) | W12: =IF($F12="","",IF($F12="MAR",$J12,"")) | X12: =IF($F12="","",IF($F12="RAM",$J12,"")) | Y12: =IF($F12="","",IF($F12="RIC",$J12,"")) | Z12: =IF($F12="","",IF($F12="RMA",$J12,"")) | AA12: =IF($F12="","",IF($F12="VID",$J12,"")) -> 3 | AB12: =IF($F12="","",IF($F12="ADA",$J12,"")) | AC12: =IF($F12="","",IF($F12="GAM",$J12,"")) | AD12: =IF($F12="","",IF($F12="TRO",$J12,""))
A13: 11 | B13: 2055 | C13: =IF($B13="","",VLOOKUP($B13,'Class. Personale'!$B:$I,2,)) -> LOMBARDO | D13: =IF($B13="","",VLOOKUP($B13,'Class. Personale'!$B:$I,3,)) -> ALESSIO | E13: =CONCATENATE(C13,D13) -> LOMBARDOALESSIO | F13: =IF($B13="","",VLOOKUP($B13,'Class. Personale'!$B:$I,5,)) -> RMA | G13: =IF($B13="","",VLOOKUP($B13,'Class. Personale'!$B:$I,6,)) -> VV | H13: =IF($B13="","",VLOOKUP($B13,'Class. Personale'!$B:$I,7,)) -> IV | I13: 7.98 | J13: 2 | K13: 990 | L13: =IF($G13="","",IF($G13="AB",$J13,"")) | M13: =IF($G13="","",IF($G13="VF",$J13,"")) | N13: =IF($G13="","",IF($G13="VL",$J13,"")) | O13: =IF($G13="","",IF($G13="VV",$J13,"")) -> 2 | P13: =IF($G13="","",IF($G13="CAS",$J13,"")) | Q13: =IF($G13="","",IF($G13="SAN",$J13,"")) | R13: =IF($F13="","",IF($F13="DCO",$J13,"")) | S13: =IF($G13="","",IF($G13="ICG",$J13,"")) | T13: =IF($F13="","",IF($F13="BOT",$J13,"")) | U13: =IF($F13="","",IF($F13="DEA",$J13,"")) | V13: =IF($F13="","",IF($F13="DON",$J13,"")) | W13: =IF($F13="","",IF($F13="MAR",$J13,"")) | X13: =IF($F13="","",IF($F13="RAM",$J13,"")) | Y13: =IF($F13="","",IF($F13="RIC",$J13,"")) | Z13: =IF($F13="","",IF($F13="RMA",$J13,"")) -> 2 | AA13: =IF($F13="","",IF($F13="VID",$J13,"")) | AB13: =IF($F13="","",IF($F13="ADA",$J13,"")) | AC13: =IF($F13="","",IF($F13="GAM",$J13,"")) | AD13: =IF($F13="","",IF($F13="TRO",$J13,""))
A14: 12 | B14: 2049 | C14: =IF($B14="","",VLOOKUP($B14,'Class. Personale'!$B:$I,2,)) -> M'MOO MA NYEMB | D14: =IF($B14="","",VLOOKUP($B14,'Class. Personale'!$B:$I,3,)) -> RAFFAELE PAUL STEVE | E14: =CONCATENATE(C14,D14) -> M'MOO MA NYEMBRAFFAELE PAUL STEVE | F14: =IF($B14="","",VLOOKUP($B14,'Class. Personale'!$B:$I,5,)) -> RMA | G14: =IF($B14="","",VLOOKUP($B14,'Class. Personale'!$B:$I,6,)) -> VV | H14: =IF($B14="","",VLOOKUP($B14,'Class. Personale'!$B:$I,7,)) -> IV | I14: 8 | J14: 1 | K14: 989 | L14: =IF($G14="","",IF($G14="AB",$J14,"")) | M14: =IF($G14="","",IF($G14="VF",$J14,"")) | N14: =IF($G14="","",IF($G14="VL",$J14,"")) | O14: =IF($G14="","",IF($G14="VV",$J14,"")) -> 1 | P14: =IF($G14="","",IF($G14="CAS",$J14,"")) | Q14: =IF($G14="","",IF($G14="SAN",$J14,"")) | R14: =IF($F14="","",IF($F14="DCO",$J14,"")) | S14: =IF($G14="","",IF($G14="ICG",$J14,"")) | T14: =IF($F14="","",IF($F14="BOT",$J14,"")) | U14: =IF($F14="","",IF($F14="DEA",$J14,"")) | V14: =IF($F14="","",IF($F14="DON",$J14,"")) | W14: =IF($F14="","",IF($F14="MAR",$J14,"")) | X14: =IF($F14="","",IF($F14="RAM",$J14,"")) | Y14: =IF($F14="","",IF($F14="RIC",$J14,"")) | Z14: =IF($F14="","",IF($F14="RMA",$J14,"")) -> 1 | AA14: =IF($F14="","",IF($F14="VID",$J14,"")) | AB14: =IF($F14="","",IF($F14="ADA",$J14,"")) | AC14: =IF($F14="","",IF($F14="GAM",$J14,"")) | AD14: =IF($F14="","",IF($F14="TRO",$J14,""))
A15: 13 | B15: 2029 | C15: =IF($B15="","",VLOOKUP($B15,'Class. Personale'!$B:$I,2,)) -> RAFFA | D15: =IF($B15="","",VLOOKUP($B15,'Class. Personale'!$B:$I,3,)) -> MATTIA | E15: =CONCATENATE(C15,D15) -> RAFFAMATTIA | F15: =IF($B15="","",VLOOKUP($B15,'Class. Personale'!$B:$I,5,)) -> DON | G15: =IF($B15="","",VLOOKUP($B15,'Class. Personale'!$B:$I,6,)) -> VV | H15: =IF($B15="","",VLOOKUP($B15,'Class. Personale'!$B:$I,7,)) -> IV | I15: 8 | J15: 0 | K15: 988 | L15: =IF($G15="","",IF($G15="AB",$J15,"")) | M15: =IF($G15="","",IF($G15="VF",$J15,"")) | N15: =IF($G15="","",IF($G15="VL",$J15,"")) | O15: =IF($G15="","",IF($G15="VV",$J15,"")) -> 0 | P15: =IF($G15="","",IF($G15="CAS",$J15,"")) | Q15: =IF($G15="","",IF($G15="SAN",$J15,"")) | R15: =IF($F15="","",IF($F15="DCO",$J15,"")) | S15: =IF($G15="","",IF($G15="ICG",$J15,"")) | T15: =IF($F15="","",IF($F15="BOT",$J15,"")) | U15: =IF($F15="","",IF($F15="DEA",$J15,"")) | V15: =IF($F15="","",IF($F15="DON",$J15,"")) -> 0 | W15: =IF($F15="","",IF($F15="MAR",$J15,"")) | X15: =IF($F15="","",IF($F15="RAM",$J15,"")) | Y15: =IF($F15="","",IF($F15="RIC",$J15,"")) | Z15: =IF($F15="","",IF($F15="RMA",$J15,"")) | AA15: =IF($F15="","",IF($F15="VID",$J15,"")) | AB15: =IF($F15="","",IF($F15="ADA",$J15,"")) | AC15: =IF($F15="","",IF($F15="GAM",$J15,"")) | AD15: =IF($F15="","",IF($F15="TRO",$J15,""))
A16: 14 | B16: 2099 | C16: =IF($B16="","",VLOOKUP($B16,'Class. Personale'!$B:$I,2,)) -> SHEHAJ | D16: =IF($B16="","",VLOOKUP($B16,'Class. Personale'!$B:$I,3,)) -> KLEIDI | E16: =CONCATENATE(C16,D16) -> SHEHAJKLEIDI | F16: =IF($B16="","",VLOOKUP($B16,'Class. Personale'!$B:$I,5,)) -> VID | G16: =IF($B16="","",VLOOKUP($B16,'Class. Personale'!$B:$I,6,)) -> VF | H16: =IF($B16="","",VLOOKUP($B16,'Class. Personale'!$B:$I,7,)) -> IV | I16: 8.01 | K16: 987 | L16: =IF($G16="","",IF($G16="AB",$J16,"")) | M16: =IF($G16="","",IF($G16="VF",$J16,"")) -> 0 | N16: =IF($G16="","",IF($G16="VL",$J16,"")) | O16: =IF($G16="","",IF($G16="VV",$J16,"")) | P16: =IF($G16="","",IF($G16="CAS",$J16,"")) | Q16: =IF($G16="","",IF($G16="SAN",$J16,"")) | R16: =IF($F16="","",IF($F16="DCO",$J16,"")) | S16: =IF($G16="","",IF($G16="ICG",$J16,"")) | T16: =IF($F16="","",IF($F16="BOT",$J16,"")) | U16: =IF($F16="","",IF($F16="DEA",$J16,"")) | V16: =IF($F16="","",IF($F16="DON",$J16,"")) | W16: =IF($F16="","",IF($F16="MAR",$J16,"")) | X16: =IF($F16="","",IF($F16="RAM",$J16,"")) | Y16: =IF($F16="","",IF($F16="RIC",$J16,"")) | Z16: =IF($F16="","",IF($F16="RMA",$J16,"")) | AA16: =IF($F16="","",IF($F16="VID",$J16,"")) -> 0 | AB16: =IF($F16="","",IF($F16="ADA",$J16,"")) | AC16: =IF($F16="","",IF($F16="GAM",$J16,"")) | AD16: =IF($F16="","",IF($F16="TRO",$J16,""))
A17: 15 | B17: 2022 | C17: =IF($B17="","",VLOOKUP($B17,'Class. Personale'!$B:$I,2,)) -> OKAKA | D17: =IF($B17="","",VLOOKUP($B17,'Class. Personale'!$B:$I,3,)) -> THIAGO | E17: =CONCATENATE(C17,D17) -> OKAKATHIAGO | F17: =IF($B17="","",VLOOKUP($B17,'Class. Personale'!$B:$I,5,)) -> GAM | G17: =IF($B17="","",VLOOKUP($B17,'Class. Personale'!$B:$I,6,)) -> ICG | H17: =IF($B17="","",VLOOKUP($B17,'Class. Personale'!$B:$I,7,)) -> IV | I17: 8.06 | K17: 986 | L17: =IF($G17="","",IF($G17="AB",$J17,"")) | M17: =IF($G17="","",IF($G17="VF",$J17,"")) | N17: =IF($G17="","",IF($G17="VL",$J17,"")) | O17: =IF($G17="","",IF($G17="VV",$J17,"")) | P17: =IF($G17="","",IF($G17="CAS",$J17,"")) | Q17: =IF($G17="","",IF($G17="SAN",$J17,"")) | R17: =IF($F17="","",IF($F17="DCO",$J17,"")) | S17: =IF($G17="","",IF($G17="ICG",$J17,"")) -> 0 | T17: =IF($F17="","",IF($F17="BOT",$J17,"")) | U17: =IF($F17="","",IF($F17="DEA",$J17,"")) | V17: =IF($F17="","",IF($F17="DON",$J17,"")) | W17: =IF($F17="","",IF($F17="MAR",$J17,"")) | X17: =IF($F17="","",IF($F17="RAM",$J17,"")) | Y17: =IF($F17="","",IF($F17="RIC",$J17,"")) | Z17: =IF($F17="","",IF($F17="RMA",$J17,"")) | AA17: =IF($F17="","",IF($F17="VID",$J17,"")) | AB17: =IF($F17="","",IF($F17="ADA",$J17,"")) | AC17: =IF($F17="","",IF($F17="GAM",$J17,"")) -> 0 | AD17: =IF($F17="","",IF($F17="TRO",$J17,""))
A18: 16 | B18: 2139 | C18: =IF($B18="","",VLOOKUP($B18,'Class. Personale'!$B:$I,2,)) -> CENITI | D18: =IF($B18="","",VLOOKUP($B18,'Class. Personale'!$B:$I,3,)) -> TOMMASO | E18: =CONCATENATE(C18,D18) -> CENITITOMMASO | F18: =IF($B18="","",VLOOKUP($B18,'Class. Personale'!$B:$I,5,)) -> DON | G18: =IF($B18="","",VLOOKUP($B18,'Class. Personale'!$B:$I,6,)) -> VV | H18: =IF($B18="","",VLOOKUP($B18,'Class. Personale'!$B:$I,7,)) -> IV | I18: 8.1 | K18: 985 | L18: =IF($G18="","",IF($G18="AB",$J18,"")) | M18: =IF($G18="","",IF($G18="VF",$J18,"")) | N18: =IF($G18="","",IF($G18="VL",$J18,"")) | O18: =IF($G18="","",IF($G18="VV",$J18,"")) -> 0 | P18: =IF($G18="","",IF($G18="CAS",$J18,"")) | Q18: =IF($G18="","",IF($G18="SAN",$J18,"")) | R18: =IF($F18="","",IF($F18="DCO",$J18,"")) | S18: =IF($G18="","",IF($G18="ICG",$J18,"")) | T18: =IF($F18="","",IF($F18="BOT",$J18,"")) | U18: =IF($F18="","",IF($F18="DEA",$J18,"")) | V18: =IF($F18="","",IF($F18="DON",$J18,"")) -> 0 | W18: =IF($F18="","",IF($F18="MAR",$J18,"")) | X18: =IF($F18="","",IF($F18="RAM",$J18,"")) | Y18: =IF($F18="","",IF($F18="RIC",$J18,"")) | Z18: =IF($F18="","",IF($F18="RMA",$J18,"")) | AA18: =IF($F18="","",IF($F18="VID",$J18,"")) | AB18: =IF($F18="","",IF($F18="ADA",$J18,"")) | AC18: =IF($F18="","",IF($F18="GAM",$J18,"")) | AD18: =IF($F18="","",IF($F18="TRO",$J18,""))
A19: 17 | B19: 2135 | C19: =IF($B19="","",VLOOKUP($B19,'Class. Personale'!$B:$I,2,)) -> GADOTTI | D19: =IF($B19="","",VLOOKUP($B19,'Class. Personale'!$B:$I,3,)) -> GABRIEL | E19: =CONCATENATE(C19,D19) -> GADOTTIGABRIEL | F19: =IF($B19="","",VLOOKUP($B19,'Class. Personale'!$B:$I,5,)) -> RAM | G19: =IF($B19="","",VLOOKUP($B19,'Class. Personale'!$B:$I,6,)) -> AB | H19: =IF($B19="","",VLOOKUP($B19,'Class. Personale'!$B:$I,7,)) -> IV | I19: 8.1 | K19: 984 | L19: =IF($G19="","",IF($G19="AB",$J19,"")) -> 0 | M19: =IF($G19="","",IF($G19="VF",$J19,"")) | N19: =IF($G19="","",IF($G19="VL",$J19,"")) | O19: =IF($G19="","",IF($G19="VV",$J19,"")) | P19: =IF($G19="","",IF($G19="CAS",$J19,"")) | Q19: =IF($G19="","",IF($G19="SAN",$J19,"")) | R19: =IF($F19="","",IF($F19="DCO",$J19,"")) | S19: =IF($G19="","",IF($G19="ICG",$J19,"")) | T19: =IF($F19="","",IF($F19="BOT",$J19,"")) | U19: =IF($F19="","",IF($F19="DEA",$J19,"")) | V19: =IF($F19="","",IF($F19="DON",$J19,"")) | W19: =IF($F19="","",IF($F19="MAR",$J19,"")) | X19: =IF($F19="","",IF($F19="RAM",$J19,"")) -> 0 | Y19: =IF($F19="","",IF($F19="RIC",$J19,"")) | Z19: =IF($F19="","",IF($F19="RMA",$J19,"")) | AA19: =IF($F19="","",IF($F19="VID",$J19,"")) | AB19: =IF($F19="","",IF($F19="ADA",$J19,"")) | AC19: =IF($F19="","",IF($F19="GAM",$J19,"")) | AD19: =IF($F19="","",IF($F19="TRO",$J19,""))
A20: 18 | B20: 2124 | C20: =IF($B20="","",VLOOKUP($B20,'Class. Personale'!$B:$I,2,)) -> SOLIANO | D20: =IF($B20="","",VLOOKUP($B20,'Class. Personale'!$B:$I,3,)) -> RICCARDO | E20: =CONCATENATE(C20,D20) -> SOLIANORICCARDO | F20: =IF($B20="","",VLOOKUP($B20,'Class. Personale'!$B:$I,5,)) -> RAM | G20: =IF($B20="","",VLOOKUP($B20,'Class. Personale'!$B:$I,6,)) -> AB | H20: =IF($B20="","",VLOOKUP($B20,'Class. Personale'!$B:$I,7,)) -> IV | I20: 8.12 | K20: 983 | L20: =IF($G20="","",IF($G20="AB",$J20,"")) -> 0 | M20: =IF($G20="","",IF($G20="VF",$J20,"")) | N20: =IF($G20="","",IF($G20="VL",$J20,"")) | O20: =IF($G20="","",IF($G20="VV",$J20,"")) | P20: =IF($G20="","",IF($G20="CAS",$J20,"")) | Q20: =IF($G20="","",IF($G20="SAN",$J20,"")) | R20: =IF($F20="","",IF($F20="DCO",$J20,"")) | S20: =IF($G20="","",IF($G20="ICG",$J20,"")) | T20: =IF($F20="","",IF($F20="BOT",$J20,"")) | U20: =IF($F20="","",IF($F20="DEA",$J20,"")) | V20: =IF($F20="","",IF($F20="DON",$J20,"")) | W20: =IF($F20="","",IF($F20="MAR",$J20,"")) | X20: =IF($F20="","",IF($F20="RAM",$J20,"")) -> 0 | Y20: =IF($F20="","",IF($F20="RIC",$J20,"")) | Z20: =IF($F20="","",IF($F20="RMA",$J20,"")) | AA20: =IF($F20="","",IF($F20="VID",$J20,"")) | AB20: =IF($F20="","",IF($F20="ADA",$J20,"")) | AC20: =IF($F20="","",IF($F20="GAM",$J20,"")) | AD20: =IF($F20="","",IF($F20="TRO",$J20,""))
A21: 19 | B21: 2123 | C21: =IF($B21="","",VLOOKUP($B21,'Class. Personale'!$B:$I,2,)) -> DANOVA | D21: =IF($B21="","",VLOOKUP($B21,'Class. Personale'!$B:$I,3,)) -> MICHELE | E21: =CONCATENATE(C21,D21) -> DANOVAMICHELE | F21: =IF($B21="","",VLOOKUP($B21,'Class. Personale'!$B:$I,5,)) -> RAM | G21: =IF($B21="","",VLOOKUP($B21,'Class. Personale'!$B:$I,6,)) -> AB | H21: =IF($B21="","",VLOOKUP($B21,'Class. Personale'!$B:$I,7,)) -> IV | I21: 8.15 | K21: 982 | L21: =IF($G21="","",IF($G21="AB",$J21,"")) -> 0 | M21: =IF($G21="","",IF($G21="VF",$J21,"")) | N21: =IF($G21="","",IF($G21="VL",$J21,"")) | O21: =IF($G21="","",IF($G21="VV",$J21,"")) | P21: =IF($G21="","",IF($G21="CAS",$J21,"")) | Q21: =IF($G21="","",IF($G21="SAN",$J21,"")) | R21: =IF($F21="","",IF($F21="DCO",$J21,"")) | S21: =IF($G21="","",IF($G21="ICG",$J21,"")) | T21: =IF($F21="","",IF($F21="BOT",$J21,"")) | U21: =IF($F21="","",IF($F21="DEA",$J21,"")) | V21: =IF($F21="","",IF($F21="DON",$J21,"")) | W21: =IF($F21="","",IF($F21="MAR",$J21,"")) | X21: =IF($F21="","",IF($F21="RAM",$J21,"")) -> 0 | Y21: =IF($F21="","",IF($F21="RIC",$J21,"")) | Z21: =IF($F21="","",IF($F21="RMA",$J21,"")) | AA21: =IF($F21="","",IF($F21="VID",$J21,"")) | AB21: =IF($F21="","",IF($F21="ADA",$J21,"")) | AC21: =IF($F21="","",IF($F21="GAM",$J21,"")) | AD21: =IF($F21="","",IF($F21="TRO",$J21,""))
A22: 20 | B22: 2094 | C22: =IF($B22="","",VLOOKUP($B22,'Class. Personale'!$B:$I,2,)) -> SINA | D22: =IF($B22="","",VLOOKUP($B22,'Class. Personale'!$B:$I,3,)) -> REISON | E22: =CONCATENATE(C22,D22) -> SINAREISON | F22: =IF($B22="","",VLOOKUP($B22,'Class. Personale'!$B:$I,5,)) -> VID | G22: =IF($B22="","",VLOOKUP($B22,'Class. Personale'!$B:$I,6,)) -> VF | H22: =IF($B22="","",VLOOKUP($B22,'Class. Personale'!$B:$I,7,)) -> IV | I22: 8.24 | K22: 981 | L22: =IF($G22="","",IF($G22="AB",$J22,"")) | M22: =IF($G22="","",IF($G22="VF",$J22,"")) -> 0 | N22: =IF($G22="","",IF($G22="VL",$J22,"")) | O22: =IF($G22="","",IF($G22="VV",$J22,"")) | P22: =IF($G22="","",IF($G22="CAS",$J22,"")) | Q22: =IF($G22="","",IF($G22="SAN",$J22,"")) | R22: =IF($F22="","",IF($F22="DCO",$J22,"")) | S22: =IF($G22="","",IF($G22="ICG",$J22,"")) | T22: =IF($F22="","",IF($F22="BOT",$J22,"")) | U22: =IF($F22="","",IF($F22="DEA",$J22,"")) | V22: =IF($F22="","",IF($F22="DON",$J22,"")) | W22: =IF($F22="","",IF($F22="MAR",$J22,"")) | X22: =IF($F22="","",IF($F22="RAM",$J22,"")) | Y22: =IF($F22="","",IF($F22="RIC",$J22,"")) | Z22: =IF($F22="","",IF($F22="RMA",$J22,"")) | AA22: =IF($F22="","",IF($F22="VID",$J22,"")) -> 0 | AB22: =IF($F22="","",IF($F22="ADA",$J22,"")) | AC22: =IF($F22="","",IF($F22="GAM",$J22,"")) | AD22: =IF($F22="","",IF($F22="TRO",$J22,""))
A23: 21 | B23: 2004 | C23: =IF($B23="","",VLOOKUP($B23,'Class. Personale'!$B:$I,2,)) -> ELFATTAHI | D23: =IF($B23="","",VLOOKUP($B23,'Class. Personale'!$B:$I,3,)) -> RAYAN | E23: =CONCATENATE(C23,D23) -> ELFATTAHIRAYAN | F23: =IF($B23="","",VLOOKUP($B23,'Class. Personale'!$B:$I,5,)) -> DEA | G23: =IF($B23="","",VLOOKUP($B23,'Class. Personale'!$B:$I,6,)) -> LIB | H23: =IF($B23="","",VLOOKUP($B23,'Class. Personale'!$B:$I,7,)) -> IV | I23: 8.25 | K23: 980 | L23: =IF($G23="","",IF($G23="AB",$J23,"")) | M23: =IF($G23="","",IF($G23="VF",$J23,"")) | N23: =IF($G23="","",IF($G23="VL",$J23,"")) | O23: =IF($G23="","",IF($G23="VV",$J23,"")) | P23: =IF($G23="","",IF($G23="CAS",$J23,"")) | Q23: =IF($G23="","",IF($G23="SAN",$J23,"")) | R23: =IF($F23="","",IF($F23="DCO",$J23,"")) | S23: =IF($G23="","",IF($G23="ICG",$J23,"")) | T23: =IF($F23="","",IF($F23="BOT",$J23,"")) | U23: =IF($F23="","",IF($F23="DEA",$J23,"")) -> 0 | V23: =IF($F23="","",IF($F23="DON",$J23,"")) | W23: =IF($F23="","",IF($F23="MAR",$J23,"")) | X23: =IF($F23="","",IF($F23="RAM",$J23,"")) | Y23: =IF($F23="","",IF($F23="RIC",$J23,"")) | Z23: =IF($F23="","",IF($F23="RMA",$J23,"")) | AA23: =IF($F23="","",IF($F23="VID",$J23,"")) | AB23: =IF($F23="","",IF($F23="ADA",$J23,"")) | AC23: =IF($F23="","",IF($F23="GAM",$J23,"")) | AD23: =IF($F23="","",IF($F23="TRO",$J23,""))
A24: 22 | B24: 2116 | C24: =IF($B24="","",VLOOKUP($B24,'Class. Personale'!$B:$I,2,)) -> PEZZUTO | D24: =IF($B24="","",VLOOKUP($B24,'Class. Personale'!$B:$I,3,)) -> NICOLO' | E24: =CONCATENATE(C24,D24) -> PEZZUTONICOLO' | F24: =IF($B24="","",VLOOKUP($B24,'Class. Personale'!$B:$I,5,)) -> RAM | G24: =IF($B24="","",VLOOKUP($B24,'Class. Personale'!$B:$I,6,)) -> AB | H24: =IF($B24="","",VLOOKUP($B24,'Class. Personale'!$B:$I,7,)) -> IV | I24: 8.25 | K24: 979 | L24: =IF($G24="","",IF($G24="AB",$J24,"")) -> 0 | M24: =IF($G24="","",IF($G24="VF",$J24,"")) | N24: =IF($G24="","",IF($G24="VL",$J24,"")) | O24: =IF($G24="","",IF($G24="VV",$J24,"")) | P24: =IF($G24="","",IF($G24="CAS",$J24,"")) | Q24: =IF($G24="","",IF($G24="SAN",$J24,"")) | R24: =IF($F24="","",IF($F24="DCO",$J24,"")) | S24: =IF($G24="","",IF($G24="ICG",$J24,"")) | T24: =IF($F24="","",IF($F24="BOT",$J24,"")) | U24: =IF($F24="","",IF($F24="DEA",$J24,"")) | V24: =IF($F24="","",IF($F24="DON",$J24,"")) | W24: =IF($F24="","",IF($F24="MAR",$J24,"")) | X24: =IF($F24="","",IF($F24="RAM",$J24,"")) -> 0 | Y24: =IF($F24="","",IF($F24="RIC",$J24,"")) | Z24: =IF($F24="","",IF($F24="RMA",$J24,"")) | AA24: =IF($F24="","",IF($F24="VID",$J24,"")) | AB24: =IF($F24="","",IF($F24="ADA",$J24,"")) | AC24: =IF($F24="","",IF($F24="GAM",$J24,"")) | AD24: =IF($F24="","",IF($F24="TRO",$J24,""))
A25: 23 | B25: 2031 | C25: =IF($B25="","",VLOOKUP($B25,'Class. Personale'!$B:$I,2,)) -> ZANETTI | D25: =IF($B25="","",VLOOKUP($B25,'Class. Personale'!$B:$I,3,)) -> TOMMASO | E25: =CONCATENATE(C25,D25) -> ZANETTITOMMASO | F25: =IF($B25="","",VLOOKUP($B25,'Class. Personale'!$B:$I,5,)) -> DON | G25: VV | H25: =IF($B25="","",VLOOKUP($B25,'Class. Personale'!$B:$I,7,)) -> IV | I25: 8.28 | K25: 978 | L25: =IF($G25="","",IF($G25="AB",$J25,"")) | M25: =IF($G25="","",IF($G25="VF",$J25,"")) | N25: =IF($G25="","",IF($G25="VL",$J25,"")) | O25: =IF($G25="","",IF($G25="VV",$J25,"")) -> 0 | P25: =IF($G25="","",IF($G25="CAS",$J25,"")) | Q25: =IF($G25="","",IF($G25="SAN",$J25,"")) | R25: =IF($F25="","",IF($F25="DCO",$J25,"")) | S25: =IF($G25="","",IF($G25="ICG",$J25,"")) | T25: =IF($F25="","",IF($F25="BOT",$J25,"")) | U25: =IF($F25="","",IF($F25="DEA",$J25,"")) | V25: =IF($F25="","",IF($F25="DON",$J25,"")) -> 0 | W25: =IF($F25="","",IF($F25="MAR",$J25,"")) | X25: =IF($F25="","",IF($F25="RAM",$J25,"")) | Y25: =IF($F25="","",IF($F25="RIC",$J25,"")) | Z25: =IF($F25="","",IF($F25="RMA",$J25,"")) | AA25: =IF($F25="","",IF($F25="VID",$J25,"")) | AB25: =IF($F25="","",IF($F25="ADA",$J25,"")) | AC25: =IF($F25="","",IF($F25="GAM",$J25,"")) | AD25: =IF($F25="","",IF($F25="TRO",$J25,""))
A26: 24 | B26: 2073 | C26: =IF($B26="","",VLOOKUP($B26,'Class. Personale'!$B:$I,2,)) -> TESSARIN | D26: =IF($B26="","",VLOOKUP($B26,'Class. Personale'!$B:$I,3,)) -> GOIELE | E26: =CONCATENATE(C26,D26) -> TESSARINGOIELE | F26: =IF($B26="","",VLOOKUP($B26,'Class. Personale'!$B:$I,5,)) -> SAN | G26: =IF($B26="","",VLOOKUP($B26,'Class. Personale'!$B:$I,6,)) -> SAN | H26: =IF($B26="","",VLOOKUP($B26,'Class. Personale'!$B:$I,7,)) -> IV | I26: 8.28 | K26: 977 | L26: =IF($G26="","",IF($G26="AB",$J26,"")) | M26: =IF($G26="","",IF($G26="VF",$J26,"")) | N26: =IF($G26="","",IF($G26="VL",$J26,"")) | O26: =IF($G26="","",IF($G26="VV",$J26,"")) | P26: =IF($G26="","",IF($G26="CAS",$J26,"")) | Q26: =IF($G26="","",IF($G26="SAN",$J26,"")) -> 0 | R26: =IF($F26="","",IF($F26="DCO",$J26,"")) | S26: =IF($G26="","",IF($G26="ICG",$J26,"")) | T26: =IF($F26="","",IF($F26="BOT",$J26,"")) | U26: =IF($F26="","",IF($F26="DEA",$J26,"")) | V26: =IF($F26="","",IF($F26="DON",$J26,"")) | W26: =IF($F26="","",IF($F26="MAR",$J26,"")) | X26: =IF($F26="","",IF($F26="RAM",$J26,"")) | Y26: =IF($F26="","",IF($F26="RIC",$J26,"")) | Z26: =IF($F26="","",IF($F26="RMA",$J26,"")) | AA26: =IF($F26="","",IF($F26="VID",$J26,"")) | AB26: =IF($F26="","",IF($F26="ADA",$J26,"")) | AC26: =IF($F26="","",IF($F26="GAM",$J26,"")) | AD26: =IF($F26="","",IF($F26="TRO",$J26,""))
A27: 25 | B27: 2013 | C27: =IF($B27="","",VLOOKUP($B27,'Class. Personale'!$B:$I,2,)) -> SALA | D27: =IF($B27="","",VLOOKUP($B27,'Class. Personale'!$B:$I,3,)) -> ALESSANDRO | E27: =CONCATENATE(C27,D27) -> SALAALESSANDRO | F27: =IF($B27="","",VLOOKUP($B27,'Class. Personale'!$B:$I,5,)) -> DCO | G27: =IF($B27="","",VLOOKUP($B27,'Class. Personale'!$B:$I,6,)) -> DCO | H27: =IF($B27="","",VLOOKUP($B27,'Class. Personale'!$B:$I,7,)) -> IV | I27: 8.3 | K27: 976 | L27: =IF($G27="","",IF($G27="AB",$J27,"")) | M27: =IF($G27="","",IF($G27="VF",$J27,"")) | N27: =IF($G27="","",IF($G27="VL",$J27,"")) | O27: =IF($G27="","",IF($G27="VV",$J27,"")) | P27: =IF($G27="","",IF($G27="CAS",$J27,"")) | Q27: =IF($G27="","",IF($G27="SAN",$J27,"")) | R27: =IF($F27="","",IF($F27="DCO",$J27,"")) -> 0 | S27: =IF($G27="","",IF($G27="ICG",$J27,"")) | T27: =IF($F27="","",IF($F27="BOT",$J27,"")) | U27: =IF($F27="","",IF($F27="DEA",$J27,"")) | V27: =IF($F27="","",IF($F27="DON",$J27,"")) | W27: =IF($F27="","",IF($F27="MAR",$J27,"")) | X27: =IF($F27="","",IF($F27="RAM",$J27,"")) | Y27: =IF($F27="","",IF($F27="RIC",$J27,"")) | Z27: =IF($F27="","",IF($F27="RMA",$J27,"")) | AA27: =IF($F27="","",IF($F27="VID",$J27,"")) | AB27: =IF($F27="","",IF($F27="ADA",$J27,"")) | AC27: =IF($F27="","",IF($F27="GAM",$J27,"")) | AD27: =IF($F27="","",IF($F27="TRO",$J27,""))
A28: 26 | B28: 2051 | C28: =IF($B28="","",VLOOKUP($B28,'Class. Personale'!$B:$I,2,)) -> PEDALA' | D28: =IF($B28="","",VLOOKUP($B28,'Class. Personale'!$B:$I,3,)) -> FRANCESCO | E28: =CONCATENATE(C28,D28) -> PEDALA'FRANCESCO | F28: =IF($B28="","",VLOOKUP($B28,'Class. Personale'!$B:$I,5,)) -> RMA | G28: =IF($B28="","",VLOOKUP($B28,'Class. Personale'!$B:$I,6,)) -> VV | H28: =IF($B28="","",VLOOKUP($B28,'Class. Personale'!$B:$I,7,)) -> IV | I28: 8.3 | K28: 975 | L28: =IF($G28="","",IF($G28="AB",$J28,"")) | M28: =IF($G28="","",IF($G28="VF",$J28,"")) | N28: =IF($G28="","",IF($G28="VL",$J28,"")) | O28: =IF($G28="","",IF($G28="VV",$J28,"")) -> 0 | P28: =IF($G28="","",IF($G28="CAS",$J28,"")) | Q28: =IF($G28="","",IF($G28="SAN",$J28,"")) | R28: =IF($F28="","",IF($F28="DCO",$J28,"")) | S28: =IF($G28="","",IF($G28="ICG",$J28,"")) | T28: =IF($F28="","",IF($F28="BOT",$J28,"")) | U28: =IF($F28="","",IF($F28="DEA",$J28,"")) | V28: =IF($F28="","",IF($F28="DON",$J28,"")) | W28: =IF($F28="","",IF($F28="MAR",$J28,"")) | X28: =IF($F28="","",IF($F28="RAM",$J28,"")) | Y28: =IF($F28="","",IF($F28="RIC",$J28,"")) | Z28: =IF($F28="","",IF($F28="RMA",$J28,"")) -> 0 | AA28: =IF($F28="","",IF($F28="VID",$J28,"")) | AB28: =IF($F28="","",IF($F28="ADA",$J28,"")) | AC28: =IF($F28="","",IF($F28="GAM",$J28,"")) | AD28: =IF($F28="","",IF($F28="TRO",$J28,""))
A29: 27 | B29: 2089 | C29: =IF($B29="","",VLOOKUP($B29,'Class. Personale'!$B:$I,2,)) -> KONUS | D29: =IF($B29="","",VLOOKUP($B29,'Class. Personale'!$B:$I,3,)) -> ALI | E29: =CONCATENATE(C29,D29) -> KONUSALI | F29: =IF($B29="","",VLOOKUP($B29,'Class. Personale'!$B:$I,5,)) -> VID | G29: =IF($B29="","",VLOOKUP($B29,'Class. Personale'!$B:$I,6,)) -> VF | H29: =IF($B29="","",VLOOKUP($B29,'Class. Personale'!$B:$I,7,)) -> IV | I29: 8.3 | K29: 974 | L29: =IF($G29="","",IF($G29="AB",$J29,"")) | M29: =IF($G29="","",IF($G29="VF",$J29,"")) -> 0 | N29: =IF($G29="","",IF($G29="VL",$J29,"")) | O29: =IF($G29="","",IF($G29="VV",$J29,"")) | P29: =IF($G29="","",IF($G29="CAS",$J29,"")) | Q29: =IF($G29="","",IF($G29="SAN",$J29,"")) | R29: =IF($F29="","",IF($F29="DCO",$J29,"")) | S29: =IF($G29="","",IF($G29="ICG",$J29,"")) | T29: =IF($F29="","",IF($F29="BOT",$J29,"")) | U29: =IF($F29="","",IF($F29="DEA",$J29,"")) | V29: =IF($F29="","",IF($F29="DON",$J29,"")) | W29: =IF($F29="","",IF($F29="MAR",$J29,"")) | X29: =IF($F29="","",IF($F29="RAM",$J29,"")) | Y29: =IF($F29="","",IF($F29="RIC",$J29,"")) | Z29: =IF($F29="","",IF($F29="RMA",$J29,"")) | AA29: =IF($F29="","",IF($F29="VID",$J29,"")) -> 0 | AB29: =IF($F29="","",IF($F29="ADA",$J29,"")) | AC29: =IF($F29="","",IF($F29="GAM",$J29,"")) | AD29: =IF($F29="","",IF($F29="TRO",$J29,""))
A30: 28 | B30: 2067 | C30: =IF($B30="","",VLOOKUP($B30,'Class. Personale'!$B:$I,2,)) -> GE | D30: =IF($B30="","",VLOOKUP($B30,'Class. Personale'!$B:$I,3,)) -> FEDERICO | E30: =CONCATENATE(C30,D30) -> GEFEDERICO | F30: =IF($B30="","",VLOOKUP($B30,'Class. Personale'!$B:$I,5,)) -> RIC | G30: =IF($B30="","",VLOOKUP($B30,'Class. Personale'!$B:$I,6,)) -> VF | H30: =IF($B30="","",VLOOKUP($B30,'Class. Personale'!$B:$I,7,)) -> IV | I30: 8.32 | K30: 973 | L30: =IF($G30="","",IF($G30="AB",$J30,"")) | M30: =IF($G30="","",IF($G30="VF",$J30,"")) -> 0 | N30: =IF($G30="","",IF($G30="VL",$J30,"")) | O30: =IF($G30="","",IF($G30="VV",$J30,"")) | P30: =IF($G30="","",IF($G30="CAS",$J30,"")) | Q30: =IF($G30="","",IF($G30="SAN",$J30,"")) | R30: =IF($F30="","",IF($F30="DCO",$J30,"")) | S30: =IF($G30="","",IF($G30="ICG",$J30,"")) | T30: =IF($F30="","",IF($F30="BOT",$J30,"")) | U30: =IF($F30="","",IF($F30="DEA",$J30,"")) | V30: =IF($F30="","",IF($F30="DON",$J30,"")) | W30: =IF($F30="","",IF($F30="MAR",$J30,"")) | X30: =IF($F30="","",IF($F30="RAM",$J30,"")) | Y30: =IF($F30="","",IF($F30="RIC",$J30,"")) -> 0 | Z30: =IF($F30="","",IF($F30="RMA",$J30,"")) | AA30: =IF($F30="","",IF($F30="VID",$J30,"")) | AB30: =IF($F30="","",IF($F30="ADA",$J30,"")) | AC30: =IF($F30="","",IF($F30="GAM",$J30,"")) | AD30: =IF($F30="","",IF($F30="TRO",$J30,""))
A31: 29 | B31: 2134 | C31: =IF($B31="","",VLOOKUP($B31,'Class. Personale'!$B:$I,2,)) -> AQUILETTA | D31: =IF($B31="","",VLOOKUP($B31,'Class. Personale'!$B:$I,3,)) -> MATTIA | E31: =CONCATENATE(C31,D31) -> AQUILETTAMATTIA | F31: =IF($B31="","",VLOOKUP($B31,'Class. Personale'!$B:$I,5,)) -> RAM | G31: =IF($B31="","",VLOOKUP($B31,'Class. Personale'!$B:$I,6,)) -> AB | H31: =IF($B31="","",VLOOKUP($B31,'Class. Personale'!$B:$I,7,)) -> IV | I31: 8.36 | K31: 972 | L31: =IF($G31="","",IF($G31="AB",$J31,"")) -> 0 | M31: =IF($G31="","",IF($G31="VF",$J31,"")) | N31: =IF($G31="","",IF($G31="VL",$J31,"")) | O31: =IF($G31="","",IF($G31="VV",$J31,"")) | P31: =IF($G31="","",IF($G31="CAS",$J31,"")) | Q31: =IF($G31="","",IF($G31="SAN",$J31,"")) | R31: =IF($F31="","",IF($F31="DCO",$J31,"")) | S31: =IF($G31="","",IF($G31="ICG",$J31,"")) | T31: =IF($F31="","",IF($F31="BOT",$J31,"")) | U31: =IF($F31="","",IF($F31="DEA",$J31,"")) | V31: =IF($F31="","",IF($F31="DON",$J31,"")) | W31: =IF($F31="","",IF($F31="MAR",$J31,"")) | X31: =IF($F31="","",IF($F31="RAM",$J31,"")) -> 0 | Y31: =IF($F31="","",IF($F31="RIC",$J31,"")) | Z31: =IF($F31="","",IF($F31="RMA",$J31,"")) | AA31: =IF($F31="","",IF($F31="VID",$J31,"")) | AB31: =IF($F31="","",IF($F31="ADA",$J31,"")) | AC31: =IF($F31="","",IF($F31="GAM",$J31,"")) | AD31: =IF($F31="","",IF($F31="TRO",$J31,""))
A32: 30 | B32: 2050 | C32: =IF($B32="","",VLOOKUP($B32,'Class. Personale'!$B:$I,2,)) -> PALMIERI | D32: =IF($B32="","",VLOOKUP($B32,'Class. Personale'!$B:$I,3,)) -> LUCA MARIA | E32: =CONCATENATE(C32,D32) -> PALMIERILUCA MARIA | F32: =IF($B32="","",VLOOKUP($B32,'Class. Personale'!$B:$I,5,)) -> RMA | G32: =IF($B32="","",VLOOKUP($B32,'Class. Personale'!$B:$I,6,)) -> VV | H32: =IF($B32="","",VLOOKUP($B32,'Class. Personale'!$B:$I,7,)) -> IV | I32: 8.39 | K32: 971 | L32: =IF($G32="","",IF($G32="AB",$J32,"")) | M32: =IF($G32="","",IF($G32="VF",$J32,"")) | N32: =IF($G32="","",IF($G32="VL",$J32,"")) | O32: =IF($G32="","",IF($G32="VV",$J32,"")) -> 0 | P32: =IF($G32="","",IF($G32="CAS",$J32,"")) | Q32: =IF($G32="","",IF($G32="SAN",$J32,"")) | R32: =IF($F32="","",IF($F32="DCO",$J32,"")) | S32: =IF($G32="","",IF($G32="ICG",$J32,"")) | T32: =IF($F32="","",IF($F32="BOT",$J32,"")) | U32: =IF($F32="","",IF($F32="DEA",$J32,"")) | V32: =IF($F32="","",IF($F32="DON",$J32,"")) | W32: =IF($F32="","",IF($F32="MAR",$J32,"")) | X32: =IF($F32="","",IF($F32="RAM",$J32,"")) | Y32: =IF($F32="","",IF($F32="RIC",$J32,"")) | Z32: =IF($F32="","",IF($F32="RMA",$J32,"")) -> 0 | AA32: =IF($F32="","",IF($F32="VID",$J32,"")) | AB32: =IF($F32="","",IF($F32="ADA",$J32,"")) | AC32: =IF($F32="","",IF($F32="GAM",$J32,"")) | AD32: =IF($F32="","",IF($F32="TRO",$J32,""))
A33: 31 | B33: 2086 | C33: =IF($B33="","",VLOOKUP($B33,'Class. Personale'!$B:$I,2,)) -> BULLARI | D33: =IF($B33="","",VLOOKUP($B33,'Class. Personale'!$B:$I,3,)) -> KLEVIS | E33: =CONCATENATE(C33,D33) -> BULLARIKLEVIS | F33: =IF($B33="","",VLOOKUP($B33,'Class. Personale'!$B:$I,5,)) -> VID | G33: =IF($B33="","",VLOOKUP($B33,'Class. Personale'!$B:$I,6,)) -> VF | H33: =IF($B33="","",VLOOKUP($B33,'Class. Personale'!$B:$I,7,)) -> IV | I33: 8.41 | K33: 970 | L33: =IF($G33="","",IF($G33="AB",$J33,"")) | M33: =IF($G33="","",IF($G33="VF",$J33,"")) -> 0 | N33: =IF($G33="","",IF($G33="VL",$J33,"")) | O33: =IF($G33="","",IF($G33="VV",$J33,"")) | P33: =IF($G33="","",IF($G33="CAS",$J33,"")) | Q33: =IF($G33="","",IF($G33="SAN",$J33,"")) | R33: =IF($F33="","",IF($F33="DCO",$J33,"")) | S33: =IF($G33="","",IF($G33="ICG",$J33,"")) | T33: =IF($F33="","",IF($F33="BOT",$J33,"")) | U33: =IF($F33="","",IF($F33="DEA",$J33,"")) | V33: =IF($F33="","",IF($F33="DON",$J33,"")) | W33: =IF($F33="","",IF($F33="MAR",$J33,"")) | X33: =IF($F33="","",IF($F33="RAM",$J33,"")) | Y33: =IF($F33="","",IF($F33="RIC",$J33,"")) | Z33: =IF($F33="","",IF($F33="RMA",$J33,"")) | AA33: =IF($F33="","",IF($F33="VID",$J33,"")) -> 0 | AB33: =IF($F33="","",IF($F33="ADA",$J33,"")) | AC33: =IF($F33="","",IF($F33="GAM",$J33,"")) | AD33: =IF($F33="","",IF($F33="TRO",$J33,""))
A34: 32 | B34: 2028 | C34: =IF($B34="","",VLOOKUP($B34,'Class. Personale'!$B:$I,2,)) -> FERRARESI | D34: =IF($B34="","",VLOOKUP($B34,'Class. Personale'!$B:$I,3,)) -> AMEDEO | E34: =CONCATENATE(C34,D34) -> FERRARESIAMEDEO | F34: =IF($B34="","",VLOOKUP($B34,'Class. Personale'!$B:$I,5,)) -> DON | G34: =IF($B34="","",VLOOKUP($B34,'Class. Personale'!$B:$I,6,)) -> VV | H34: =IF($B34="","",VLOOKUP($B34,'Class. Personale'!$B:$I,7,)) -> IV | I34: 8.41 | K34: 969
A35: 33 | B35: 2019 | C35: =IF($B35="","",VLOOKUP($B35,'Class. Personale'!$B:$I,2,)) -> GHELFI | D35: =IF($B35="","",VLOOKUP($B35,'Class. Personale'!$B:$I,3,)) -> TOMMASO | E35: =CONCATENATE(C35,D35) -> GHELFITOMMASO | F35: =IF($B35="","",VLOOKUP($B35,'Class. Personale'!$B:$I,5,)) -> GAM | G35: =IF($B35="","",VLOOKUP($B35,'Class. Personale'!$B:$I,6,)) -> ICG | H35: =IF($B35="","",VLOOKUP($B35,'Class. Personale'!$B:$I,7,)) -> IV | I35: 8.43 | K35: 968
A36: 34 | B36: 2065 | C36: =IF($B36="","",VLOOKUP($B36,'Class. Personale'!$B:$I,2,)) -> VASSORI | D36: =IF($B36="","",VLOOKUP($B36,'Class. Personale'!$B:$I,3,)) -> GIORGIO | E36: =CONCATENATE(C36,D36) -> VASSORIGIORGIO | F36: =IF($B36="","",VLOOKUP($B36,'Class. Personale'!$B:$I,5,)) -> RIC | G36: =IF($B36="","",VLOOKUP($B36,'Class. Personale'!$B:$I,6,)) -> VF | H36: =IF($B36="","",VLOOKUP($B36,'Class. Personale'!$B:$I,7,)) -> IV | I36: 8.45 | K36: 967
A37: 35 | B37: 2035 | C37: =IF($B37="","",VLOOKUP($B37,'Class. Personale'!$B:$I,2,)) -> LABIANCA | D37: =IF($B37="","",VLOOKUP($B37,'Class. Personale'!$B:$I,3,)) -> TOMMASO | E37: =CONCATENATE(C37,D37) -> LABIANCATOMMASO | F37: =IF($B37="","",VLOOKUP($B37,'Class. Personale'!$B:$I,5,)) -> DON | G37: =IF($B37="","",VLOOKUP($B37,'Class. Personale'!$B:$I,6,)) -> VV | H37: =IF($B37="","",VLOOKUP($B37,'Class. Personale'!$B:$I,7,)) -> IV | I37: 8.53 | K37: 966
A38: 36 | B38: 2023 | C38: =IF($B38="","",VLOOKUP($B38,'Class. Personale'!$B:$I,2,)) -> CARMINATI | D38: =IF($B38="","",VLOOKUP($B38,'Class. Personale'!$B:$I,3,)) -> NOAH | E38: =CONCATENATE(C38,D38) -> CARMINATINOAH | F38: =IF($B38="","",VLOOKUP($B38,'Class. Personale'!$B:$I,5,)) -> TRO | G38: =IF($B38="","",VLOOKUP($B38,'Class. Personale'!$B:$I,6,)) -> ICG | H38: =IF($B38="","",VLOOKUP($B38,'Class. Personale'!$B:$I,7,)) -> IV | I38: 8.54 | K38: 965
A39: 37 | B39: 2131 | C39: =IF($B39="","",VLOOKUP($B39,'Class. Personale'!$B:$I,2,)) -> SALA | D39: =IF($B39="","",VLOOKUP($B39,'Class. Personale'!$B:$I,3,)) -> LORENZO MATTIA | E39: =CONCATENATE(C39,D39) -> SALALORENZO MATTIA | F39: =IF($B39="","",VLOOKUP($B39,'Class. Personale'!$B:$I,5,)) -> RAM | G39: =IF($B39="","",VLOOKUP($B39,'Class. Personale'!$B:$I,6,)) -> AB | H39: =IF($B39="","",VLOOKUP($B39,'Class. Personale'!$B:$I,7,)) -> IV | I39: 8.6 | K39: 964
A40: 38 | B40: 2069 | C40: =IF($B40="","",VLOOKUP($B40,'Class. Personale'!$B:$I,2,)) -> LORO | D40: =IF($B40="","",VLOOKUP($B40,'Class. Personale'!$B:$I,3,)) -> ALESSIO | E40: =CONCATENATE(C40,D40) -> LOROALESSIO | F40: =IF($B40="","",VLOOKUP($B40,'Class. Personale'!$B:$I,5,)) -> RIC | G40: =IF($B40="","",VLOOKUP($B40,'Class. Personale'!$B:$I,6,)) -> VF | H40: =IF($B40="","",VLOOKUP($B40,'Class. Personale'!$B:$I,7,)) -> IV | I40: 8.6 | K40: 963
A41: 39 | B41: 2091 | C41: =IF($B41="","",VLOOKUP($B41,'Class. Personale'!$B:$I,2,)) -> COKU | D41: =IF($B41="","",VLOOKUP($B41,'Class. Personale'!$B:$I,3,)) -> CHRISTIAN | E41: =CONCATENATE(C41,D41) -> COKUCHRISTIAN | F41: =IF($B41="","",VLOOKUP($B41,'Class. Personale'!$B:$I,5,)) -> VID | G41: =IF($B41="","",VLOOKUP($B41,'Class. Personale'!$B:$I,6,)) -> VF | H41: =IF($B41="","",VLOOKUP($B41,'Class. Personale'!$B:$I,7,)) -> IV | I41: 8.63 | K41: 962
A42: 40 | B42: 2038 | C42: =IF($B42="","",VLOOKUP($B42,'Class. Personale'!$B:$I,2,)) -> BENZONI | D42: =IF($B42="","",VLOOKUP($B42,'Class. Personale'!$B:$I,3,)) -> PIER LUCA | E42: =CONCATENATE(C42,D42) -> BENZONIPIER LUCA | F42: =IF($B42="","",VLOOKUP($B42,'Class. Personale'!$B:$I,5,)) -> MAR | G42: =IF($B42="","",VLOOKUP($B42,'Class. Personale'!$B:$I,6,)) -> VV | H42: =IF($B42="","",VLOOKUP($B42,'Class. Personale'!$B:$I,7,)) -> IV | I42: 8.64 | K42: 961
A43: 41 | B43: 2012 | C43: =IF($B43="","",VLOOKUP($B43,'Class. Personale'!$B:$I,2,)) -> PORTERA | D43: =IF($B43="","",VLOOKUP($B43,'Class. Personale'!$B:$I,3,)) -> ALESSANDRO | E43: =CONCATENATE(C43,D43) -> PORTERAALESSANDRO | F43: =IF($B43="","",VLOOKUP($B43,'Class. Personale'!$B:$I,5,)) -> DEA | G43: =IF($B43="","",VLOOKUP($B43,'Class. Personale'!$B:$I,6,)) -> LIB | H43: =IF($B43="","",VLOOKUP($B43,'Class. Personale'!$B:$I,7,)) -> IV | I43: 8.67 | K43: 960
A44: 42 | B44: 2066 | C44: =IF($B44="","",VLOOKUP($B44,'Class. Personale'!$B:$I,2,)) -> BALDI | D44: =IF($B44="","",VLOOKUP($B44,'Class. Personale'!$B:$I,3,)) -> GABRIELE | E44: =CONCATENATE(C44,D44) -> BALDI GABRIELE | F44: =IF($B44="","",VLOOKUP($B44,'Class. Personale'!$B:$I,5,)) -> RIC | G44: =IF($B44="","",VLOOKUP($B44,'Class. Personale'!$B:$I,6,)) -> VF | H44: =IF($B44="","",VLOOKUP($B44,'Class. Personale'!$B:$I,7,)) -> IV | I44: 8.69 | K44: 959
A45: 43 | B45: 2141 | C45: =IF($B45="","",VLOOKUP($B45,'Class. Personale'!$B:$I,2,)) -> ATIENZA | D45: =IF($B45="","",VLOOKUP($B45,'Class. Personale'!$B:$I,3,)) -> ALVINSE | E45: =CONCATENATE(C45,D45) -> ATIENZAALVINSE | F45: =IF($B45="","",VLOOKUP($B45,'Class. Personale'!$B:$I,5,)) -> RMA | G45: =IF($B45="","",VLOOKUP($B45,'Class. Personale'!$B:$I,6,)) -> VV | H45: =IF($B45="","",VLOOKUP($B45,'Class. Personale'!$B:$I,7,)) -> IV | I45: 8.69 | K45: 958
... A69: 67 | B69: 2001 | C69: =IF($B69="","",VLOOKUP($B69,'Class. Personale'!$B:$I,2,)) -> ABDELWAHED | D69: =IF($B69="","",VLOOKUP($B69,'Class. Personale'!$B:$I,3,)) -> MOHAMED | E69: =CONCATENATE(C69,D69) -> ABDELWAHEDMOHAMED | F69: =IF($B69="","",VLOOKUP($B69,'Class. Personale'!$B:$I,5,)) -> DEA | G69: =IF($B69="","",VLOOKUP($B69,'Class. Personale'!$B:$I,6,)) -> LIB | H69: =IF($B69="","",VLOOKUP($B69,'Class. Personale'!$B:$I,7,)) -> IV | I69: 9.5 | K69: 934
A70: 68 | B70: 2063 | C70: =IF($B70="","",VLOOKUP($B70,'Class. Personale'!$B:$I,2,)) -> LATTANZIO | D70: =IF($B70="","",VLOOKUP($B70,'Class. Personale'!$B:$I,3,)) -> MATTIA | E70: =CONCATENATE(C70,D70) -> LATTANZIOMATTIA | F70: =IF($B70="","",VLOOKUP($B70,'Class. Personale'!$B:$I,5,)) -> RIC | G70: VF | H70: =IF($B70="","",VLOOKUP($B70,'Class. Personale'!$B:$I,7,)) -> IV | I70: 9.54 | K70: 933
A71: 69 | B71: 2126 | C71: =IF($B71="","",VLOOKUP($B71,'Class. Personale'!$B:$I,2,)) -> BOULES | D71: =IF($B71="","",VLOOKUP($B71,'Class. Personale'!$B:$I,3,)) -> GIOVANNI | E71: =CONCATENATE(C71,D71) -> BOULESGIOVANNI | F71: =IF($B71="","",VLOOKUP($B71,'Class. Personale'!$B:$I,5,)) -> RAM | G71: =IF($B71="","",VLOOKUP($B71,'Class. Personale'!$B:$I,6,)) -> AB | H71: =IF($B71="","",VLOOKUP($B71,'Class. Personale'!$B:$I,7,)) -> IV | I71: 9.59 | K71: 932
A72: 70 | B72: 2027 | C72: =IF($B72="","",VLOOKUP($B72,'Class. Personale'!$B:$I,2,)) -> CHIERICO | D72: =IF($B72="","",VLOOKUP($B72,'Class. Personale'!$B:$I,3,)) -> ACHILLE | E72: =CONCATENATE(C72,D72) -> CHIERICOACHILLE | F72: =IF($B72="","",VLOOKUP($B72,'Class. Personale'!$B:$I,5,)) -> DON | G72: =IF($B72="","",VLOOKUP($B72,'Class. Personale'!$B:$I,6,)) -> VV | H72: =IF($B72="","",VLOOKUP($B72,'Class. Personale'!$B:$I,7,)) -> IV | I72: 9.6 | K72: 931
A73: 71 | B73: 2039 | C73: =IF($B73="","",VLOOKUP($B73,'Class. Personale'!$B:$I,2,)) -> MORETA VALDEZ | D73: =IF($B73="","",VLOOKUP($B73,'Class. Personale'!$B:$I,3,)) -> SEBASTIAN | E73: =CONCATENATE(C73,D73) -> MORETA VALDEZSEBASTIAN | F73: =IF($B73="","",VLOOKUP($B73,'Class. Personale'!$B:$I,5,)) -> MAR | G73: =IF($B73="","",VLOOKUP($B73,'Class. Personale'!$B:$I,6,)) -> VV | H73: =IF($B73="","",VLOOKUP($B73,'Class. Personale'!$B:$I,7,)) -> IV | I73: 9.7 | K73: 930
A74: 72 | B74: 2053 | C74: =IF($B74="","",VLOOKUP($B74,'Class. Personale'!$B:$I,2,)) -> DE LUCA | D74: =IF($B74="","",VLOOKUP($B74,'Class. Personale'!$B:$I,3,)) -> THOMAS | E74: =CONCATENATE(C74,D74) -> DE LUCATHOMAS | F74: =IF($B74="","",VLOOKUP($B74,'Class. Personale'!$B:$I,5,)) -> RMA | G74: =IF($B74="","",VLOOKUP($B74,'Class. Personale'!$B:$I,6,)) -> VV | H74: =IF($B74="","",VLOOKUP($B74,'Class. Personale'!$B:$I,7,)) -> IV | I74: 9.75 | K74: 929
A75: 73 | B75: 2061 | C75: =IF($B75="","",VLOOKUP($B75,'Class. Personale'!$B:$I,2,)) -> EL MARHOUMI | D75: =IF($B75="","",VLOOKUP($B75,'Class. Personale'!$B:$I,3,)) -> RIYAD | E75: =CONCATENATE(C75,D75) -> EL MARHOUMIRIYAD | F75: =IF($B75="","",VLOOKUP($B75,'Class. Personale'!$B:$I,5,)) -> RIC | G75: =IF($B75="","",VLOOKUP($B75,'Class. Personale'!$B:$I,6,)) -> VF | H75: =IF($B75="","",VLOOKUP($B75,'Class. Personale'!$B:$I,7,)) -> IV | I75: 9.78 | K75: 928
A76: 74 | B76: 2062 | C76: =IF($B76="","",VLOOKUP($B76,'Class. Personale'!$B:$I,2,)) -> IONITA | D76: =IF($B76="","",VLOOKUP($B76,'Class. Personale'!$B:$I,3,)) -> DAVID ANDREI | E76: =CONCATENATE(C76,D76) -> IONITADAVID ANDREI | F76: =IF($B76="","",VLOOKUP($B76,'Class. Personale'!$B:$I,5,)) -> RIC | G76: =IF($B76="","",VLOOKUP($B76,'Class. Personale'!$B:$I,6,)) -> VF | H76: =IF($B76="","",VLOOKUP($B76,'Class. Personale'!$B:$I,7,)) -> IV | I76: 9.83 | K76: 927
A77: 75 | B77: 2072 | C77: =IF($B77="","",VLOOKUP($B77,'Class. Personale'!$B:$I,2,)) -> PRIOLA | D77: =IF($B77="","",VLOOKUP($B77,'Class. Personale'!$B:$I,3,)) -> FRANCESCO | E77: =CONCATENATE(C77,D77) -> PRIOLAFRANCESCO | F77: =IF($B77="","",VLOOKUP($B77,'Class. Personale'!$B:$I,5,)) -> SAN | G77: =IF($B77="","",VLOOKUP($B77,'Class. Personale'!$B:$I,6,)) -> SAN | H77: =IF($B77="","",VLOOKUP($B77,'Class. Personale'!$B:$I,7,)) -> IV | I77: 9.84 | K77: 926
A78: 76 | B78: 2119 | C78: =IF($B78="","",VLOOKUP($B78,'Class. Personale'!$B:$I,2,)) -> CATTANEO | D78: =IF($B78="","",VLOOKUP($B78,'Class. Personale'!$B:$I,3,)) -> ADAM | E78: =CONCATENATE(C78,D78) -> CATTANEOADAM | F78: =IF($B78="","",VLOOKUP($B78,'Class. Personale'!$B:$I,5,)) -> RAM | G78: =IF($B78="","",VLOOKUP($B78,'Class. Personale'!$B:$I,6,)) -> AB | H78: =IF($B78="","",VLOOKUP($B78,'Class. Personale'!$B:$I,7,)) -> IV | I78: 9.91 | K78: 925
A79: 77 | B79: 2016 | C79: =IF($B79="","",VLOOKUP($B79,'Class. Personale'!$B:$I,2,)) -> BODO | D79: =IF($B79="","",VLOOKUP($B79,'Class. Personale'!$B:$I,3,)) -> GABRIELE | E79: =CONCATENATE(C79,D79) -> BODOGABRIELE | F79: =IF($B79="","",VLOOKUP($B79,'Class. Personale'!$B:$I,5,)) -> DCO | G79: =IF($B79="","",VLOOKUP($B79,'Class. Personale'!$B:$I,6,)) -> DCO | H79: =IF($B79="","",VLOOKUP($B79,'Class. Personale'!$B:$I,7,)) -> IV | I79: 9.96 | K79: 924
A80: 78 | B80: 2010 | C80: =IF($B80="","",VLOOKUP($B80,'Class. Personale'!$B:$I,2,)) -> COLAMBAGE | D80: =IF($B80="","",VLOOKUP($B80,'Class. Personale'!$B:$I,3,)) -> JEVON | E80: =CONCATENATE(C80,D80) -> COLAMBAGEJEVON | F80: =IF($B80="","",VLOOKUP($B80,'Class. Personale'!$B:$I,5,)) -> DEA | G80: =IF($B80="","",VLOOKUP($B80,'Class. Personale'!$B:$I,6,)) -> LIB | H80: =IF($B80="","",VLOOKUP($B80,'Class. Personale'!$B:$I,7,)) -> IV | I80: 9.98 | K80: 923
A81: 79 | B81: 2133 | C81: =IF($B81="","",VLOOKUP($B81,'Class. Personale'!$B:$I,2,)) -> MERLI | D81: =IF($B81="","",VLOOKUP($B81,'Class. Personale'!$B:$I,3,)) -> LORENZO | E81: =CONCATENATE(C81,D81) -> MERLILORENZO | F81: =IF($B81="","",VLOOKUP($B81,'Class. Personale'!$B:$I,5,)) -> RAM | G81: =IF($B81="","",VLOOKUP($B81,'Class. Personale'!$B:$I,6,)) -> AB | H81: =IF($B81="","",VLOOKUP($B81,'Class. Personale'!$B:$I,7,)) -> IV | I81: 10 | K81: 922
A82: 80 | B82: 2093 | C82: =IF($B82="","",VLOOKUP($B82,'Class. Personale'!$B:$I,2,)) -> IBRAHIM | D82: =IF($B82="","",VLOOKUP($B82,'Class. Personale'!$B:$I,3,)) -> MARWAN | E82: =CONCATENATE(C82,D82) -> IBRAHIMMARWAN | F82: =IF($B82="","",VLOOKUP($B82,'Class. Personale'!$B:$I,5,)) -> VID | G82: =IF($B82="","",VLOOKUP($B82,'Class. Personale'!$B:$I,6,)) -> VF | H82: =IF($B82="","",VLOOKUP($B82,'Class. Personale'!$B:$I,7,)) -> IV | I82: 10.01 | K82: 921
... A90: 88 | B90: 2002 | C90: =IF($B90="","",VLOOKUP($B90,'Class. Personale'!$B:$I,2,)) -> CONTRERAS VILLA | D90: =IF($B90="","",VLOOKUP($B90,'Class. Personale'!$B:$I,3,)) -> MAYLOTH | E90: =CONCATENATE(C90,D90) -> CONTRERAS VILLAMAYLOTH | F90: =IF($B90="","",VLOOKUP($B90,'Class. Personale'!$B:$I,5,)) -> DEA | G90: =IF($B90="","",VLOOKUP($B90,'Class. Personale'!$B:$I,6,)) -> LIB | H90: =IF($B90="","",VLOOKUP($B90,'Class. Personale'!$B:$I,7,)) -> IV | I90: 11.58 | K90: 913
A91: 89 | C91: AHMED | D91: YASSIEN | E91: =CONCATENATE(C91,D91) -> AHMEDYASSIEN | F91: BOT | G91: LIB | H91: IV | I91: 12.65 | K91: 912
A92: 90 | B92: 2040 | C92: =IF($B92="","",VLOOKUP($B92,'Class. Personale'!$B:$I,2,)) -> PIZZINO | D92: =IF($B92="","",VLOOKUP($B92,'Class. Personale'!$B:$I,3,)) -> FRANCESCO TINO | E92: =CONCATENATE(C92,D92) -> PIZZINOFRANCESCO TINO | F92: =IF($B92="","",VLOOKUP($B92,'Class. Personale'!$B:$I,5,)) -> MAR | G92: =IF($B92="","",VLOOKUP($B92,'Class. Personale'!$B:$I,6,)) -> VV | H92: =IF($B92="","",VLOOKUP($B92,'Class. Personale'!$B:$I,7,)) -> IV | I92: 12.9 | K92: 911
A93: 91 | C93: =IF($B93="","",VLOOKUP($B93,'Class. Personale'!$B:$I,2,)) | D93: =IF($B93="","",VLOOKUP($B93,'Class. Personale'!$B:$I,3,)) | E93: =CONCATENATE(C93,D93) | F93: =IF($B93="","",VLOOKUP($B93,'Class. Personale'!$B:$I,5,)) | G93: =IF($B93="","",VLOOKUP($B93,'Class. Personale'!$B:$I,6,)) | H93: =IF($B93="","",VLOOKUP($B93,'Class. Personale'!$B:$I,7,)) | K93: 910
A94: 92 | C94: =IF($B94="","",VLOOKUP($B94,'Class. Personale'!$B:$I,2,)) | D94: =IF($B94="","",VLOOKUP($B94,'Class. Personale'!$B:$I,3,)) | E94: =CONCATENATE(C94,D94) | F94: =IF($B94="","",VLOOKUP($B94,'Class. Personale'!$B:$I,5,)) | G94: =IF($B94="","",VLOOKUP($B94,'Class. Personale'!$B:$I,6,)) | H94: =IF($B94="","",VLOOKUP($B94,'Class. Personale'!$B:$I,7,)) | K94: 909
A95: 93 | C95: =IF($B95="","",VLOOKUP($B95,'Class. Personale'!$B:$I,2,)) | D95: =IF($B95="","",VLOOKUP($B95,'Class. Personale'!$B:$I,3,)) | E95: =CONCATENATE(C95,D95) | F95: =IF($B95="","",VLOOKUP($B95,'Class. Personale'!$B:$I,5,)) | G95: =IF($B95="","",VLOOKUP($B95,'Class. Personale'!$B:$I,6,)) | H95: =IF($B95="","",VLOOKUP($B95,'Class. Personale'!$B:$I,7,)) | K95: 908
A96: 94 | C96: =IF($B96="","",VLOOKUP($B96,'Class. Personale'!$B:$I,2,)) | D96: =IF($B96="","",VLOOKUP($B96,'Class. Personale'!$B:$I,3,)) | E96: =CONCATENATE(C96,D96) | F96: =IF($B96="","",VLOOKUP($B96,'Class. Personale'!$B:$I,5,)) | G96: =IF($B96="","",VLOOKUP($B96,'Class. Personale'!$B:$I,6,)) | H96: =IF($B96="","",VLOOKUP($B96,'Class. Personale'!$B:$I,7,)) | K96: 907
A97: 95 | C97: =IF($B97="","",VLOOKUP($B97,'Class. Personale'!$B:$I,2,)) | D97: =IF($B97="","",VLOOKUP($B97,'Class. Personale'!$B:$I,3,)) | E97: =CONCATENATE(C97,D97) | F97: =IF($B97="","",VLOOKUP($B97,'Class. Personale'!$B:$I,5,)) | G97: =IF($B97="","",VLOOKUP($B97,'Class. Personale'!$B:$I,6,)) | H97: =IF($B97="","",VLOOKUP($B97,'Class. Personale'!$B:$I,7,)) | K97: 906
A98: 96 | C98: =IF($B98="","",VLOOKUP($B98,'Class. Personale'!$B:$I,2,)) | D98: =IF($B98="","",VLOOKUP($B98,'Class. Personale'!$B:$I,3,)) | E98: =CONCATENATE(C98,D98) | F98: =IF($B98="","",VLOOKUP($B98,'Class. Personale'!$B:$I,5,)) | G98: =IF($B98="","",VLOOKUP($B98,'Class. Personale'!$B:$I,6,)) | H98: =IF($B98="","",VLOOKUP($B98,'Class. Personale'!$B:$I,7,)) | K98: 905
A99: 97 | C99: =IF($B99="","",VLOOKUP($B99,'Class. Personale'!$B:$I,2,)) | D99: =IF($B99="","",VLOOKUP($B99,'Class. Personale'!$B:$I,3,)) | E99: =CONCATENATE(C99,D99) | F99: =IF($B99="","",VLOOKUP($B99,'Class. Personale'!$B:$I,5,)) | G99: =IF($B99="","",VLOOKUP($B99,'Class. Personale'!$B:$I,6,)) | H99: =IF($B99="","",VLOOKUP($B99,'Class. Personale'!$B:$I,7,)) | K99: 904
A100: 98 | C100: =IF($B100="","",VLOOKUP($B100,'Class. Personale'!$B:$I,2,)) | D100: =IF($B100="","",VLOOKUP($B100,'Class. Personale'!$B:$I,3,)) | E100: =CONCATENATE(C100,D100) | F100: =IF($B100="","",VLOOKUP($B100,'Class. Personale'!$B:$I,5,)) | G100: =IF($B100="","",VLOOKUP($B100,'Class. Personale'!$B:$I,6,)) | H100: =IF($B100="","",VLOOKUP($B100,'Class. Personale'!$B:$I,7,)) | K100: 903
A101: 99 | C101: =IF($B101="","",VLOOKUP($B101,'Class. Personale'!$B:$I,2,)) | D101: =IF($B101="","",VLOOKUP($B101,'Class. Personale'!$B:$I,3,)) | E101: =CONCATENATE(C101,D101) | F101: =IF($B101="","",VLOOKUP($B101,'Class. Personale'!$B:$I,5,)) | G101: =IF($B101="","",VLOOKUP($B101,'Class. Personale'!$B:$I,6,)) | H101: =IF($B101="","",VLOOKUP($B101,'Class. Personale'!$B:$I,7,)) | K101: 902
A102: 100 | C102: =IF($B102="","",VLOOKUP($B102,'Class. Personale'!$B:$I,2,)) | D102: =IF($B102="","",VLOOKUP($B102,'Class. Personale'!$B:$I,3,)) | E102: =CONCATENATE(C102,D102) | F102: =IF($B102="","",VLOOKUP($B102,'Class. Personale'!$B:$I,5,)) | G102: =IF($B102="","",VLOOKUP($B102,'Class. Personale'!$B:$I,6,)) | H102: =IF($B102="","",VLOOKUP($B102,'Class. Personale'!$B:$I,7,)) | K102: 901
A103: 101 | C103: =IF($B103="","",VLOOKUP($B103,'Class. Personale'!$B:$I,2,)) | D103: =IF($B103="","",VLOOKUP($B103,'Class. Personale'!$B:$I,3,)) | E103: =CONCATENATE(C103,D103) | F103: =IF($B103="","",VLOOKUP($B103,'Class. Personale'!$B:$I,5,)) | G103: =IF($B103="","",VLOOKUP($B103,'Class. Personale'!$B:$I,6,)) | H103: =IF($B103="","",VLOOKUP($B103,'Class. Personale'!$B:$I,7,)) | K103: 900
A104: 102 | C104: =IF($B104="","",VLOOKUP($B104,'Class. Personale'!$B:$I,2,)) | D104: =IF($B104="","",VLOOKUP($B104,'Class. Personale'!$B:$I,3,)) | E104: =CONCATENATE(C104,D104) | F104: =IF($B104="","",VLOOKUP($B104,'Class. Personale'!$B:$I,5,)) | G104: =IF($B104="","",VLOOKUP($B104,'Class. Personale'!$B:$I,6,)) | H104: =IF($B104="","",VLOOKUP($B104,'Class. Personale'!$B:$I,7,)) | K104: 899
... A152: 150 | C152: =IF($B152="","",VLOOKUP($B152,'Class. Personale'!$B:$I,2,)) | D152: =IF($B152="","",VLOOKUP($B152,'Class. Personale'!$B:$I,3,)) | E152: =CONCATENATE(C152,D152) | F152: =IF($B152="","",VLOOKUP($B152,'Class. Personale'!$B:$I,5,)) | G152: =IF($B152="","",VLOOKUP($B152,'Class. Personale'!$B:$I,6,)) | H152: =IF($B152="","",VLOOKUP($B152,'Class. Personale'!$B:$I,7,)) | K152: 851
K153: 850
K154: 849
K155: 848
K156: 847
K157: 846
K158: 845
K159: 844
K160: 843
K161: 842
K162: 841
K163: 840
K164: 839
... K1002: 1

Sheet 50 V Femm_
L1: =SUM(L3:L52) -> 8 | M1: =SUM(M3:M52) -> 17 | N1: =SUM(N3:N52) -> 0 | O1: =SUM(O3:O52) -> 32 | P1: =SUM(P3:P52) -> 0 | Q1: =SUM(Q3:Q52) -> 0 | R1: =SUM(R3:R52) -> 21 | S1: =SUM(S3:S52) -> 0 | ... AD1: =SUM(AD3:AD52) -> 0
B2: PETT | C2: COGNOME | D2: NOME | E2: COGNOME NOME | F2: SCUOLA | G2: CIRC. | H2: CLASSE | I2: TEMPO | J2: P.TI | K2: P.ti Personali | L2: AB | M2: VF | N2: VL | O2: VV | P2: CAS | Q2: SAN | R2: DCO | S2: ICG | T2: BOT | U2: DEA | V2: DON | W2: MAR | X2: RAM | Y2: RIC | Z2: RMA | AA2: VID | AB2: ADA | AC2: GAM | AD2: TRO
A3: 1 | B3: 3052 | C3: =IF($B3="","",VLOOKUP($B3,'Class. Personale'!$B:$I,2,)) -> RUSSO | D3: =IF($B3="","",VLOOKUP($B3,'Class. Personale'!$B:$I,3,)) -> CELESTE | E3: =CONCATENATE(C3,D3) -> RUSSOCELESTE | F3: =IF($B3="","",VLOOKUP($B3,'Class. Personale'!$B:$I,5,)) -> VID | G3: =IF($B3="","",VLOOKUP($B3,'Class. Personale'!$B:$I,6,)) -> VF | H3: =IF($B3="","",VLOOKUP($B3,'Class. Personale'!$B:$I,7,)) -> V | I3: 7.79 | J3: 12 | K3: 1000 | L3: =IF($G3="","",IF($G3="AB",$J3,"")) | M3: =IF($G3="","",IF($G3="VF",$J3,"")) -> 12 | N3: =IF($G3="","",IF($G3="VL",$J3,"")) | O3: =IF($G3="","",IF($G3="VV",$J3,"")) | P3: =IF($G3="","",IF($G3="CAS",$J3,"")) | Q3: =IF($G3="","",IF($G3="SAN",$J3,"")) | R3: =IF($F3="","",IF($F3="DCO",$J3,"")) | S3: =IF($G3="","",IF($G3="ICG",$J3,"")) | T3: =IF($F3="","",IF($F3="BOT",$J3,"")) | U3: =IF($F3="","",IF($F3="DEA",$J3,"")) | V3: =IF($F3="","",IF($F3="DON",$J3,"")) | W3: =IF($F3="","",IF($F3="MAR",$J3,"")) | X3: =IF($F3="","",IF($F3="RAM",$J3,"")) | Y3: =IF($F3="","",IF($F3="RIC",$J3,"")) | Z3: =IF($F3="","",IF($F3="RMA",$J3,"")) | AA3: =IF($F3="","",IF($F3="VID",$J3,"")) -> 12 | AB3: =IF($F3="","",IF($F3="ADA",$J3,"")) | AC3: =IF($F3="","",IF($F3="GAM",$J3,"")) | AD3: =IF($F3="","",IF($F3="TRO",$J3,""))
A4: 2 | B4: 3012 | C4: =IF($B4="","",VLOOKUP($B4,'Class. Personale'!$B:$I,2,)) -> RODOLFO MASERA RIO | D4: =IF($B4="","",VLOOKUP($B4,'Class. Personale'!$B:$I,3,)) -> LUA | E4: =CONCATENATE(C4,D4) -> RODOLFO MASERA RIOLUA | F4: =IF($B4="","",VLOOKUP($B4,'Class. Personale'!$B:$I,5,)) -> DCO | G4: DCO | H4: =IF($B4="","",VLOOKUP($B4,'Class. Personale'!$B:$I,7,)) -> V | I4: 7.8 | J4: 11 | K4: 999 | L4: =IF($G4="","",IF($G4="AB",$J4,"")) | M4: =IF($G4="","",IF($G4="VF",$J4,"")) | N4: =IF($G4="","",IF($G4="VL",$J4,"")) | O4: =IF($G4="","",IF($G4="VV",$J4,"")) | P4: =IF($G4="","",IF($G4="CAS",$J4,"")) | Q4: =IF($G4="","",IF($G4="SAN",$J4,"")) | R4: =IF($F4="","",IF($F4="DCO",$J4,"")) -> 11 | S4: =IF($G4="","",IF($G4="ICG",$J4,"")) | T4: =IF($F4="","",IF($F4="BOT",$J4,"")) | U4: =IF($F4="","",IF($F4="DEA",$J4,"")) | V4: =IF($F4="","",IF($F4="DON",$J4,"")) | W4: =IF($F4="","",IF($F4="MAR",$J4,"")) | X4: =IF($F4="","",IF($F4="RAM",$J4,"")) | Y4: =IF($F4="","",IF($F4="RIC",$J4,"")) | Z4: =IF($F4="","",IF($F4="RMA",$J4,"")) | AA4: =IF($F4="","",IF($F4="VID",$J4,"")) | AB4: =IF($F4="","",IF($F4="ADA",$J4,"")) | AC4: =IF($F4="","",IF($F4="GAM",$J4,"")) | AD4: =IF($F4="","",IF($F4="TRO",$J4,""))
A5: 3 | B5: 3010 | C5: =IF($B5="","",VLOOKUP($B5,'Class. Personale'!$B:$I,2,)) -> CORNETTI | D5: =IF($B5="","",VLOOKUP($B5,'Class. Personale'!$B:$I,3,)) -> ELEONORA | E5: =CONCATENATE(C5,D5) -> CORNETTI ELEONORA | F5: =IF($B5="","",VLOOKUP($B5,'Class. Personale'!$B:$I,5,)) -> DCO | G5: =IF($B5="","",VLOOKUP($B5,'Class. Personale'!$B:$I,6,)) -> DCO | H5: =IF($B5="","",VLOOKUP($B5,'Class. Personale'!$B:$I,7,)) -> V | I5: 7.85 | J5: 10 | K5: 998 | L5: =IF($G5="","",IF($G5="AB",$J5,"")) | M5: =IF($G5="","",IF($G5="VF",$J5,"")) | N5: =IF($G5="","",IF($G5="VL",$J5,"")) | O5: =IF($G5="","",IF($G5="VV",$J5,"")) | P5: =IF($G5="","",IF($G5="CAS",$J5,"")) | Q5: =IF($G5="","",IF($G5="SAN",$J5,"")) | R5: =IF($F5="","",IF($F5="DCO",$J5,"")) -> 10 | S5: =IF($G5="","",IF($G5="ICG",$J5,"")) | T5: =IF($F5="","",IF($F5="BOT",$J5,"")) | U5: =IF($F5="","",IF($F5="DEA",$J5,"")) | V5: =IF($F5="","",IF($F5="DON",$J5,"")) | W5: =IF($F5="","",IF($F5="MAR",$J5,"")) | X5: =IF($F5="","",IF($F5="RAM",$J5,"")) | Y5: =IF($F5="","",IF($F5="RIC",$J5,"")) | Z5: =IF($F5="","",IF($F5="RMA",$J5,"")) | AA5: =IF($F5="","",IF($F5="VID",$J5,"")) | AB5: =IF($F5="","",IF($F5="ADA",$J5,"")) | AC5: =IF($F5="","",IF($F5="GAM",$J5,"")) | AD5: =IF($F5="","",IF($F5="TRO",$J5,""))
A6: 4 | B6: 3031 | C6: =IF($B6="","",VLOOKUP($B6,'Class. Personale'!$B:$I,2,)) -> PURPURA | D6: =IF($B6="","",VLOOKUP($B6,'Class. Personale'!$B:$I,3,)) -> FRANCESCA | E6: =CONCATENATE(C6,D6) -> PURPURAFRANCESCA | F6: =IF($B6="","",VLOOKUP($B6,'Class. Personale'!$B:$I,5,)) -> DON | G6: =IF($B6="","",VLOOKUP($B6,'Class. Personale'!$B:$I,6,)) -> VV | H6: =IF($B6="","",VLOOKUP($B6,'Class. Personale'!$B:$I,7,)) -> V | I6: 7.9 | J6: 9 | K6: 997 | L6: =IF($G6="","",IF($G6="AB",$J6,"")) | M6: =IF($G6="","",IF($G6="VF",$J6,"")) | N6: =IF($G6="","",IF($G6="VL",$J6,"")) | O6: =IF($G6="","",IF($G6="VV",$J6,"")) -> 9 | P6: =IF($G6="","",IF($G6="CAS",$J6,"")) | Q6: =IF($G6="","",IF($G6="SAN",$J6,"")) | R6: =IF($F6="","",IF($F6="DCO",$J6,"")) | S6: =IF($G6="","",IF($G6="ICG",$J6,"")) | T6: =IF($F6="","",IF($F6="BOT",$J6,"")) | U6: =IF($F6="","",IF($F6="DEA",$J6,"")) | V6: =IF($F6="","",IF($F6="DON",$J6,"")) -> 9 | W6: =IF($F6="","",IF($F6="MAR",$J6,"")) | X6: =IF($F6="","",IF($F6="RAM",$J6,"")) | Y6: =IF($F6="","",IF($F6="RIC",$J6,"")) | Z6: =IF($F6="","",IF($F6="RMA",$J6,"")) | AA6: =IF($F6="","",IF($F6="VID",$J6,"")) | AB6: =IF($F6="","",IF($F6="ADA",$J6,"")) | AC6: =IF($F6="","",IF($F6="GAM",$J6,"")) | AD6: =IF($F6="","",IF($F6="TRO",$J6,""))
A7: 5 | B7: 3065 | C7: =IF($B7="","",VLOOKUP($B7,'Class. Personale'!$B:$I,2,)) -> VIOLA | D7: =IF($B7="","",VLOOKUP($B7,'Class. Personale'!$B:$I,3,)) -> SOFIA | E7: =CONCATENATE(C7,D7) -> VIOLASOFIA | F7: =IF($B7="","",VLOOKUP($B7,'Class. Personale'!$B:$I,5,)) -> RAM | G7: =IF($B7="","",VLOOKUP($B7,'Class. Personale'!$B:$I,6,)) -> AB | H7: =IF($B7="","",VLOOKUP($B7,'Class. Personale'!$B:$I,7,)) -> V | I7: 7.92 | J7: 8 | K7: 996 | L7: =IF($G7="","",IF($G7="AB",$J7,"")) -> 8 | M7: =IF($G7="","",IF($G7="VF",$J7,"")) | N7: =IF($G7="","",IF($G7="VL",$J7,"")) | O7: =IF($G7="","",IF($G7="VV",$J7,"")) | P7: =IF($G7="","",IF($G7="CAS",$J7,"")) | Q7: =IF($G7="","",IF($G7="SAN",$J7,"")) | R7: =IF($F7="","",IF($F7="DCO",$J7,"")) | S7: =IF($G7="","",IF($G7="ICG",$J7,"")) | T7: =IF($F7="","",IF($F7="BOT",$J7,"")) | U7: =IF($F7="","",IF($F7="DEA",$J7,"")) | V7: =IF($F7="","",IF($F7="DON",$J7,"")) | W7: =IF($F7="","",IF($F7="MAR",$J7,"")) | X7: =IF($F7="","",IF($F7="RAM",$J7,"")) -> 8 | Y7: =IF($F7="","",IF($F7="RIC",$J7,"")) | Z7: =IF($F7="","",IF($F7="RMA",$J7,"")) | AA7: =IF($F7="","",IF($F7="VID",$J7,"")) | AB7: =IF($F7="","",IF($F7="ADA",$J7,"")) | AC7: =IF($F7="","",IF($F7="GAM",$J7,"")) | AD7: =IF($F7="","",IF($F7="TRO",$J7,""))
A8: 6 | B8: 3022 | C8: =IF($B8="","",VLOOKUP($B8,'Class. Personale'!$B:$I,2,)) -> CAPELLI | D8: =IF($B8="","",VLOOKUP($B8,'Class. Personale'!$B:$I,3,)) -> GAIA | E8: =CONCATENATE(C8,D8) -> CAPELLIGAIA | F8: =IF($B8="","",VLOOKUP($B8,'Class. Personale'!$B:$I,5,)) -> DON | G8: =IF($B8="","",VLOOKUP($B8,'Class. Personale'!$B:$I,6,)) -> VV | H8: =IF($B8="","",VLOOKUP($B8,'Class. Personale'!$B:$I,7,)) -> V | I8: 8.01 | J8: 7 | K8: 995 | L8: =IF($G8="","",IF($G8="AB",$J8,"")) | M8: =IF($G8="","",IF($G8="VF",$J8,"")) | N8: =IF($G8="","",IF($G8="VL",$J8,"")) | O8: =IF($G8="","",IF($G8="VV",$J8,"")) -> 7 | P8: =IF($G8="","",IF($G8="CAS",$J8,"")) | Q8: =IF($G8="","",IF($G8="SAN",$J8,"")) | R8: =IF($F8="","",IF($F8="DCO",$J8,"")) | S8: =IF($G8="","",IF($G8="ICG",$J8,"")) | T8: =IF($F8="","",IF($F8="BOT",$J8,"")) | U8: =IF($F8="","",IF($F8="DEA",$J8,"")) | V8: =IF($F8="","",IF($F8="DON",$J8,"")) -> 7 | W8: =IF($F8="","",IF($F8="MAR",$J8,"")) | X8: =IF($F8="","",IF($F8="RAM",$J8,"")) | Y8: =IF($F8="","",IF($F8="RIC",$J8,"")) | Z8: =IF($F8="","",IF($F8="RMA",$J8,"")) | AA8: =IF($F8="","",IF($F8="VID",$J8,"")) | AB8: =IF($F8="","",IF($F8="ADA",$J8,"")) | AC8: =IF($F8="","",IF($F8="GAM",$J8,"")) | AD8: =IF($F8="","",IF($F8="TRO",$J8,""))
A9: 7 | B9: 3028 | C9: =IF($B9="","",VLOOKUP($B9,'Class. Personale'!$B:$I,2,)) -> BECCARIA | D9: =IF($B9="","",VLOOKUP($B9,'Class. Personale'!$B:$I,3,)) -> ZOE | E9: =CONCATENATE(C9,D9) -> BECCARIAZOE | F9: =IF($B9="","",VLOOKUP($B9,'Class. Personale'!$B:$I,5,)) -> DON | G9: VV | H9: =IF($B9="","",VLOOKUP($B9,'Class. Personale'!$B:$I,7,)) -> V | I9: 8.1 | J9: 6 | K9: 994 | L9: =IF($G9="","",IF($G9="AB",$J9,"")) | M9: =IF($G9="","",IF($G9="VF",$J9,"")) | N9: =IF($G9="","",IF($G9="VL",$J9,"")) | O9: =IF($G9="","",IF($G9="VV",$J9,"")) -> 6 | P9: =IF($G9="","",IF($G9="CAS",$J9,"")) | Q9: =IF($G9="","",IF($G9="SAN",$J9,"")) | R9: =IF($F9="","",IF($F9="DCO",$J9,"")) | S9: =IF($G9="","",IF($G9="ICG",$J9,"")) | T9: =IF($F9="","",IF($F9="BOT",$J9,"")) | U9: =IF($F9="","",IF($F9="DEA",$J9,"")) | V9: =IF($F9="","",IF($F9="DON",$J9,"")) -> 6 | W9: =IF($F9="","",IF($F9="MAR",$J9,"")) | X9: =IF($F9="","",IF($F9="RAM",$J9,"")) | Y9: =IF($F9="","",IF($F9="RIC",$J9,"")) | Z9: =IF($F9="","",IF($F9="RMA",$J9,"")) | AA9: =IF($F9="","",IF($F9="VID",$J9,"")) | AB9: =IF($F9="","",IF($F9="ADA",$J9,"")) | AC9: =IF($F9="","",IF($F9="GAM",$J9,"")) | AD9: =IF($F9="","",IF($F9="TRO",$J9,""))
A10: 8 | B10: 3051 | C10: =IF($B10="","",VLOOKUP($B10,'Class. Personale'!$B:$I,2,)) -> PALUMBO | D10: =IF($B10="","",VLOOKUP($B10,'Class. Personale'!$B:$I,3,)) -> SVEVA | E10: =CONCATENATE(C10,D10) -> PALUMBOSVEVA | F10: =IF($B10="","",VLOOKUP($B10,'Class. Personale'!$B:$I,5,)) -> VID | G10: =IF($B10="","",VLOOKUP($B10,'Class. Personale'!$B:$I,6,)) -> VF | H10: =IF($B10="","",VLOOKUP($B10,'Class. Personale'!$B:$I,7,)) -> V | I10: 8.18 | J10: 5 | K10: 993 | L10: =IF($G10="","",IF($G10="AB",$J10,"")) | M10: =IF($G10="","",IF($G10="VF",$J10,"")) -> 5 | N10: =IF($G10="","",IF($G10="VL",$J10,"")) | O10: =IF($G10="","",IF($G10="VV",$J10,"")) | P10: =IF($G10="","",IF($G10="CAS",$J10,"")) | Q10: =IF($G10="","",IF($G10="SAN",$J10,"")) | R10: =IF($F10="","",IF($F10="DCO",$J10,"")) | S10: =IF($G10="","",IF($G10="ICG",$J10,"")) | T10: =IF($F10="","",IF($F10="BOT",$J10,"")) | U10: =IF($F10="","",IF($F10="DEA",$J10,"")) | V10: =IF($F10="","",IF($F10="DON",$J10,"")) | W10: =IF($F10="","",IF($F10="MAR",$J10,"")) | X10: =IF($F10="","",IF($F10="RAM",$J10,"")) | Y10: =IF($F10="","",IF($F10="RIC",$J10,"")) | Z10: =IF($F10="","",IF($F10="RMA",$J10,"")) | AA10: =IF($F10="","",IF($F10="VID",$J10,"")) -> 5 | AB10: =IF($F10="","",IF($F10="ADA",$J10,"")) | AC10: =IF($F10="","",IF($F10="GAM",$J10,"")) | AD10: =IF($F10="","",IF($F10="TRO",$J10,""))
A11: 9 | B11: 3029 | C11: =IF($B11="","",VLOOKUP($B11,'Class. Personale'!$B:$I,2,)) -> BOCCA | D11: =IF($B11="","",VLOOKUP($B11,'Class. Personale'!$B:$I,3,)) -> MARIA ALICE | E11: =CONCATENATE(C11,D11) -> BOCCAMARIA ALICE | F11: =IF($B11="","",VLOOKUP($B11,'Class. Personale'!$B:$I,5,)) -> DON | G11: =IF($B11="","",VLOOKUP($B11,'Class. Personale'!$B:$I,6,)) -> VV | H11: =IF($B11="","",VLOOKUP($B11,'Class. Personale'!$B:$I,7,)) -> V | I11: 8.19 | J11: 4 | K11: 992 | L11: =IF($G11="","",IF($G11="AB",$J11,"")) | M11: =IF($G11="","",IF($G11="VF",$J11,"")) | N11: =IF($G11="","",IF($G11="VL",$J11,"")) | O11: =IF($G11="","",IF($G11="VV",$J11,"")) -> 4 | P11: =IF($G11="","",IF($G11="CAS",$J11,"")) | Q11: =IF($G11="","",IF($G11="SAN",$J11,"")) | R11: =IF($F11="","",IF($F11="DCO",$J11,"")) | S11: =IF($G11="","",IF($G11="ICG",$J11,"")) | T11: =IF($F11="","",IF($F11="BOT",$J11,"")) | U11: =IF($F11="","",IF($F11="DEA",$J11,"")) | V11: =IF($F11="","",IF($F11="DON",$J11,"")) -> 4 | W11: =IF($F11="","",IF($F11="MAR",$J11,"")) | X11: =IF($F11="","",IF($F11="RAM",$J11,"")) | Y11: =IF($F11="","",IF($F11="RIC",$J11,"")) | Z11: =IF($F11="","",IF($F11="RMA",$J11,"")) | AA11: =IF($F11="","",IF($F11="VID",$J11,"")) | AB11: =IF($F11="","",IF($F11="ADA",$J11,"")) | AC11: =IF($F11="","",IF($F11="GAM",$J11,"")) | AD11: =IF($F11="","",IF($F11="TRO",$J11,""))
A12: 10 | C12: DRAGHI | D12: GIULIA | E12: =CONCATENATE(C12,D12) -> DRAGHIGIULIA | F12: DON | G12: VV | H12: V | I12: 8.24 | J12: 3 | K12: 991 | L12: =IF($G12="","",IF($G12="AB",$J12,"")) | M12: =IF($G12="","",IF($G12="VF",$J12,"")) | N12: =IF($G12="","",IF($G12="VL",$J12,"")) | O12: =IF($G12="","",IF($G12="VV",$J12,"")) -> 3 | P12: =IF($G12="","",IF($G12="CAS",$J12,"")) | Q12: =IF($G12="","",IF($G12="SAN",$J12,"")) | R12: =IF($F12="","",IF($F12="DCO",$J12,"")) | S12: =IF($G12="","",IF($G12="ICG",$J12,"")) | T12: =IF($F12="","",IF($F12="BOT",$J12,"")) | U12: =IF($F12="","",IF($F12="DEA",$J12,"")) | V12: =IF($F12="","",IF($F12="DON",$J12,"")) -> 3 | W12: =IF($F12="","",IF($F12="MAR",$J12,"")) | X12: =IF($F12="","",IF($F12="RAM",$J12,"")) | Y12: =IF($F12="","",IF($F12="RIC",$J12,"")) | Z12: =IF($F12="","",IF($F12="RMA",$J12,"")) | AA12: =IF($F12="","",IF($F12="VID",$J12,"")) | AB12: =IF($F12="","",IF($F12="ADA",$J12,"")) | AC12: =IF($F12="","",IF($F12="GAM",$J12,"")) | AD12: =IF($F12="","",IF($F12="TRO",$J12,""))
A13: 11 | B13: 3020 | C13: =IF($B13="","",VLOOKUP($B13,'Class. Personale'!$B:$I,2,)) -> SALA | D13: =IF($B13="","",VLOOKUP($B13,'Class. Personale'!$B:$I,3,)) -> AURORA | E13: =CONCATENATE(C13,D13) -> SALAAURORA | F13: =IF($B13="","",VLOOKUP($B13,'Class. Personale'!$B:$I,5,)) -> DON | G13: =IF($B13="","",VLOOKUP($B13,'Class. Personale'!$B:$I,6,)) -> VV | H13: =IF($B13="","",VLOOKUP($B13,'Class. Personale'!$B:$I,7,)) -> V | I13: 8.25 | J13: 2 | K13: 990 | L13: =IF($G13="","",IF($G13="AB",$J13,"")) | M13: =IF($G13="","",IF($G13="VF",$J13,"")) | N13: =IF($G13="","",IF($G13="VL",$J13,"")) | O13: =IF($G13="","",IF($G13="VV",$J13,"")) -> 2 | P13: =IF($G13="","",IF($G13="CAS",$J13,"")) | Q13: =IF($G13="","",IF($G13="SAN",$J13,"")) | R13: =IF($F13="","",IF($F13="DCO",$J13,"")) | S13: =IF($G13="","",IF($G13="ICG",$J13,"")) | T13: =IF($F13="","",IF($F13="BOT",$J13,"")) | U13: =IF($F13="","",IF($F13="DEA",$J13,"")) | V13: =IF($F13="","",IF($F13="DON",$J13,"")) -> 2 | W13: =IF($F13="","",IF($F13="MAR",$J13,"")) | X13: =IF($F13="","",IF($F13="RAM",$J13,"")) | Y13: =IF($F13="","",IF($F13="RIC",$J13,"")) | Z13: =IF($F13="","",IF($F13="RMA",$J13,"")) | AA13: =IF($F13="","",IF($F13="VID",$J13,"")) | AB13: =IF($F13="","",IF($F13="ADA",$J13,"")) | AC13: =IF($F13="","",IF($F13="GAM",$J13,"")) | AD13: =IF($F13="","",IF($F13="TRO",$J13,""))
A14: 12 | B14: 3026 | C14: =IF($B14="","",VLOOKUP($B14,'Class. Personale'!$B:$I,2,)) -> ZANACCO | D14: =IF($B14="","",VLOOKUP($B14,'Class. Personale'!$B:$I,3,)) -> ALICE | E14: =CONCATENATE(C14,D14) -> ZANACCOALICE | F14: =IF($B14="","",VLOOKUP($B14,'Class. Personale'!$B:$I,5,)) -> DON | G14: =IF($B14="","",VLOOKUP($B14,'Class. Personale'!$B:$I,6,)) -> VV | H14: =IF($B14="","",VLOOKUP($B14,'Class. Personale'!$B:$I,7,)) -> V | I14: 8.34 | J14: 1 | K14: 989 | L14: =IF($G14="","",IF($G14="AB",$J14,"")) | M14: =IF($G14="","",IF($G14="VF",$J14,"")) | N14: =IF($G14="","",IF($G14="VL",$J14,"")) | O14: =IF($G14="","",IF($G14="VV",$J14,"")) -> 1 | P14: =IF($G14="","",IF($G14="CAS",$J14,"")) | Q14: =IF($G14="","",IF($G14="SAN",$J14,"")) | R14: =IF($F14="","",IF($F14="DCO",$J14,"")) | S14: =IF($G14="","",IF($G14="ICG",$J14,"")) | T14: =IF($F14="","",IF($F14="BOT",$J14,"")) | U14: =IF($F14="","",IF($F14="DEA",$J14,"")) | V14: =IF($F14="","",IF($F14="DON",$J14,"")) -> 1 | W14: =IF($F14="","",IF($F14="MAR",$J14,"")) | X14: =IF($F14="","",IF($F14="RAM",$J14,"")) | Y14: =IF($F14="","",IF($F14="RIC",$J14,"")) | Z14: =IF($F14="","",IF($F14="RMA",$J14,"")) | AA14: =IF($F14="","",IF($F14="VID",$J14,"")) | AB14: =IF($F14="","",IF($F14="ADA",$J14,"")) | AC14: =IF($F14="","",IF($F14="GAM",$J14,"")) | AD14: =IF($F14="","",IF($F14="TRO",$J14,""))
A15: 13 | B15: 3002 | C15: =IF($B15="","",VLOOKUP($B15,'Class. Personale'!$B:$I,2,)) -> RIFICI | D15: =IF($B15="","",VLOOKUP($B15,'Class. Personale'!$B:$I,3,)) -> LINDA | E15: =CONCATENATE(C15,D15) -> RIFICILINDA | F15: =IF($B15="","",VLOOKUP($B15,'Class. Personale'!$B:$I,5,)) -> DEA | G15: LIB | H15: =IF($B15="","",VLOOKUP($B15,'Class. Personale'!$B:$I,7,)) -> V | I15: 8.36 | J15: 0 | K15: 988 | L15: =IF($G15="","",IF($G15="AB",$J15,"")) | M15: =IF($G15="","",IF($G15="VF",$J15,"")) | N15: =IF($G15="","",IF($G15="VL",$J15,"")) | O15: =IF($G15="","",IF($G15="VV",$J15,"")) | P15: =IF($G15="","",IF($G15="CAS",$J15,"")) | Q15: =IF($G15="","",IF($G15="SAN",$J15,"")) | R15: =IF($F15="","",IF($F15="DCO",$J15,"")) | S15: =IF($G15="","",IF($G15="ICG",$J15,"")) | T15: =IF($F15="","",IF($F15="BOT",$J15,"")) | U15: =IF($F15="","",IF($F15="DEA",$J15,"")) -> 0 | V15: =IF($F15="","",IF($F15="DON",$J15,"")) | W15: =IF($F15="","",IF($F15="MAR",$J15,"")) | X15: =IF($F15="","",IF($F15="RAM",$J15,"")) | Y15: =IF($F15="","",IF($F15="RIC",$J15,"")) | Z15: =IF($F15="","",IF($F15="RMA",$J15,"")) | AA15: =IF($F15="","",IF($F15="VID",$J15,"")) | AB15: =IF($F15="","",IF($F15="ADA",$J15,"")) | AC15: =IF($F15="","",IF($F15="GAM",$J15,"")) | AD15: =IF($F15="","",IF($F15="TRO",$J15,""))
A16: 14 | B16: 3038 | C16: =IF($B16="","",VLOOKUP($B16,'Class. Personale'!$B:$I,2,)) -> VIVANCO ESPINOZA | D16: =IF($B16="","",VLOOKUP($B16,'Class. Personale'!$B:$I,3,)) -> AMINA ISABELLA | E16: =CONCATENATE(C16,D16) -> VIVANCO ESPINOZAAMINA ISABELLA | F16: =IF($B16="","",VLOOKUP($B16,'Class. Personale'!$B:$I,5,)) -> RMA | G16: =IF($B16="","",VLOOKUP($B16,'Class. Personale'!$B:$I,6,)) -> VV | H16: =IF($B16="","",VLOOKUP($B16,'Class. Personale'!$B:$I,7,)) -> V | I16: 8.38 | K16: 987 | L16: =IF($G16="","",IF($G16="AB",$J16,"")) | M16: =IF($G16="","",IF($G16="VF",$J16,"")) | N16: =IF($G16="","",IF($G16="VL",$J16,"")) | O16: =IF($G16="","",IF($G16="VV",$J16,"")) -> 0 | P16: =IF($G16="","",IF($G16="CAS",$J16,"")) | Q16: =IF($G16="","",IF($G16="SAN",$J16,"")) | R16: =IF($F16="","",IF($F16="DCO",$J16,"")) | S16: =IF($G16="","",IF($G16="ICG",$J16,"")) | T16: =IF($F16="","",IF($F16="BOT",$J16,"")) | U16: =IF($F16="","",IF($F16="DEA",$J16,"")) | V16: =IF($F16="","",IF($F16="DON",$J16,"")) | W16: =IF($F16="","",IF($F16="MAR",$J16,"")) | X16: =IF($F16="","",IF($F16="RAM",$J16,"")) | Y16: =IF($F16="","",IF($F16="RIC",$J16,"")) | Z16: =IF($F16="","",IF($F16="RMA",$J16,"")) -> 0 | AA16: =IF($F16="","",IF($F16="VID",$J16,"")) | AB16: =IF($F16="","",IF($F16="ADA",$J16,"")) | AC16: =IF($F16="","",IF($F16="GAM",$J16,"")) | AD16: =IF($F16="","",IF($F16="TRO",$J16,""))
A17: 15 | B17: 3048 | C17: =IF($B17="","",VLOOKUP($B17,'Class. Personale'!$B:$I,2,)) -> CANNILLA | D17: =IF($B17="","",VLOOKUP($B17,'Class. Personale'!$B:$I,3,)) -> MATILDE | E17: =CONCATENATE(C17,D17) -> CANNILLA MATILDE | F17: =IF($B17="","",VLOOKUP($B17,'Class. Personale'!$B:$I,5,)) -> VID | G17: =IF($B17="","",VLOOKUP($B17,'Class. Personale'!$B:$I,6,)) -> VF | H17: =IF($B17="","",VLOOKUP($B17,'Class. Personale'!$B:$I,7,)) -> V | I17: 8.48 | K17: 986 | L17: =IF($G17="","",IF($G17="AB",$J17,"")) | M17: =IF($G17="","",IF($G17="VF",$J17,"")) -> 0 | N17: =IF($G17="","",IF($G17="VL",$J17,"")) | O17: =IF($G17="","",IF($G17="VV",$J17,"")) | P17: =IF($G17="","",IF($G17="CAS",$J17,"")) | Q17: =IF($G17="","",IF($G17="SAN",$J17,"")) | R17: =IF($F17="","",IF($F17="DCO",$J17,"")) | S17: =IF($G17="","",IF($G17="ICG",$J17,"")) | T17: =IF($F17="","",IF($F17="BOT",$J17,"")) | U17: =IF($F17="","",IF($F17="DEA",$J17,"")) | V17: =IF($F17="","",IF($F17="DON",$J17,"")) | W17: =IF($F17="","",IF($F17="MAR",$J17,"")) | X17: =IF($F17="","",IF($F17="RAM",$J17,"")) | Y17: =IF($F17="","",IF($F17="RIC",$J17,"")) | Z17: =IF($F17="","",IF($F17="RMA",$J17,"")) | AA17: =IF($F17="","",IF($F17="VID",$J17,"")) -> 0 | AB17: =IF($F17="","",IF($F17="ADA",$J17,"")) | AC17: =IF($F17="","",IF($F17="GAM",$J17,"")) | AD17: =IF($F17="","",IF($F17="TRO",$J17,""))
A18: 16 | B18: 3004 | C18: =IF($B18="","",VLOOKUP($B18,'Class. Personale'!$B:$I,2,)) -> MILANI | D18: =IF($B18="","",VLOOKUP($B18,'Class. Personale'!$B:$I,3,)) -> MARGOT MARIAM | E18: =CONCATENATE(C18,D18) -> MILANIMARGOT MARIAM | F18: =IF($B18="","",VLOOKUP($B18,'Class. Personale'!$B:$I,5,)) -> DEA | G18: =IF($B18="","",VLOOKUP($B18,'Class. Personale'!$B:$I,6,)) -> LIB | H18: =IF($B18="","",VLOOKUP($B18,'Class. Personale'!$B:$I,7,)) -> V | I18: 8.5 | K18: 985 | L18: =IF($G18="","",IF($G18="AB",$J18,"")) | M18: =IF($G18="","",IF($G18="VF",$J18,"")) | N18: =IF($G18="","",IF($G18="VL",$J18,"")) | O18: =IF($G18="","",IF($G18="VV",$J18,"")) | P18: =IF($G18="","",IF($G18="CAS",$J18,"")) | Q18: =IF($G18="","",IF($G18="SAN",$J18,"")) | R18: =IF($F18="","",IF($F18="DCO",$J18,"")) | S18: =IF($G18="","",IF($G18="ICG",$J18,"")) | T18: =IF($F18="","",IF($F18="BOT",$J18,"")) | U18: =IF($F18="","",IF($F18="DEA",$J18,"")) -> 0 | V18: =IF($F18="","",IF($F18="DON",$J18,"")) | W18: =IF($F18="","",IF($F18="MAR",$J18,"")) | X18: =IF($F18="","",IF($F18="RAM",$J18,"")) | Y18: =IF($F18="","",IF($F18="RIC",$J18,"")) | Z18: =IF($F18="","",IF($F18="RMA",$J18,"")) | AA18: =IF($F18="","",IF($F18="VID",$J18,"")) | AB18: =IF($F18="","",IF($F18="ADA",$J18,"")) | AC18: =IF($F18="","",IF($F18="GAM",$J18,"")) | AD18: =IF($F18="","",IF($F18="TRO",$J18,""))
A19: 17 | B19: 3071 | C19: =IF($B19="","",VLOOKUP($B19,'Class. Personale'!$B:$I,2,)) -> MOGA | D19: =IF($B19="","",VLOOKUP($B19,'Class. Personale'!$B:$I,3,)) -> ELISA ISABELA | E19: =CONCATENATE(C19,D19) -> MOGAELISA ISABELA | F19: =IF($B19="","",VLOOKUP($B19,'Class. Personale'!$B:$I,5,)) -> RAM | G19: =IF($B19="","",VLOOKUP($B19,'Class. Personale'!$B:$I,6,)) -> AB | H19: =IF($B19="","",VLOOKUP($B19,'Class. Personale'!$B:$I,7,)) -> V | I19: 8.53 | K19: 984 | L19: =IF($G19="","",IF($G19="AB",$J19,"")) -> 0 | M19: =IF($G19="","",IF($G19="VF",$J19,"")) | N19: =IF($G19="","",IF($G19="VL",$J19,"")) | O19: =IF($G19="","",IF($G19="VV",$J19,"")) | P19: =IF($G19="","",IF($G19="CAS",$J19,"")) | Q19: =IF($G19="","",IF($G19="SAN",$J19,"")) | R19: =IF($F19="","",IF($F19="DCO",$J19,"")) | S19: =IF($G19="","",IF($G19="ICG",$J19,"")) | T19: =IF($F19="","",IF($F19="BOT",$J19,"")) | U19: =IF($F19="","",IF($F19="DEA",$J19,"")) | V19: =IF($F19="","",IF($F19="DON",$J19,"")) | W19: =IF($F19="","",IF($F19="MAR",$J19,"")) | X19: =IF($F19="","",IF($F19="RAM",$J19,"")) -> 0 | Y19: =IF($F19="","",IF($F19="RIC",$J19,"")) | Z19: =IF($F19="","",IF($F19="RMA",$J19,"")) | AA19: =IF($F19="","",IF($F19="VID",$J19,"")) | AB19: =IF($F19="","",IF($F19="ADA",$J19,"")) | AC19: =IF($F19="","",IF($F19="GAM",$J19,"")) | AD19: =IF($F19="","",IF($F19="TRO",$J19,""))
A20: 18 | C20: FRANCHETTI | D20: CATERINA | E20: =CONCATENATE(C20,D20) -> FRANCHETTICATERINA | F20: RAM | G20: AB | H20: V | I20: 8.63 | K20: 983 | L20: =IF($G20="","",IF($G20="AB",$J20,"")) -> 0 | M20: =IF($G20="","",IF($G20="VF",$J20,"")) | N20: =IF($G20="","",IF($G20="VL",$J20,"")) | O20: =IF($G20="","",IF($G20="VV",$J20,"")) | P20: =IF($G20="","",IF($G20="CAS",$J20,"")) | Q20: =IF($G20="","",IF($G20="SAN",$J20,"")) | R20: =IF($F20="","",IF($F20="DCO",$J20,"")) | S20: =IF($G20="","",IF($G20="ICG",$J20,"")) | T20: =IF($F20="","",IF($F20="BOT",$J20,"")) | U20: =IF($F20="","",IF($F20="DEA",$J20,"")) | V20: =IF($F20="","",IF($F20="DON",$J20,"")) | W20: =IF($F20="","",IF($F20="MAR",$J20,"")) | X20: =IF($F20="","",IF($F20="RAM",$J20,"")) -> 0 | Y20: =IF($F20="","",IF($F20="RIC",$J20,"")) | Z20: =IF($F20="","",IF($F20="RMA",$J20,"")) | AA20: =IF($F20="","",IF($F20="VID",$J20,"")) | AB20: =IF($F20="","",IF($F20="ADA",$J20,"")) | AC20: =IF($F20="","",IF($F20="GAM",$J20,"")) | AD20: =IF($F20="","",IF($F20="TRO",$J20,""))
A21: 19 | B21: 3021 | C21: =IF($B21="","",VLOOKUP($B21,'Class. Personale'!$B:$I,2,)) -> TERRACCIANO | D21: =IF($B21="","",VLOOKUP($B21,'Class. Personale'!$B:$I,3,)) -> CHIARA | E21: =CONCATENATE(C21,D21) -> TERRACCIANOCHIARA | F21: =IF($B21="","",VLOOKUP($B21,'Class. Personale'!$B:$I,5,)) -> DON | G21: =IF($B21="","",VLOOKUP($B21,'Class. Personale'!$B:$I,6,)) -> VV | H21: =IF($B21="","",VLOOKUP($B21,'Class. Personale'!$B:$I,7,)) -> V | I21: 8.63 | K21: 982 | L21: =IF($G21="","",IF($G21="AB",$J21,"")) | M21: =IF($G21="","",IF($G21="VF",$J21,"")) | N21: =IF($G21="","",IF($G21="VL",$J21,"")) | O21: =IF($G21="","",IF($G21="VV",$J21,"")) -> 0 | P21: =IF($G21="","",IF($G21="CAS",$J21,"")) | Q21: =IF($G21="","",IF($G21="SAN",$J21,"")) | R21: =IF($F21="","",IF($F21="DCO",$J21,"")) | S21: =IF($G21="","",IF($G21="ICG",$J21,"")) | T21: =IF($F21="","",IF($F21="BOT",$J21,"")) | U21: =IF($F21="","",IF($F21="DEA",$J21,"")) | V21: =IF($F21="","",IF($F21="DON",$J21,"")) -> 0 | W21: =IF($F21="","",IF($F21="MAR",$J21,"")) | X21: =IF($F21="","",IF($F21="RAM",$J21,"")) | Y21: =IF($F21="","",IF($F21="RIC",$J21,"")) | Z21: =IF($F21="","",IF($F21="RMA",$J21,"")) | AA21: =IF($F21="","",IF($F21="VID",$J21,"")) | AB21: =IF($F21="","",IF($F21="ADA",$J21,"")) | AC21: =IF($F21="","",IF($F21="GAM",$J21,"")) | AD21: =IF($F21="","",IF($F21="TRO",$J21,""))
A22: 20 | B22: 3063 | C22: =IF($B22="","",VLOOKUP($B22,'Class. Personale'!$B:$I,2,)) -> LATTES STANCAMPIANO | D22: =IF($B22="","",VLOOKUP($B22,'Class. Personale'!$B:$I,3,)) -> DARIA | E22: =CONCATENATE(C22,D22) -> LATTES STANCAMPIANODARIA | F22: =IF($B22="","",VLOOKUP($B22,'Class. Personale'!$B:$I,5,)) -> RAM | G22: =IF($B22="","",VLOOKUP($B22,'Class. Personale'!$B:$I,6,)) -> AB | H22: =IF($B22="","",VLOOKUP($B22,'Class. Personale'!$B:$I,7,)) -> V | I22: 8.68 | K22: 981 | L22: =IF($G22="","",IF($G22="AB",$J22,"")) -> 0 | M22: =IF($G22="","",IF($G22="VF",$J22,"")) | N22: =IF($G22="","",IF($G22="VL",$J22,"")) | O22: =IF($G22="","",IF($G22="VV",$J22,"")) | P22: =IF($G22="","",IF($G22="CAS",$J22,"")) | Q22: =IF($G22="","",IF($G22="SAN",$J22,"")) | R22: =IF($F22="","",IF($F22="DCO",$J22,"")) | S22: =IF($G22="","",IF($G22="ICG",$J22,"")) | T22: =IF($F22="","",IF($F22="BOT",$J22,"")) | U22: =IF($F22="","",IF($F22="DEA",$J22,"")) | V22: =IF($F22="","",IF($F22="DON",$J22,"")) | W22: =IF($F22="","",IF($F22="MAR",$J22,"")) | X22: =IF($F22="","",IF($F22="RAM",$J22,"")) -> 0 | Y22: =IF($F22="","",IF($F22="RIC",$J22,"")) | Z22: =IF($F22="","",IF($F22="RMA",$J22,"")) | AA22: =IF($F22="","",IF($F22="VID",$J22,"")) | AB22: =IF($F22="","",IF($F22="ADA",$J22,"")) | AC22: =IF($F22="","",IF($F22="GAM",$J22,"")) | AD22: =IF($F22="","",IF($F22="TRO",$J22,""))
A23: 21 | B23: 3068 | C23: =IF($B23="","",VLOOKUP($B23,'Class. Personale'!$B:$I,2,)) -> GRANDE | D23: =IF($B23="","",VLOOKUP($B23,'Class. Personale'!$B:$I,3,)) -> MARIANNA | E23: =CONCATENATE(C23,D23) -> GRANDEMARIANNA | F23: =IF($B23="","",VLOOKUP($B23,'Class. Personale'!$B:$I,5,)) -> RAM | G23: =IF($B23="","",VLOOKUP($B23,'Class. Personale'!$B:$I,6,)) -> AB | H23: =IF($B23="","",VLOOKUP($B23,'Class. Personale'!$B:$I,7,)) -> V | I23: 8.69 | K23: 980 | L23: =IF($G23="","",IF($G23="AB",$J23,"")) -> 0 | M23: =IF($G23="","",IF($G23="VF",$J23,"")) | N23: =IF($G23="","",IF($G23="VL",$J23,"")) | O23: =IF($G23="","",IF($G23="VV",$J23,"")) | P23: =IF($G23="","",IF($G23="CAS",$J23,"")) | Q23: =IF($G23="","",IF($G23="SAN",$J23,"")) | R23: =IF($F23="","",IF($F23="DCO",$J23,"")) | S23: =IF($G23="","",IF($G23="ICG",$J23,"")) | T23: =IF($F23="","",IF($F23="BOT",$J23,"")) | U23: =IF($F23="","",IF($F23="DEA",$J23,"")) | V23: =IF($F23="","",IF($F23="DON",$J23,"")) | W23: =IF($F23="","",IF($F23="MAR",$J23,"")) | X23: =IF($F23="","",IF($F23="RAM",$J23,"")) -> 0 | Y23: =IF($F23="","",IF($F23="RIC",$J23,"")) | Z23: =IF($F23="","",IF($F23="RMA",$J23,"")) | AA23: =IF($F23="","",IF($F23="VID",$J23,"")) | AB23: =IF($F23="","",IF($F23="ADA",$J23,"")) | AC23: =IF($F23="","",IF($F23="GAM",$J23,"")) | AD23: =IF($F23="","",IF($F23="TRO",$J23,""))
A24: 22 | B24: 3037 | C24: =IF($B24="","",VLOOKUP($B24,'Class. Personale'!$B:$I,2,)) -> VIOLA | D24: =IF($B24="","",VLOOKUP($B24,'Class. Personale'!$B:$I,3,)) -> GIUDITTA GIULIA | E24: =CONCATENATE(C24,D24) -> VIOLAGIUDITTA GIULIA | F24: =IF($B24="","",VLOOKUP($B24,'Class. Personale'!$B:$I,5,)) -> RMA | G24: =IF($B24="","",VLOOKUP($B24,'Class. Personale'!$B:$I,6,)) -> VV | H24: =IF($B24="","",VLOOKUP($B24,'Class. Personale'!$B:$I,7,)) -> V | I24: 8.7 | K24: 979 | L24: =IF($G24="","",IF($G24="AB",$J24,"")) | M24: =IF($G24="","",IF($G24="VF",$J24,"")) | N24: =IF($G24="","",IF($G24="VL",$J24,"")) | O24: =IF($G24="","",IF($G24="VV",$J24,"")) -> 0 | P24: =IF($G24="","",IF($G24="CAS",$J24,"")) | Q24: =IF($G24="","",IF($G24="SAN",$J24,"")) | R24: =IF($F24="","",IF($F24="DCO",$J24,"")) | S24: =IF($G24="","",IF($G24="ICG",$J24,"")) | T24: =IF($F24="","",IF($F24="BOT",$J24,"")) | U24: =IF($F24="","",IF($F24="DEA",$J24,"")) | V24: =IF($F24="","",IF($F24="DON",$J24,"")) | W24: =IF($F24="","",IF($F24="MAR",$J24,"")) | X24: =IF($F24="","",IF($F24="RAM",$J24,"")) | Y24: =IF($F24="","",IF($F24="RIC",$J24,"")) | Z24: =IF($F24="","",IF($F24="RMA",$J24,"")) -> 0 | AA24: =IF($F24="","",IF($F24="VID",$J24,"")) | AB24: =IF($F24="","",IF($F24="ADA",$J24,"")) | AC24: =IF($F24="","",IF($F24="GAM",$J24,"")) | AD24: =IF($F24="","",IF($F24="TRO",$J24,""))
A25: 23 | B25: 3023 | C25: =IF($B25="","",VLOOKUP($B25,'Class. Personale'!$B:$I,2,)) -> CHIARBONELLO | D25: =IF($B25="","",VLOOKUP($B25,'Class. Personale'!$B:$I,3,)) -> MARTA | E25: =CONCATENATE(C25,D25) -> CHIARBONELLOMARTA | F25: =IF($B25="","",VLOOKUP($B25,'Class. Personale'!$B:$I,5,)) -> DON | G25: =IF($B25="","",VLOOKUP($B25,'Class. Personale'!$B:$I,6,)) -> VV | H25: =IF($B25="","",VLOOKUP($B25,'Class. Personale'!$B:$I,7,)) -> V | I25: 8.71 | K25: 978 | L25: =IF($G25="","",IF($G25="AB",$J25,"")) | M25: =IF($G25="","",IF($G25="VF",$J25,"")) | N25: =IF($G25="","",IF($G25="VL",$J25,"")) | O25: =IF($G25="","",IF($G25="VV",$J25,"")) -> 0 | P25: =IF($G25="","",IF($G25="CAS",$J25,"")) | Q25: =IF($G25="","",IF($G25="SAN",$J25,"")) | R25: =IF($F25="","",IF($F25="DCO",$J25,"")) | S25: =IF($G25="","",IF($G25="ICG",$J25,"")) | T25: =IF($F25="","",IF($F25="BOT",$J25,"")) | U25: =IF($F25="","",IF($F25="DEA",$J25,"")) | V25: =IF($F25="","",IF($F25="DON",$J25,"")) -> 0 | W25: =IF($F25="","",IF($F25="MAR",$J25,"")) | X25: =IF($F25="","",IF($F25="RAM",$J25,"")) | Y25: =IF($F25="","",IF($F25="RIC",$J25,"")) | Z25: =IF($F25="","",IF($F25="RMA",$J25,"")) | AA25: =IF($F25="","",IF($F25="VID",$J25,"")) | AB25: =IF($F25="","",IF($F25="ADA",$J25,"")) | AC25: =IF($F25="","",IF($F25="GAM",$J25,"")) | AD25: =IF($F25="","",IF($F25="TRO",$J25,""))
A26: 24 | B26: 3019 | C26: =IF($B26="","",VLOOKUP($B26,'Class. Personale'!$B:$I,2,)) -> MANDILI | D26: =IF($B26="","",VLOOKUP($B26,'Class. Personale'!$B:$I,3,)) -> GAIA | E26: =CONCATENATE(C26,D26) -> MANDILIGAIA | F26: =IF($B26="","",VLOOKUP($B26,'Class. Personale'!$B:$I,5,)) -> DON | G26: =IF($B26="","",VLOOKUP($B26,'Class. Personale'!$B:$I,6,)) -> VV | H26: =IF($B26="","",VLOOKUP($B26,'Class. Personale'!$B:$I,7,)) -> V | I26: 8.72 | K26: 977 | L26: =IF($G26="","",IF($G26="AB",$J26,"")) | M26: =IF($G26="","",IF($G26="VF",$J26,"")) | N26: =IF($G26="","",IF($G26="VL",$J26,"")) | O26: =IF($G26="","",IF($G26="VV",$J26,"")) -> 0 | P26: =IF($G26="","",IF($G26="CAS",$J26,"")) | Q26: =IF($G26="","",IF($G26="SAN",$J26,"")) | R26: =IF($F26="","",IF($F26="DCO",$J26,"")) | S26: =IF($G26="","",IF($G26="ICG",$J26,"")) | T26: =IF($F26="","",IF($F26="BOT",$J26,"")) | U26: =IF($F26="","",IF($F26="DEA",$J26,"")) | V26: =IF($F26="","",IF($F26="DON",$J26,"")) -> 0 | W26: =IF($F26="","",IF($F26="MAR",$J26,"")) | X26: =IF($F26="","",IF($F26="RAM",$J26,"")) | Y26: =IF($F26="","",IF($F26="RIC",$J26,"")) | Z26: =IF($F26="","",IF($F26="RMA",$J26,"")) | AA26: =IF($F26="","",IF($F26="VID",$J26,"")) | AB26: =IF($F26="","",IF($F26="ADA",$J26,"")) | AC26: =IF($F26="","",IF($F26="GAM",$J26,"")) | AD26: =IF($F26="","",IF($F26="TRO",$J26,""))
A27: 25 | B27: 3078 | C27: =IF($B27="","",VLOOKUP($B27,'Class. Personale'!$B:$I,2,)) -> ACOSTA RIVAS | D27: =IF($B27="","",VLOOKUP($B27,'Class. Personale'!$B:$I,3,)) -> ASHELEY ABIGAIL | E27: =CONCATENATE(C27,D27) -> ACOSTA RIVASASHELEY ABIGAIL | F27: =IF($B27="","",VLOOKUP($B27,'Class. Personale'!$B:$I,5,)) -> MAR | G27: =IF($B27="","",VLOOKUP($B27,'Class. Personale'!$B:$I,6,)) -> VV | H27: =IF($B27="","",VLOOKUP($B27,'Class. Personale'!$B:$I,7,)) -> V | I27: 8.72 | K27: 976 | L27: =IF($G27="","",IF($G27="AB",$J27,"")) | M27: =IF($G27="","",IF($G27="VF",$J27,"")) | N27: =IF($G27="","",IF($G27="VL",$J27,"")) | O27: =IF($G27="","",IF($G27="VV",$J27,"")) -> 0 | P27: =IF($G27="","",IF($G27="CAS",$J27,"")) | Q27: =IF($G27="","",IF($G27="SAN",$J27,"")) | R27: =IF($F27="","",IF($F27="DCO",$J27,"")) | S27: =IF($G27="","",IF($G27="ICG",$J27,"")) | T27: =IF($F27="","",IF($F27="BOT",$J27,"")) | U27: =IF($F27="","",IF($F27="DEA",$J27,"")) | V27: =IF($F27="","",IF($F27="DON",$J27,"")) | W27: =IF($F27="","",IF($F27="MAR",$J27,"")) -> 0 | X27: =IF($F27="","",IF($F27="RAM",$J27,"")) | Y27: =IF($F27="","",IF($F27="RIC",$J27,"")) | Z27: =IF($F27="","",IF($F27="RMA",$J27,"")) | AA27: =IF($F27="","",IF($F27="VID",$J27,"")) | AB27: =IF($F27="","",IF($F27="ADA",$J27,"")) | AC27: =IF($F27="","",IF($F27="GAM",$J27,"")) | AD27: =IF($F27="","",IF($F27="TRO",$J27,""))
A28: 26 | B28: 3050 | C28: =IF($B28="","",VLOOKUP($B28,'Class. Personale'!$B:$I,2,)) -> FRATELLI SCARLATINI | D28: =IF($B28="","",VLOOKUP($B28,'Class. Personale'!$B:$I,3,)) -> TESSA | E28: =CONCATENATE(C28,D28) -> FRATELLI SCARLATINITESSA | F28: =IF($B28="","",VLOOKUP($B28,'Class. Personale'!$B:$I,5,)) -> VID | G28: =IF($B28="","",VLOOKUP($B28,'Class. Personale'!$B:$I,6,)) -> VF | H28: =IF($B28="","",VLOOKUP($B28,'Class. Personale'!$B:$I,7,)) -> V | I28: 8.78 | K28: 975 | L28: =IF($G28="","",IF($G28="AB",$J28,"")) | M28: =IF($G28="","",IF($G28="VF",$J28,"")) -> 0 | N28: =IF($G28="","",IF($G28="VL",$J28,"")) | O28: =IF($G28="","",IF($G28="VV",$J28,"")) | P28: =IF($G28="","",IF($G28="CAS",$J28,"")) | Q28: =IF($G28="","",IF($G28="SAN",$J28,"")) | R28: =IF($F28="","",IF($F28="DCO",$J28,"")) | S28: =IF($G28="","",IF($G28="ICG",$J28,"")) | T28: =IF($F28="","",IF($F28="BOT",$J28,"")) | U28: =IF($F28="","",IF($F28="DEA",$J28,"")) | V28: =IF($F28="","",IF($F28="DON",$J28,"")) | W28: =IF($F28="","",IF($F28="MAR",$J28,"")) | X28: =IF($F28="","",IF($F28="RAM",$J28,"")) | Y28: =IF($F28="","",IF($F28="RIC",$J28,"")) | Z28: =IF($F28="","",IF($F28="RMA",$J28,"")) | AA28: =IF($F28="","",IF($F28="VID",$J28,"")) -> 0 | AB28: =IF($F28="","",IF($F28="ADA",$J28,"")) | AC28: =IF($F28="","",IF($F28="GAM",$J28,"")) | AD28: =IF($F28="","",IF($F28="TRO",$J28,""))
A29: 27 | B29: 3072 | C29: =IF($B29="","",VLOOKUP($B29,'Class. Personale'!$B:$I,2,)) -> TRUNGADI | D29: =IF($B29="","",VLOOKUP($B29,'Class. Personale'!$B:$I,3,)) -> AMELIA | E29: =CONCATENATE(C29,D29) -> TRUNGADIAMELIA | F29: =IF($B29="","",VLOOKUP($B29,'Class. Personale'!$B:$I,5,)) -> RAM | G29: =IF($B29="","",VLOOKUP($B29,'Class. Personale'!$B:$I,6,)) -> AB | H29: =IF($B29="","",VLOOKUP($B29,'Class. Personale'!$B:$I,7,)) -> V | I29: 8.8 | K29: 974 | L29: =IF($G29="","",IF($G29="AB",$J29,"")) -> 0 | M29: =IF($G29="","",IF($G29="VF",$J29,"")) | N29: =IF($G29="","",IF($G29="VL",$J29,"")) | O29: =IF($G29="","",IF($G29="VV",$J29,"")) | P29: =IF($G29="","",IF($G29="CAS",$J29,"")) | Q29: =IF($G29="","",IF($G29="SAN",$J29,"")) | R29: =IF($F29="","",IF($F29="DCO",$J29,"")) | S29: =IF($G29="","",IF($G29="ICG",$J29,"")) | T29: =IF($F29="","",IF($F29="BOT",$J29,"")) | U29: =IF($F29="","",IF($F29="DEA",$J29,"")) | V29: =IF($F29="","",IF($F29="DON",$J29,"")) | W29: =IF($F29="","",IF($F29="MAR",$J29,"")) | X29: =IF($F29="","",IF($F29="RAM",$J29,"")) -> 0 | Y29: =IF($F29="","",IF($F29="RIC",$J29,"")) | Z29: =IF($F29="","",IF($F29="RMA",$J29,"")) | AA29: =IF($F29="","",IF($F29="VID",$J29,"")) | AB29: =IF($F29="","",IF($F29="ADA",$J29,"")) | AC29: =IF($F29="","",IF($F29="GAM",$J29,"")) | AD29: =IF($F29="","",IF($F29="TRO",$J29,""))
A30: 28 | B30: 3070 | C30: =IF($B30="","",VLOOKUP($B30,'Class. Personale'!$B:$I,2,)) -> CALAMELLI | D30: =IF($B30="","",VLOOKUP($B30,'Class. Personale'!$B:$I,3,)) -> GIORGIA | E30: =CONCATENATE(C30,D30) -> CALAMELLIGIORGIA | F30: =IF($B30="","",VLOOKUP($B30,'Class. Personale'!$B:$I,5,)) -> RAM | G30: =IF($B30="","",VLOOKUP($B30,'Class. Personale'!$B:$I,6,)) -> AB | H30: =IF($B30="","",VLOOKUP($B30,'Class. Personale'!$B:$I,7,)) -> V | I30: 8.84 | K30: 973 | L30: =IF($G30="","",IF($G30="AB",$J30,"")) -> 0 | M30: =IF($G30="","",IF($G30="VF",$J30,"")) | N30: =IF($G30="","",IF($G30="VL",$J30,"")) | O30: =IF($G30="","",IF($G30="VV",$J30,"")) | P30: =IF($G30="","",IF($G30="CAS",$J30,"")) | Q30: =IF($G30="","",IF($G30="SAN",$J30,"")) | R30: =IF($F30="","",IF($F30="DCO",$J30,"")) | S30: =IF($G30="","",IF($G30="ICG",$J30,"")) | T30: =IF($F30="","",IF($F30="BOT",$J30,"")) | U30: =IF($F30="","",IF($F30="DEA",$J30,"")) | V30: =IF($F30="","",IF($F30="DON",$J30,"")) | W30: =IF($F30="","",IF($F30="MAR",$J30,"")) | X30: =IF($F30="","",IF($F30="RAM",$J30,"")) -> 0 | Y30: =IF($F30="","",IF($F30="RIC",$J30,"")) | Z30: =IF($F30="","",IF($F30="RMA",$J30,"")) | AA30: =IF($F30="","",IF($F30="VID",$J30,"")) | AB30: =IF($F30="","",IF($F30="ADA",$J30,"")) | AC30: =IF($F30="","",IF($F30="GAM",$J30,"")) | AD30: =IF($F30="","",IF($F30="TRO",$J30,""))
A31: 29 | B31: 3005 | C31: =IF($B31="","",VLOOKUP($B31,'Class. Personale'!$B:$I,2,)) -> PALAZZO | D31: =IF($B31="","",VLOOKUP($B31,'Class. Personale'!$B:$I,3,)) -> CARMEN | E31: =CONCATENATE(C31,D31) -> PALAZZOCARMEN | F31: =IF($B31="","",VLOOKUP($B31,'Class. Personale'!$B:$I,5,)) -> DEA | G31: =IF($B31="","",VLOOKUP($B31,'Class. Personale'!$B:$I,6,)) -> LIB | H31: =IF($B31="","",VLOOKUP($B31,'Class. Personale'!$B:$I,7,)) -> V | I31: 8.9 | K31: 972 | L31: =IF($G31="","",IF($G31="AB",$J31,"")) | M31: =IF($G31="","",IF($G31="VF",$J31,"")) | N31: =IF($G31="","",IF($G31="VL",$J31,"")) | O31: =IF($G31="","",IF($G31="VV",$J31,"")) | P31: =IF($G31="","",IF($G31="CAS",$J31,"")) | Q31: =IF($G31="","",IF($G31="SAN",$J31,"")) | R31: =IF($F31="","",IF($F31="DCO",$J31,"")) | S31: =IF($G31="","",IF($G31="ICG",$J31,"")) | T31: =IF($F31="","",IF($F31="BOT",$J31,"")) | U31: =IF($F31="","",IF($F31="DEA",$J31,"")) -> 0 | V31: =IF($F31="","",IF($F31="DON",$J31,"")) | W31: =IF($F31="","",IF($F31="MAR",$J31,"")) | X31: =IF($F31="","",IF($F31="RAM",$J31,"")) | Y31: =IF($F31="","",IF($F31="RIC",$J31,"")) | Z31: =IF($F31="","",IF($F31="RMA",$J31,"")) | AA31: =IF($F31="","",IF($F31="VID",$J31,"")) | AB31: =IF($F31="","",IF($F31="ADA",$J31,"")) | AC31: =IF($F31="","",IF($F31="GAM",$J31,"")) | AD31: =IF($F31="","",IF($F31="TRO",$J31,""))
A32: 30 | B32: 3011 | C32: =IF($B32="","",VLOOKUP($B32,'Class. Personale'!$B:$I,2,)) -> CORNETTI | D32: =IF($B32="","",VLOOKUP($B32,'Class. Personale'!$B:$I,3,)) -> ALESSANDRA | E32: =CONCATENATE(C32,D32) -> CORNETTI ALESSANDRA | F32: =IF($B32="","",VLOOKUP($B32,'Class. Personale'!$B:$I,5,)) -> DCO | G32: =IF($B32="","",VLOOKUP($B32,'Class. Personale'!$B:$I,6,)) -> DCO | H32: =IF($B32="","",VLOOKUP($B32,'Class. Personale'!$B:$I,7,)) -> V | I32: 8.91 | K32: 971 | L32: =IF($G32="","",IF($G32="AB",$J32,"")) | M32: =IF($G32="","",IF($G32="VF",$J32,"")) | N32: =IF($G32="","",IF($G32="VL",$J32,"")) | O32: =IF($G32="","",IF($G32="VV",$J32,"")) | P32: =IF($G32="","",IF($G32="CAS",$J32,"")) | Q32: =IF($G32="","",IF($G32="SAN",$J32,"")) | R32: =IF($F32="","",IF($F32="DCO",$J32,"")) -> 0 | S32: =IF($G32="","",IF($G32="ICG",$J32,"")) | T32: =IF($F32="","",IF($F32="BOT",$J32,"")) | U32: =IF($F32="","",IF($F32="DEA",$J32,"")) | V32: =IF($F32="","",IF($F32="DON",$J32,"")) | W32: =IF($F32="","",IF($F32="MAR",$J32,"")) | X32: =IF($F32="","",IF($F32="RAM",$J32,"")) | Y32: =IF($F32="","",IF($F32="RIC",$J32,"")) | Z32: =IF($F32="","",IF($F32="RMA",$J32,"")) | AA32: =IF($F32="","",IF($F32="VID",$J32,"")) | AB32: =IF($F32="","",IF($F32="ADA",$J32,"")) | AC32: =IF($F32="","",IF($F32="GAM",$J32,"")) | AD32: =IF($F32="","",IF($F32="TRO",$J32,""))
A33: 31 | B33: 3054 | C33: =IF($B33="","",VLOOKUP($B33,'Class. Personale'!$B:$I,2,)) -> ZEFI | D33: =IF($B33="","",VLOOKUP($B33,'Class. Personale'!$B:$I,3,)) -> WENDI | E33: =CONCATENATE(C33,D33) -> ZEFIWENDI | F33: =IF($B33="","",VLOOKUP($B33,'Class. Personale'!$B:$I,5,)) -> VID | G33: =IF($B33="","",VLOOKUP($B33,'Class. Personale'!$B:$I,6,)) -> VF | H33: =IF($B33="","",VLOOKUP($B33,'Class. Personale'!$B:$I,7,)) -> V | I33: 8.95 | K33: 970 | L33: =IF($G33="","",IF($G33="AB",$J33,"")) | M33: =IF($G33="","",IF($G33="VF",$J33,"")) -> 0 | N33: =IF($G33="","",IF($G33="VL",$J33,"")) | O33: =IF($G33="","",IF($G33="VV",$J33,"")) | P33: =IF($G33="","",IF($G33="CAS",$J33,"")) | Q33: =IF($G33="","",IF($G33="SAN",$J33,"")) | R33: =IF($F33="","",IF($F33="DCO",$J33,"")) | S33: =IF($G33="","",IF($G33="ICG",$J33,"")) | T33: =IF($F33="","",IF($F33="BOT",$J33,"")) | U33: =IF($F33="","",IF($F33="DEA",$J33,"")) | V33: =IF($F33="","",IF($F33="DON",$J33,"")) | W33: =IF($F33="","",IF($F33="MAR",$J33,"")) | X33: =IF($F33="","",IF($F33="RAM",$J33,"")) | Y33: =IF($F33="","",IF($F33="RIC",$J33,"")) | Z33: =IF($F33="","",IF($F33="RMA",$J33,"")) | AA33: =IF($F33="","",IF($F33="VID",$J33,"")) -> 0 | AB33: =IF($F33="","",IF($F33="ADA",$J33,"")) | AC33: =IF($F33="","",IF($F33="GAM",$J33,"")) | AD33: =IF($F33="","",IF($F33="TRO",$J33,""))
A34: 32 | B34: 3018 | C34: =IF($B34="","",VLOOKUP($B34,'Class. Personale'!$B:$I,2,)) -> RIBOLI | D34: =IF($B34="","",VLOOKUP($B34,'Class. Personale'!$B:$I,3,)) -> NORA | E34: =CONCATENATE(C34,D34) -> RIBOLINORA | F34: =IF($B34="","",VLOOKUP($B34,'Class. Personale'!$B:$I,5,)) -> DON | G34: =IF($B34="","",VLOOKUP($B34,'Class. Personale'!$B:$I,6,)) -> VV | H34: =IF($B34="","",VLOOKUP($B34,'Class. Personale'!$B:$I,7,)) -> V | I34: 8.96 | K34: 969
A35: 33 | B35: 3014 | C35: =IF($B35="","",VLOOKUP($B35,'Class. Personale'!$B:$I,2,)) -> DENI | D35: =IF($B35="","",VLOOKUP($B35,'Class. Personale'!$B:$I,3,)) -> BEATRICE | E35: =CONCATENATE(C35,D35) -> DENIBEATRICE | F35: =IF($B35="","",VLOOKUP($B35,'Class. Personale'!$B:$I,5,)) -> GAM | G35: =IF($B35="","",VLOOKUP($B35,'Class. Personale'!$B:$I,6,)) -> ICG | H35: =IF($B35="","",VLOOKUP($B35,'Class. Personale'!$B:$I,7,)) -> V | I35: 9.01 | K35: 968
A36: 34 | B36: 3016 | C36: =IF($B36="","",VLOOKUP($B36,'Class. Personale'!$B:$I,2,)) -> FRANCIOSO | D36: =IF($B36="","",VLOOKUP($B36,'Class. Personale'!$B:$I,3,)) -> NOEMI | E36: =CONCATENATE(C36,D36) -> FRANCIOSONOEMI | F36: =IF($B36="","",VLOOKUP($B36,'Class. Personale'!$B:$I,5,)) -> DON | G36: =IF($B36="","",VLOOKUP($B36,'Class. Personale'!$B:$I,6,)) -> VV | H36: =IF($B36="","",VLOOKUP($B36,'Class. Personale'!$B:$I,7,)) -> V | I36: 9.06 | K36: 967
A37: 35 | B37: 3015 | C37: =IF($B37="","",VLOOKUP($B37,'Class. Personale'!$B:$I,2,)) -> BULACIO | D37: =IF($B37="","",VLOOKUP($B37,'Class. Personale'!$B:$I,3,)) -> EMMA | E37: =CONCATENATE(C37,D37) -> BULACIOEMMA | F37: =IF($B37="","",VLOOKUP($B37,'Class. Personale'!$B:$I,5,)) -> DON | G37: =IF($B37="","",VLOOKUP($B37,'Class. Personale'!$B:$I,6,)) -> VV | H37: =IF($B37="","",VLOOKUP($B37,'Class. Personale'!$B:$I,7,)) -> V | I37: 9.19 | K37: 966
A38: 36 | B38: 3001 | C38: =IF($B38="","",VLOOKUP($B38,'Class. Personale'!$B:$I,2,)) -> BADIU | D38: =IF($B38="","",VLOOKUP($B38,'Class. Personale'!$B:$I,3,)) -> MARIA | E38: =CONCATENATE(C38,D38) -> BADIUMARIA | F38: =IF($B38="","",VLOOKUP($B38,'Class. Personale'!$B:$I,5,)) -> DEA | G38: =IF($B38="","",VLOOKUP($B38,'Class. Personale'!$B:$I,6,)) -> LIB | H38: =IF($B38="","",VLOOKUP($B38,'Class. Personale'!$B:$I,7,)) -> V | I38: 9.2 | K38: 965
A39: 37 | B39: 3017 | C39: =IF($B39="","",VLOOKUP($B39,'Class. Personale'!$B:$I,2,)) -> PRIMICERI | D39: =IF($B39="","",VLOOKUP($B39,'Class. Personale'!$B:$I,3,)) -> AMARANTA LUZ | E39: =CONCATENATE(C39,D39) -> PRIMICERIAMARANTA LUZ | F39: =IF($B39="","",VLOOKUP($B39,'Class. Personale'!$B:$I,5,)) -> GAM | G39: =IF($B39="","",VLOOKUP($B39,'Class. Personale'!$B:$I,6,)) -> ICG | H39: =IF($B39="","",VLOOKUP($B39,'Class. Personale'!$B:$I,7,)) -> V | I39: 9.27 | K39: 964
A40: 38 | B40: 3066 | C40: =IF($B40="","",VLOOKUP($B40,'Class. Personale'!$B:$I,2,)) -> MASSA | D40: =IF($B40="","",VLOOKUP($B40,'Class. Personale'!$B:$I,3,)) -> MATILDE | E40: =CONCATENATE(C40,D40) -> MASSAMATILDE | F40: =IF($B40="","",VLOOKUP($B40,'Class. Personale'!$B:$I,5,)) -> RAM | G40: =IF($B40="","",VLOOKUP($B40,'Class. Personale'!$B:$I,6,)) -> AB | H40: =IF($B40="","",VLOOKUP($B40,'Class. Personale'!$B:$I,7,)) -> V | I40: 9.35 | K40: 963
A41: 39 | C41: MANGIAROTTI | D41: EMMA | E41: =CONCATENATE(C41,D41) -> MANGIAROTTIEMMA | F41: GAM | G41: ICG | H41: V | I41: 9.38 | K41: 962
A42: 40 | B42: 3027 | C42: =IF($B42="","",VLOOKUP($B42,'Class. Personale'!$B:$I,2,)) -> AHMED | D42: =IF($B42="","",VLOOKUP($B42,'Class. Personale'!$B:$I,3,)) -> SAMA MOHAMED ABDELFATTAH SHEHATA | E42: =CONCATENATE(C42,D42) -> AHMEDSAMA MOHAMED ABDELFATTAH SHEHATA | F42: =IF($B42="","",VLOOKUP($B42,'Class. Personale'!$B:$I,5,)) -> DON | G42: =IF($B42="","",VLOOKUP($B42,'Class. Personale'!$B:$I,6,)) -> VV | H42: =IF($B42="","",VLOOKUP($B42,'Class. Personale'!$B:$I,7,)) -> V | I42: 9.39 | K42: 961
A43: 41 | B43: 3067 | C43: =IF($B43="","",VLOOKUP($B43,'Class. Personale'!$B:$I,2,)) -> HASSAN | D43: =IF($B43="","",VLOOKUP($B43,'Class. Personale'!$B:$I,3,)) -> ROFIDA | E43: =CONCATENATE(C43,D43) -> HASSANROFIDA | F43: =IF($B43="","",VLOOKUP($B43,'Class. Personale'!$B:$I,5,)) -> RAM | G43: =IF($B43="","",VLOOKUP($B43,'Class. Personale'!$B:$I,6,)) -> AB | H43: =IF($B43="","",VLOOKUP($B43,'Class. Personale'!$B:$I,7,)) -> V | I43: 9.45 | K43: 960
A44: 42 | B44: 3043 | C44: =IF($B44="","",VLOOKUP($B44,'Class. Personale'!$B:$I,2,)) -> BACCHETTA | D44: =IF($B44="","",VLOOKUP($B44,'Class. Personale'!$B:$I,3,)) -> SHARLYN JAMAILY | E44: =CONCATENATE(C44,D44) -> BACCHETTASHARLYN JAMAILY | F44: =IF($B44="","",VLOOKUP($B44,'Class. Personale'!$B:$I,5,)) -> VID | G44: =IF($B44="","",VLOOKUP($B44,'Class. Personale'!$B:$I,6,)) -> VF | H44: =IF($B44="","",VLOOKUP($B44,'Class. Personale'!$B:$I,7,)) -> V | I44: 9.6 | K44: 959
A45: 43 | C45: DONDI | D45: AMELIA | E45: =CONCATENATE(C45,D45) -> DONDIAMELIA | F45: GAM | G45: ICG | H45: V | I45: 9.68 | K45: 958
A46: 44 | B46: 3045 | C46: =IF($B46="","",VLOOKUP($B46,'Class. Personale'!$B:$I,2,)) -> GATTI | D46: =IF($B46="","",VLOOKUP($B46,'Class. Personale'!$B:$I,3,)) -> IRENE | E46: =CONCATENATE(C46,D46) -> GATTIIRENE | F46: =IF($B46="","",VLOOKUP($B46,'Class. Personale'!$B:$I,5,)) -> VID | G46: =IF($B46="","",VLOOKUP($B46,'Class. Personale'!$B:$I,6,)) -> VF | H46: =IF($B46="","",VLOOKUP($B46,'Class. Personale'!$B:$I,7,)) -> V | I46: 9.69 | K46: 957
A47: 45 | B47: 3073 | C47: =IF($B47="","",VLOOKUP($B47,'Class. Personale'!$B:$I,2,)) -> MOLDOVAN | D47: =IF($B47="","",VLOOKUP($B47,'Class. Personale'!$B:$I,3,)) -> ADELAIDE | E47: =CONCATENATE(C47,D47) -> MOLDOVANADELAIDE | F47: =IF($B47="","",VLOOKUP($B47,'Class. Personale'!$B:$I,5,)) -> RAM | G47: =IF($B47="","",VLOOKUP($B47,'Class. Personale'!$B:$I,6,)) -> AB | H47: =IF($B47="","",VLOOKUP($B47,'Class. Personale'!$B:$I,7,)) -> V | I47: 9.76 | K47: 956
A48: 46 | B48: 3076 | C48: =IF($B48="","",VLOOKUP($B48,'Class. Personale'!$B:$I,2,)) -> MANTEGAZZA | D48: =IF($B48="","",VLOOKUP($B48,'Class. Personale'!$B:$I,3,)) -> MAYA | E48: =CONCATENATE(C48,D48) -> MANTEGAZZAMAYA | F48: =IF($B48="","",VLOOKUP($B48,'Class. Personale'!$B:$I,5,)) -> RAM | G48: =IF($B48="","",VLOOKUP($B48,'Class. Personale'!$B:$I,6,)) -> AB | H48: V | I48: 9.77 | K48: 955
A49: 47 | B49: 3077 | C49: =IF($B49="","",VLOOKUP($B49,'Class. Personale'!$B:$I,2,)) -> PORRETTA | D49: =IF($B49="","",VLOOKUP($B49,'Class. Personale'!$B:$I,3,)) -> GRETA | E49: =CONCATENATE(C49,D49) -> PORRETTAGRETA | F49: =IF($B49="","",VLOOKUP($B49,'Class. Personale'!$B:$I,5,)) -> DON | G49: =IF($B49="","",VLOOKUP($B49,'Class. Personale'!$B:$I,6,)) -> VV | H49: =IF($B49="","",VLOOKUP($B49,'Class. Personale'!$B:$I,7,)) -> V | I49: 9.9 | K49: 954
A50: 48 | B50: 3024 | C50: =IF($B50="","",VLOOKUP($B50,'Class. Personale'!$B:$I,2,)) -> CHILELLI CARNEVALE MAFFE' | D50: =IF($B50="","",VLOOKUP($B50,'Class. Personale'!$B:$I,3,)) -> FLAVIA | E50: =CONCATENATE(C50,D50) -> CHILELLI CARNEVALE MAFFE'FLAVIA | F50: =IF($B50="","",VLOOKUP($B50,'Class. Personale'!$B:$I,5,)) -> DON | G50: =IF($B50="","",VLOOKUP($B50,'Class. Personale'!$B:$I,6,)) -> VV | H50: =IF($B50="","",VLOOKUP($B50,'Class. Personale'!$B:$I,7,)) -> V | I50: 9.9 | K50: 953
A51: 49 | B51: 3030 | C51: =IF($B51="","",VLOOKUP($B51,'Class. Personale'!$B:$I,2,)) -> BOUNEGRU | D51: =IF($B51="","",VLOOKUP($B51,'Class. Personale'!$B:$I,3,)) -> TEIA | E51: =CONCATENATE(C51,D51) -> BOUNEGRUTEIA | F51: =IF($B51="","",VLOOKUP($B51,'Class. Personale'!$B:$I,5,)) -> DON | G51: =IF($B51="","",VLOOKUP($B51,'Class. Personale'!$B:$I,6,)) -> VV | H51: V | I51: 10.02 | K51: 952
A52: 50 | B52: 3032 | C52: =IF($B52="","",VLOOKUP($B52,'Class. Personale'!$B:$I,2,)) -> ELZAAFARANI | D52: =IF($B52="","",VLOOKUP($B52,'Class. Personale'!$B:$I,3,)) -> MALK HANI AHMED MOHAMED | E52: =CONCATENATE(C52,D52) -> ELZAAFARANIMALK HANI AHMED MOHAMED | F52: =IF($B52="","",VLOOKUP($B52,'Class. Personale'!$B:$I,5,)) -> MAR | G52: =IF($B52="","",VLOOKUP($B52,'Class. Personale'!$B:$I,6,)) -> VV | H52: =IF($B52="","",VLOOKUP($B52,'Class. Personale'!$B:$I,7,)) -> V | I52: 10.3 | K52: 951
A53: 51 | B53: 3033 | C53: =IF($B53="","",VLOOKUP($B53,'Class. Personale'!$B:$I,2,)) -> BAPPRY | D53: =IF($B53="","",VLOOKUP($B53,'Class. Personale'!$B:$I,3,)) -> JANNATI | E53: =CONCATENATE(C53,D53) -> BAPPRYJANNATI | F53: =IF($B53="","",VLOOKUP($B53,'Class. Personale'!$B:$I,5,)) -> RMA | G53: =IF($B53="","",VLOOKUP($B53,'Class. Personale'!$B:$I,6,)) -> VV | H53: =IF($B53="","",VLOOKUP($B53,'Class. Personale'!$B:$I,7,)) -> V | I53: 10.6 | K53: 950
A54: 52 | B54: 3040 | C54: =IF($B54="","",VLOOKUP($B54,'Class. Personale'!$B:$I,2,)) -> ELSAYED | D54: =IF($B54="","",VLOOKUP($B54,'Class. Personale'!$B:$I,3,)) -> ZAHRA AHMED ABDELHAMED MOHAMED | E54: =CONCATENATE(C54,D54) -> ELSAYED ZAHRA AHMED ABDELHAMED MOHAMED | F54: =IF($B54="","",VLOOKUP($B54,'Class. Personale'!$B:$I,5,)) -> RIC | G54: =IF($B54="","",VLOOKUP($B54,'Class. Personale'!$B:$I,6,)) -> VF | H54: =IF($B54="","",VLOOKUP($B54,'Class. Personale'!$B:$I,7,)) -> V | I54: 10.9 | K54: 949
A55: 53 | C55: =IF($B55="","",VLOOKUP($B55,'Class. Personale'!$B:$I,2,)) | D55: =IF($B55="","",VLOOKUP($B55,'Class. Personale'!$B:$I,3,)) | E55: =CONCATENATE(C55,D55) | F55: =IF($B55="","",VLOOKUP($B55,'Class. Personale'!$B:$I,5,)) | G55: =IF($B55="","",VLOOKUP($B55,'Class. Personale'!$B:$I,6,)) | H55: =IF($B55="","",VLOOKUP($B55,'Class. Personale'!$B:$I,7,)) | K55: 948
A56: 54 | C56: =IF($B56="","",VLOOKUP($B56,'Class. Personale'!$B:$I,2,)) | D56: =IF($B56="","",VLOOKUP($B56,'Class. Personale'!$B:$I,3,)) | E56: =CONCATENATE(C56,D56) | F56: =IF($B56="","",VLOOKUP($B56,'Class. Personale'!$B:$I,5,)) | G56: =IF($B56="","",VLOOKUP($B56,'Class. Personale'!$B:$I,6,)) | H56: =IF($B56="","",VLOOKUP($B56,'Class. Personale'!$B:$I,7,)) | K56: 947
A57: 55 | C57: =IF($B57="","",VLOOKUP($B57,'Class. Personale'!$B:$I,2,)) | D57: =IF($B57="","",VLOOKUP($B57,'Class. Personale'!$B:$I,3,)) | E57: =CONCATENATE(C57,D57) | F57: =IF($B57="","",VLOOKUP($B57,'Class. Personale'!$B:$I,5,)) | G57: =IF($B57="","",VLOOKUP($B57,'Class. Personale'!$B:$I,6,)) | H57: =IF($B57="","",VLOOKUP($B57,'Class. Personale'!$B:$I,7,)) | K57: 946
A58: 56 | C58: =IF($B58="","",VLOOKUP($B58,'Class. Personale'!$B:$I,2,)) | D58: =IF($B58="","",VLOOKUP($B58,'Class. Personale'!$B:$I,3,)) | E58: =CONCATENATE(C58,D58) | F58: =IF($B58="","",VLOOKUP($B58,'Class. Personale'!$B:$I,5,)) | G58: =IF($B58="","",VLOOKUP($B58,'Class. Personale'!$B:$I,6,)) | H58: =IF($B58="","",VLOOKUP($B58,'Class. Personale'!$B:$I,7,)) | K58: 945
A59: 57 | C59: =IF($B59="","",VLOOKUP($B59,'Class. Personale'!$B:$I,2,)) | D59: =IF($B59="","",VLOOKUP($B59,'Class. Personale'!$B:$I,3,)) | E59: =CONCATENATE(C59,D59) | F59: =IF($B59="","",VLOOKUP($B59,'Class. Personale'!$B:$I,5,)) | G59: =IF($B59="","",VLOOKUP($B59,'Class. Personale'!$B:$I,6,)) | H59: =IF($B59="","",VLOOKUP($B59,'Class. Personale'!$B:$I,7,)) | K59: 944
A60: 58 | C60: =IF($B60="","",VLOOKUP($B60,'Class. Personale'!$B:$I,2,)) | D60: =IF($B60="","",VLOOKUP($B60,'Class. Personale'!$B:$I,3,)) | E60: =CONCATENATE(C60,D60) | F60: =IF($B60="","",VLOOKUP($B60,'Class. Personale'!$B:$I,5,)) | G60: =IF($B60="","",VLOOKUP($B60,'Class. Personale'!$B:$I,6,)) | H60: =IF($B60="","",VLOOKUP($B60,'Class. Personale'!$B:$I,7,)) | K60: 943
A61: 59 | C61: =IF($B61="","",VLOOKUP($B61,'Class. Personale'!$B:$I,2,)) | D61: =IF($B61="","",VLOOKUP($B61,'Class. Personale'!$B:$I,3,)) | E61: =CONCATENATE(C61,D61) | F61: =IF($B61="","",VLOOKUP($B61,'Class. Personale'!$B:$I,5,)) | G61: =IF($B61="","",VLOOKUP($B61,'Class. Personale'!$B:$I,6,)) | H61: =IF($B61="","",VLOOKUP($B61,'Class. Personale'!$B:$I,7,)) | K61: 942
A62: 60 | C62: =IF($B62="","",VLOOKUP($B62,'Class. Personale'!$B:$I,2,)) | D62: =IF($B62="","",VLOOKUP($B62,'Class. Personale'!$B:$I,3,)) | E62: =CONCATENATE(C62,D62) | F62: =IF($B62="","",VLOOKUP($B62,'Class. Personale'!$B:$I,5,)) | G62: =IF($B62="","",VLOOKUP($B62,'Class. Personale'!$B:$I,6,)) | H62: =IF($B62="","",VLOOKUP($B62,'Class. Personale'!$B:$I,7,)) | K62: 941
A63: 61 | C63: =IF($B63="","",VLOOKUP($B63,'Class. Personale'!$B:$I,2,)) | D63: =IF($B63="","",VLOOKUP($B63,'Class. Personale'!$B:$I,3,)) | E63: =CONCATENATE(C63,D63) | F63: =IF($B63="","",VLOOKUP($B63,'Class. Personale'!$B:$I,5,)) | G63: =IF($B63="","",VLOOKUP($B63,'Class. Personale'!$B:$I,6,)) | H63: =IF($B63="","",VLOOKUP($B63,'Class. Personale'!$B:$I,7,)) | K63: 940
A64: 62 | C64: =IF($B64="","",VLOOKUP($B64,'Class. Personale'!$B:$I,2,)) | D64: =IF($B64="","",VLOOKUP($B64,'Class. Personale'!$B:$I,3,)) | E64: =CONCATENATE(C64,D64) | F64: =IF($B64="","",VLOOKUP($B64,'Class. Personale'!$B:$I,5,)) | G64: =IF($B64="","",VLOOKUP($B64,'Class. Personale'!$B:$I,6,)) | H64: =IF($B64="","",VLOOKUP($B64,'Class. Personale'!$B:$I,7,)) | K64: 939
A65: 63 | C65: =IF($B65="","",VLOOKUP($B65,'Class. Personale'!$B:$I,2,)) | D65: =IF($B65="","",VLOOKUP($B65,'Class. Personale'!$B:$I,3,)) | E65: =CONCATENATE(C65,D65) | F65: =IF($B65="","",VLOOKUP($B65,'Class. Personale'!$B:$I,5,)) | G65: =IF($B65="","",VLOOKUP($B65,'Class. Personale'!$B:$I,6,)) | H65: =IF($B65="","",VLOOKUP($B65,'Class. Personale'!$B:$I,7,)) | K65: 938
A66: 64 | C66: =IF($B66="","",VLOOKUP($B66,'Class. Personale'!$B:$I,2,)) | D66: =IF($B66="","",VLOOKUP($B66,'Class. Personale'!$B:$I,3,)) | E66: =CONCATENATE(C66,D66) | F66: =IF($B66="","",VLOOKUP($B66,'Class. Personale'!$B:$I,5,)) | G66: =IF($B66="","",VLOOKUP($B66,'Class. Personale'!$B:$I,6,)) | H66: =IF($B66="","",VLOOKUP($B66,'Class. Personale'!$B:$I,7,)) | K66: 937
... A152: 150 | C152: =IF($B152="","",VLOOKUP($B152,'Class. Personale'!$B:$I,2,)) | D152: =IF($B152="","",VLOOKUP($B152,'Class. Personale'!$B:$I,3,)) | E152: =CONCATENATE(C152,D152) | F152: =IF($B152="","",VLOOKUP($B152,'Class. Personale'!$B:$I,5,)) | G152: =IF($B152="","",VLOOKUP($B152,'Class. Personale'!$B:$I,6,)) | H152: =IF($B152="","",VLOOKUP($B152,'Class. Personale'!$B:$I,7,)) | K152: 851
K153: 850
K154: 849
K155: 848
K156: 847
K157: 846
K158: 845
K159: 844
K160: 843
K161: 842
K162: 841
K163: 840
K164: 839
... K1002: 1

Sheet 50 V Masc_
L1: =SUM(L3:L52) -> 8 | M1: =SUM(M3:M52) -> 16 | N1: =SUM(N3:N52) -> 0 | O1: =SUM(O3:O52) -> 51 | P1: =SUM(P3:P52) -> 0 | Q1: =SUM(Q3:Q52) -> 0 | R1: =SUM(R3:R52) -> 0 | S1: =SUM(S3:S52) -> 3 | ... AD1: =SUM(AD3:AD52) -> 0
B2: PETT | C2: COGNOME | D2: NOME | E2: COGNOME NOME | F2: SCUOLA | G2: CIRC. | H2: CLASSE | I2: TEMPO | J2: P.TI | K2: P.ti Personali | L2: AB | M2: VF | N2: VL | O2: VV | P2: CAS | Q2: SAN | R2: DCO | S2: ICG | T2: BOT | U2: DEA | V2: DON | W2: MAR | X2: RAM | Y2: RIC | Z2: RMA | AA2: VID | AB2: ADA | AC2: GAM | AD2: TRO
A3: 1 | B3: 4039 | C3: =IF($B3="","",VLOOKUP($B3,'Class. Personale'!$B:$I,2,)) -> OKORN | D3: =IF($B3="","",VLOOKUP($B3,'Class. Personale'!$B:$I,3,)) -> GABRIEL OJONG | E3: =CONCATENATE(C3,D3) -> OKORNGABRIEL OJONG | F3: =IF($B3="","",VLOOKUP($B3,'Class. Personale'!$B:$I,5,)) -> MAR | G3: =IF($B3="","",VLOOKUP($B3,'Class. Personale'!$B:$I,6,)) -> VV | H3: =IF($B3="","",VLOOKUP($B3,'Class. Personale'!$B:$I,7,)) -> V | I3: 7.29 | J3: 12 | K3: 1000 | L3: =IF($G3="","",IF($G3="AB",$J3,"")) | M3: =IF($G3="","",IF($G3="VF",$J3,"")) | N3: =IF($G3="","",IF($G3="VL",$J3,"")) | O3: =IF($G3="","",IF($G3="VV",$J3,"")) -> 12 | P3: =IF($G3="","",IF($G3="CAS",$J3,"")) | Q3: =IF($G3="","",IF($G3="SAN",$J3,"")) | R3: =IF($F3="","",IF($F3="DCO",$J3,"")) | S3: =IF($G3="","",IF($G3="ICG",$J3,"")) | T3: =IF($F3="","",IF($F3="BOT",$J3,"")) | U3: =IF($F3="","",IF($F3="DEA",$J3,"")) | V3: =IF($F3="","",IF($F3="DON",$J3,"")) | W3: =IF($F3="","",IF($F3="MAR",$J3,"")) -> 12 | X3: =IF($F3="","",IF($F3="RAM",$J3,"")) | Y3: =IF($F3="","",IF($F3="RIC",$J3,"")) | Z3: =IF($F3="","",IF($F3="RMA",$J3,"")) | AA3: =IF($F3="","",IF($F3="VID",$J3,"")) | AB3: =IF($F3="","",IF($F3="ADA",$J3,"")) | AC3: =IF($F3="","",IF($F3="GAM",$J3,"")) | AD3: =IF($F3="","",IF($F3="TRO",$J3,""))
A4: 2 | B4: 4035 | C4: =IF($B4="","",VLOOKUP($B4,'Class. Personale'!$B:$I,2,)) -> ACCARDO | D4: =IF($B4="","",VLOOKUP($B4,'Class. Personale'!$B:$I,3,)) -> ANDREA | E4: =CONCATENATE(C4,D4) -> ACCARDOANDREA | F4: =IF($B4="","",VLOOKUP($B4,'Class. Personale'!$B:$I,5,)) -> MAR | G4: =IF($B4="","",VLOOKUP($B4,'Class. Personale'!$B:$I,6,)) -> VV | H4: =IF($B4="","",VLOOKUP($B4,'Class. Personale'!$B:$I,7,)) -> V | I4: 7.65 | J4: 11 | K4: 999 | L4: =IF($G4="","",IF($G4="AB",$J4,"")) | M4: =IF($G4="","",IF($G4="VF",$J4,"")) | N4: =IF($G4="","",IF($G4="VL",$J4,"")) | O4: =IF($G4="","",IF($G4="VV",$J4,"")) -> 11 | P4: =IF($G4="","",IF($G4="CAS",$J4,"")) | Q4: =IF($G4="","",IF($G4="SAN",$J4,"")) | R4: =IF($F4="","",IF($F4="DCO",$J4,"")) | S4: =IF($G4="","",IF($G4="ICG",$J4,"")) | T4: =IF($F4="","",IF($F4="BOT",$J4,"")) | U4: =IF($F4="","",IF($F4="DEA",$J4,"")) | V4: =IF($F4="","",IF($F4="DON",$J4,"")) | W4: =IF($F4="","",IF($F4="MAR",$J4,"")) -> 11 | X4: =IF($F4="","",IF($F4="RAM",$J4,"")) | Y4: =IF($F4="","",IF($F4="RIC",$J4,"")) | Z4: =IF($F4="","",IF($F4="RMA",$J4,"")) | AA4: =IF($F4="","",IF($F4="VID",$J4,"")) | AB4: =IF($F4="","",IF($F4="ADA",$J4,"")) | AC4: =IF($F4="","",IF($F4="GAM",$J4,"")) | AD4: =IF($F4="","",IF($F4="TRO",$J4,""))
A5: 3 | B5: 4026 | C5: =IF($B5="","",VLOOKUP($B5,'Class. Personale'!$B:$I,2,)) -> PICCOLO | D5: =IF($B5="","",VLOOKUP($B5,'Class. Personale'!$B:$I,3,)) -> ALESSANDRO | E5: =CONCATENATE(C5,D5) -> PICCOLOALESSANDRO | F5: =IF($B5="","",VLOOKUP($B5,'Class. Personale'!$B:$I,5,)) -> DON | G5: =IF($B5="","",VLOOKUP($B5,'Class. Personale'!$B:$I,6,)) -> VV | H5: =IF($B5="","",VLOOKUP($B5,'Class. Personale'!$B:$I,7,)) -> V | I5: 7.8 | J5: 10 | K5: 998 | L5: =IF($G5="","",IF($G5="AB",$J5,"")) | M5: =IF($G5="","",IF($G5="VF",$J5,"")) | N5: =IF($G5="","",IF($G5="VL",$J5,"")) | O5: =IF($G5="","",IF($G5="VV",$J5,"")) -> 10 | P5: =IF($G5="","",IF($G5="CAS",$J5,"")) | Q5: =IF($G5="","",IF($G5="SAN",$J5,"")) | R5: =IF($F5="","",IF($F5="DCO",$J5,"")) | S5: =IF($G5="","",IF($G5="ICG",$J5,"")) | T5: =IF($F5="","",IF($F5="BOT",$J5,"")) | U5: =IF($F5="","",IF($F5="DEA",$J5,"")) | V5: =IF($F5="","",IF($F5="DON",$J5,"")) -> 10 | W5: =IF($F5="","",IF($F5="MAR",$J5,"")) | X5: =IF($F5="","",IF($F5="RAM",$J5,"")) | Y5: =IF($F5="","",IF($F5="RIC",$J5,"")) | Z5: =IF($F5="","",IF($F5="RMA",$J5,"")) | AA5: =IF($F5="","",IF($F5="VID",$J5,"")) | AB5: =IF($F5="","",IF($F5="ADA",$J5,"")) | AC5: =IF($F5="","",IF($F5="GAM",$J5,"")) | AD5: =IF($F5="","",IF($F5="TRO",$J5,""))
A6: 4 | B6: 4070 | C6: =IF($B6="","",VLOOKUP($B6,'Class. Personale'!$B:$I,2,)) -> REGA | D6: =IF($B6="","",VLOOKUP($B6,'Class. Personale'!$B:$I,3,)) -> GIOVANNI PAOLO | E6: =CONCATENATE(C6,D6) -> REGAGIOVANNI PAOLO | F6: =IF($B6="","",VLOOKUP($B6,'Class. Personale'!$B:$I,5,)) -> VID | G6: =IF($B6="","",VLOOKUP($B6,'Class. Personale'!$B:$I,6,)) -> VF | H6: =IF($B6="","",VLOOKUP($B6,'Class. Personale'!$B:$I,7,)) -> V | I6: 7.9 | J6: 9 | K6: 997 | L6: =IF($G6="","",IF($G6="AB",$J6,"")) | M6: =IF($G6="","",IF($G6="VF",$J6,"")) -> 9 | N6: =IF($G6="","",IF($G6="VL",$J6,"")) | O6: =IF($G6="","",IF($G6="VV",$J6,"")) | P6: =IF($G6="","",IF($G6="CAS",$J6,"")) | Q6: =IF($G6="","",IF($G6="SAN",$J6,"")) | R6: =IF($F6="","",IF($F6="DCO",$J6,"")) | S6: =IF($G6="","",IF($G6="ICG",$J6,"")) | T6: =IF($F6="","",IF($F6="BOT",$J6,"")) | U6: =IF($F6="","",IF($F6="DEA",$J6,"")) | V6: =IF($F6="","",IF($F6="DON",$J6,"")) | W6: =IF($F6="","",IF($F6="MAR",$J6,"")) | X6: =IF($F6="","",IF($F6="RAM",$J6,"")) | Y6: =IF($F6="","",IF($F6="RIC",$J6,"")) | Z6: =IF($F6="","",IF($F6="RMA",$J6,"")) | AA6: =IF($F6="","",IF($F6="VID",$J6,"")) -> 9 | AB6: =IF($F6="","",IF($F6="ADA",$J6,"")) | AC6: =IF($F6="","",IF($F6="GAM",$J6,"")) | AD6: =IF($F6="","",IF($F6="TRO",$J6,""))
A7: 5 | B7: 4086 | C7: =IF($B7="","",VLOOKUP($B7,'Class. Personale'!$B:$I,2,)) -> CASSIBBA | D7: =IF($B7="","",VLOOKUP($B7,'Class. Personale'!$B:$I,3,)) -> THOMAS | E7: =CONCATENATE(C7,D7) -> CASSIBBATHOMAS | F7: =IF($B7="","",VLOOKUP($B7,'Class. Personale'!$B:$I,5,)) -> RAM | G7: =IF($B7="","",VLOOKUP($B7,'Class. Personale'!$B:$I,6,)) -> AB | H7: =IF($B7="","",VLOOKUP($B7,'Class. Personale'!$B:$I,7,)) -> V | I7: 7.96 | J7: 8 | K7: 996 | L7: =IF($G7="","",IF($G7="AB",$J7,"")) -> 8 | M7: =IF($G7="","",IF($G7="VF",$J7,"")) | N7: =IF($G7="","",IF($G7="VL",$J7,"")) | O7: =IF($G7="","",IF($G7="VV",$J7,"")) | P7: =IF($G7="","",IF($G7="CAS",$J7,"")) | Q7: =IF($G7="","",IF($G7="SAN",$J7,"")) | R7: =IF($F7="","",IF($F7="DCO",$J7,"")) | S7: =IF($G7="","",IF($G7="ICG",$J7,"")) | T7: =IF($F7="","",IF($F7="BOT",$J7,"")) | U7: =IF($F7="","",IF($F7="DEA",$J7,"")) | V7: =IF($F7="","",IF($F7="DON",$J7,"")) | W7: =IF($F7="","",IF($F7="MAR",$J7,"")) | X7: =IF($F7="","",IF($F7="RAM",$J7,"")) -> 8 | Y7: =IF($F7="","",IF($F7="RIC",$J7,"")) | Z7: =IF($F7="","",IF($F7="RMA",$J7,"")) | AA7: =IF($F7="","",IF($F7="VID",$J7,"")) | AB7: =IF($F7="","",IF($F7="ADA",$J7,"")) | AC7: =IF($F7="","",IF($F7="GAM",$J7,"")) | AD7: =IF($F7="","",IF($F7="TRO",$J7,""))
A8: 6 | B8: 4094 | C8: =IF($B8="","",VLOOKUP($B8,'Class. Personale'!$B:$I,2,)) -> PAREA | D8: =IF($B8="","",VLOOKUP($B8,'Class. Personale'!$B:$I,3,)) -> LEONARDO | E8: =CONCATENATE(C8,D8) -> PAREALEONARDO | F8: =IF($B8="","",VLOOKUP($B8,'Class. Personale'!$B:$I,5,)) -> DON | G8: =IF($B8="","",VLOOKUP($B8,'Class. Personale'!$B:$I,6,)) -> VV | H8: =IF($B8="","",VLOOKUP($B8,'Class. Personale'!$B:$I,7,)) -> V | I8: 7.99 | J8: 7 | K8: 995 | L8: =IF($G8="","",IF($G8="AB",$J8,"")) | M8: =IF($G8="","",IF($G8="VF",$J8,"")) | N8: =IF($G8="","",IF($G8="VL",$J8,"")) | O8: =IF($G8="","",IF($G8="VV",$J8,"")) -> 7 | P8: =IF($G8="","",IF($G8="CAS",$J8,"")) | Q8: =IF($G8="","",IF($G8="SAN",$J8,"")) | R8: =IF($F8="","",IF($F8="DCO",$J8,"")) | S8: =IF($G8="","",IF($G8="ICG",$J8,"")) | T8: =IF($F8="","",IF($F8="BOT",$J8,"")) | U8: =IF($F8="","",IF($F8="DEA",$J8,"")) | V8: =IF($F8="","",IF($F8="DON",$J8,"")) -> 7 | W8: =IF($F8="","",IF($F8="MAR",$J8,"")) | X8: =IF($F8="","",IF($F8="RAM",$J8,"")) | Y8: =IF($F8="","",IF($F8="RIC",$J8,"")) | Z8: =IF($F8="","",IF($F8="RMA",$J8,"")) | AA8: =IF($F8="","",IF($F8="VID",$J8,"")) | AB8: =IF($F8="","",IF($F8="ADA",$J8,"")) | AC8: =IF($F8="","",IF($F8="GAM",$J8,"")) | AD8: =IF($F8="","",IF($F8="TRO",$J8,""))
A9: 7 | C9: CANCELLIERE | D9: NICOLAS | E9: =CONCATENATE(C9,D9) -> CANCELLIERENICOLAS | F9: MAR | G9: VV | H9: V | I9: 7.99 | J9: 6 | K9: 994 | L9: =IF($G9="","",IF($G9="AB",$J9,"")) | M9: =IF($G9="","",IF($G9="VF",$J9,"")) | N9: =IF($G9="","",IF($G9="VL",$J9,"")) | O9: =IF($G9="","",IF($G9="VV",$J9,"")) -> 6 | P9: =IF($G9="","",IF($G9="CAS",$J9,"")) | Q9: =IF($G9="","",IF($G9="SAN",$J9,"")) | R9: =IF($F9="","",IF($F9="DCO",$J9,"")) | S9: =IF($G9="","",IF($G9="ICG",$J9,"")) | T9: =IF($F9="","",IF($F9="BOT",$J9,"")) | U9: =IF($F9="","",IF($F9="DEA",$J9,"")) | V9: =IF($F9="","",IF($F9="DON",$J9,"")) | W9: =IF($F9="","",IF($F9="MAR",$J9,"")) -> 6 | X9: =IF($F9="","",IF($F9="RAM",$J9,"")) | Y9: =IF($F9="","",IF($F9="RIC",$J9,"")) | Z9: =IF($F9="","",IF($F9="RMA",$J9,"")) | AA9: =IF($F9="","",IF($F9="VID",$J9,"")) | AB9: =IF($F9="","",IF($F9="ADA",$J9,"")) | AC9: =IF($F9="","",IF($F9="GAM",$J9,"")) | AD9: =IF($F9="","",IF($F9="TRO",$J9,""))
A10: 8 | B10: 4096 | C10: =IF($B10="","",VLOOKUP($B10,'Class. Personale'!$B:$I,2,)) -> INVERNIZZI | D10: =IF($B10="","",VLOOKUP($B10,'Class. Personale'!$B:$I,3,)) -> JACOPO | E10: =CONCATENATE(C10,D10) -> INVERNIZZIJACOPO | F10: =IF($B10="","",VLOOKUP($B10,'Class. Personale'!$B:$I,5,)) -> MAR | G10: VF | H10: =IF($B10="","",VLOOKUP($B10,'Class. Personale'!$B:$I,7,)) -> V | I10: 8.04 | J10: 5 | K10: 993 | L10: =IF($G10="","",IF($G10="AB",$J10,"")) | M10: =IF($G10="","",IF($G10="VF",$J10,"")) -> 5 | N10: =IF($G10="","",IF($G10="VL",$J10,"")) | O10: =IF($G10="","",IF($G10="VV",$J10,"")) | P10: =IF($G10="","",IF($G10="CAS",$J10,"")) | Q10: =IF($G10="","",IF($G10="SAN",$J10,"")) | R10: =IF($F10="","",IF($F10="DCO",$J10,"")) | S10: =IF($G10="","",IF($G10="ICG",$J10,"")) | T10: =IF($F10="","",IF($F10="BOT",$J10,"")) | U10: =IF($F10="","",IF($F10="DEA",$J10,"")) | V10: =IF($F10="","",IF($F10="DON",$J10,"")) | W10: =IF($F10="","",IF($F10="MAR",$J10,"")) -> 5 | X10: =IF($F10="","",IF($F10="RAM",$J10,"")) | Y10: =IF($F10="","",IF($F10="RIC",$J10,"")) | Z10: =IF($F10="","",IF($F10="RMA",$J10,"")) | AA10: =IF($F10="","",IF($F10="VID",$J10,"")) | AB10: =IF($F10="","",IF($F10="ADA",$J10,"")) | AC10: =IF($F10="","",IF($F10="GAM",$J10,"")) | AD10: =IF($F10="","",IF($F10="TRO",$J10,""))
A11: 9 | B11: 4033 | C11: =IF($B11="","",VLOOKUP($B11,'Class. Personale'!$B:$I,2,)) -> SEYE | D11: =IF($B11="","",VLOOKUP($B11,'Class. Personale'!$B:$I,3,)) -> MOUHAMADOU LAMINE | E11: =CONCATENATE(C11,D11) -> SEYEMOUHAMADOU LAMINE | F11: =IF($B11="","",VLOOKUP($B11,'Class. Personale'!$B:$I,5,)) -> DON | G11: =IF($B11="","",VLOOKUP($B11,'Class. Personale'!$B:$I,6,)) -> VV | H11: =IF($B11="","",VLOOKUP($B11,'Class. Personale'!$B:$I,7,)) -> V | I11: 8.07 | J11: 4 | K11: 992 | L11: =IF($G11="","",IF($G11="AB",$J11,"")) | M11: =IF($G11="","",IF($G11="VF",$J11,"")) | N11: =IF($G11="","",IF($G11="VL",$J11,"")) | O11: =IF($G11="","",IF($G11="VV",$J11,"")) -> 4 | P11: =IF($G11="","",IF($G11="CAS",$J11,"")) | Q11: =IF($G11="","",IF($G11="SAN",$J11,"")) | R11: =IF($F11="","",IF($F11="DCO",$J11,"")) | S11: =IF($G11="","",IF($G11="ICG",$J11,"")) | T11: =IF($F11="","",IF($F11="BOT",$J11,"")) | U11: =IF($F11="","",IF($F11="DEA",$J11,"")) | V11: =IF($F11="","",IF($F11="DON",$J11,"")) -> 4 | W11: =IF($F11="","",IF($F11="MAR",$J11,"")) | X11: =IF($F11="","",IF($F11="RAM",$J11,"")) | Y11: =IF($F11="","",IF($F11="RIC",$J11,"")) | Z11: =IF($F11="","",IF($F11="RMA",$J11,"")) | AA11: =IF($F11="","",IF($F11="VID",$J11,"")) | AB11: =IF($F11="","",IF($F11="ADA",$J11,"")) | AC11: =IF($F11="","",IF($F11="GAM",$J11,"")) | AD11: =IF($F11="","",IF($F11="TRO",$J11,""))
A12: 10 | B12: 4019 | C12: =IF($B12="","",VLOOKUP($B12,'Class. Personale'!$B:$I,2,)) -> ACQUAOTTA | D12: =IF($B12="","",VLOOKUP($B12,'Class. Personale'!$B:$I,3,)) -> ACHILLE | E12: =CONCATENATE(C12,D12) -> ACQUAOTTAACHILLE | F12: =IF($B12="","",VLOOKUP($B12,'Class. Personale'!$B:$I,5,)) -> GAM | G12: =IF($B12="","",VLOOKUP($B12,'Class. Personale'!$B:$I,6,)) -> ICG | H12: =IF($B12="","",VLOOKUP($B12,'Class. Personale'!$B:$I,7,)) -> V | I12: 8.08 | J12: 3 | K12: 991 | L12: =IF($G12="","",IF($G12="AB",$J12,"")) | M12: =IF($G12="","",IF($G12="VF",$J12,"")) | N12: =IF($G12="","",IF($G12="VL",$J12,"")) | O12: =IF($G12="","",IF($G12="VV",$J12,"")) | P12: =IF($G12="","",IF($G12="CAS",$J12,"")) | Q12: =IF($G12="","",IF($G12="SAN",$J12,"")) | R12: =IF($F12="","",IF($F12="DCO",$J12,"")) | S12: =IF($G12="","",IF($G12="ICG",$J12,"")) -> 3 | T12: =IF($F12="","",IF($F12="BOT",$J12,"")) | U12: =IF($F12="","",IF($F12="DEA",$J12,"")) | V12: =IF($F12="","",IF($F12="DON",$J12,"")) | W12: =IF($F12="","",IF($F12="MAR",$J12,"")) | X12: =IF($F12="","",IF($F12="RAM",$J12,"")) | Y12: =IF($F12="","",IF($F12="RIC",$J12,"")) | Z12: =IF($F12="","",IF($F12="RMA",$J12,"")) | AA12: =IF($F12="","",IF($F12="VID",$J12,"")) | AB12: =IF($F12="","",IF($F12="ADA",$J12,"")) | AC12: =IF($F12="","",IF($F12="GAM",$J12,"")) -> 3 | AD12: =IF($F12="","",IF($F12="TRO",$J12,""))
A13: 11 | B13: 4061 | C13: =IF($B13="","",VLOOKUP($B13,'Class. Personale'!$B:$I,2,)) -> BABO | D13: =IF($B13="","",VLOOKUP($B13,'Class. Personale'!$B:$I,3,)) -> ILIAN | E13: =CONCATENATE(C13,D13) -> BABOILIAN | F13: =IF($B13="","",VLOOKUP($B13,'Class. Personale'!$B:$I,5,)) -> VID | G13: =IF($B13="","",VLOOKUP($B13,'Class. Personale'!$B:$I,6,)) -> VF | H13: =IF($B13="","",VLOOKUP($B13,'Class. Personale'!$B:$I,7,)) -> V | I13: 8.09 | J13: 2 | K13: 990 | L13: =IF($G13="","",IF($G13="AB",$J13,"")) | M13: =IF($G13="","",IF($G13="VF",$J13,"")) -> 2 | N13: =IF($G13="","",IF($G13="VL",$J13,"")) | O13: =IF($G13="","",IF($G13="VV",$J13,"")) | P13: =IF($G13="","",IF($G13="CAS",$J13,"")) | Q13: =IF($G13="","",IF($G13="SAN",$J13,"")) | R13: =IF($F13="","",IF($F13="DCO",$J13,"")) | S13: =IF($G13="","",IF($G13="ICG",$J13,"")) | T13: =IF($F13="","",IF($F13="BOT",$J13,"")) | U13: =IF($F13="","",IF($F13="DEA",$J13,"")) | V13: =IF($F13="","",IF($F13="DON",$J13,"")) | W13: =IF($F13="","",IF($F13="MAR",$J13,"")) | X13: =IF($F13="","",IF($F13="RAM",$J13,"")) | Y13: =IF($F13="","",IF($F13="RIC",$J13,"")) | Z13: =IF($F13="","",IF($F13="RMA",$J13,"")) | AA13: =IF($F13="","",IF($F13="VID",$J13,"")) -> 2 | AB13: =IF($F13="","",IF($F13="ADA",$J13,"")) | AC13: =IF($F13="","",IF($F13="GAM",$J13,"")) | AD13: =IF($F13="","",IF($F13="TRO",$J13,""))
A14: 12 | B14: 4031 | C14: =IF($B14="","",VLOOKUP($B14,'Class. Personale'!$B:$I,2,)) -> DOVHAL | D14: =IF($B14="","",VLOOKUP($B14,'Class. Personale'!$B:$I,3,)) -> IVAN | E14: =CONCATENATE(C14,D14) -> DOVHALIVAN | F14: =IF($B14="","",VLOOKUP($B14,'Class. Personale'!$B:$I,5,)) -> DON | G14: =IF($B14="","",VLOOKUP($B14,'Class. Personale'!$B:$I,6,)) -> VV | H14: =IF($B14="","",VLOOKUP($B14,'Class. Personale'!$B:$I,7,)) -> V | I14: 8.1 | J14: 1 | K14: 989 | L14: =IF($G14="","",IF($G14="AB",$J14,"")) | M14: =IF($G14="","",IF($G14="VF",$J14,"")) | N14: =IF($G14="","",IF($G14="VL",$J14,"")) | O14: =IF($G14="","",IF($G14="VV",$J14,"")) -> 1 | P14: =IF($G14="","",IF($G14="CAS",$J14,"")) | Q14: =IF($G14="","",IF($G14="SAN",$J14,"")) | R14: =IF($F14="","",IF($F14="DCO",$J14,"")) | S14: =IF($G14="","",IF($G14="ICG",$J14,"")) | T14: =IF($F14="","",IF($F14="BOT",$J14,"")) | U14: =IF($F14="","",IF($F14="DEA",$J14,"")) | V14: =IF($F14="","",IF($F14="DON",$J14,"")) -> 1 | W14: =IF($F14="","",IF($F14="MAR",$J14,"")) | X14: =IF($F14="","",IF($F14="RAM",$J14,"")) | Y14: =IF($F14="","",IF($F14="RIC",$J14,"")) | Z14: =IF($F14="","",IF($F14="RMA",$J14,"")) | AA14: =IF($F14="","",IF($F14="VID",$J14,"")) | AB14: =IF($F14="","",IF($F14="ADA",$J14,"")) | AC14: =IF($F14="","",IF($F14="GAM",$J14,"")) | AD14: =IF($F14="","",IF($F14="TRO",$J14,""))
A15: 13 | B15: 4095 | C15: =IF($B15="","",VLOOKUP($B15,'Class. Personale'!$B:$I,2,)) -> PRENDI | D15: =IF($B15="","",VLOOKUP($B15,'Class. Personale'!$B:$I,3,)) -> AURELIO | E15: =CONCATENATE(C15,D15) -> PRENDIAURELIO | F15: =IF($B15="","",VLOOKUP($B15,'Class. Personale'!$B:$I,5,)) -> MAR | G15: =IF($B15="","",VLOOKUP($B15,'Class. Personale'!$B:$I,6,)) -> VV | H15: =IF($B15="","",VLOOKUP($B15,'Class. Personale'!$B:$I,7,)) -> V | I15: 8.1 | J15: 0 | K15: 988 | L15: =IF($G15="","",IF($G15="AB",$J15,"")) | M15: =IF($G15="","",IF($G15="VF",$J15,"")) | N15: =IF($G15="","",IF($G15="VL",$J15,"")) | O15: =IF($G15="","",IF($G15="VV",$J15,"")) -> 0 | P15: =IF($G15="","",IF($G15="CAS",$J15,"")) | Q15: =IF($G15="","",IF($G15="SAN",$J15,"")) | R15: =IF($F15="","",IF($F15="DCO",$J15,"")) | S15: =IF($G15="","",IF($G15="ICG",$J15,"")) | T15: =IF($F15="","",IF($F15="BOT",$J15,"")) | U15: =IF($F15="","",IF($F15="DEA",$J15,"")) | V15: =IF($F15="","",IF($F15="DON",$J15,"")) | W15: =IF($F15="","",IF($F15="MAR",$J15,"")) -> 0 | X15: =IF($F15="","",IF($F15="RAM",$J15,"")) | Y15: =IF($F15="","",IF($F15="RIC",$J15,"")) | Z15: =IF($F15="","",IF($F15="RMA",$J15,"")) | AA15: =IF($F15="","",IF($F15="VID",$J15,"")) | AB15: =IF($F15="","",IF($F15="ADA",$J15,"")) | AC15: =IF($F15="","",IF($F15="GAM",$J15,"")) | AD15: =IF($F15="","",IF($F15="TRO",$J15,""))
A16: 14 | B16: 4053 | C16: =IF($B16="","",VLOOKUP($B16,'Class. Personale'!$B:$I,2,)) -> CANEVARI | D16: =IF($B16="","",VLOOKUP($B16,'Class. Personale'!$B:$I,3,)) -> GIACOMO | E16: =CONCATENATE(C16,D16) -> CANEVARI GIACOMO | F16: =IF($B16="","",VLOOKUP($B16,'Class. Personale'!$B:$I,5,)) -> ADA | G16: =IF($B16="","",VLOOKUP($B16,'Class. Personale'!$B:$I,6,)) -> VF | H16: =IF($B16="","",VLOOKUP($B16,'Class. Personale'!$B:$I,7,)) -> V | I16: 8.17 | K16: 987 | L16: =IF($G16="","",IF($G16="AB",$J16,"")) | M16: =IF($G16="","",IF($G16="VF",$J16,"")) -> 0 | N16: =IF($G16="","",IF($G16="VL",$J16,"")) | O16: =IF($G16="","",IF($G16="VV",$J16,"")) | P16: =IF($G16="","",IF($G16="CAS",$J16,"")) | Q16: =IF($G16="","",IF($G16="SAN",$J16,"")) | R16: =IF($F16="","",IF($F16="DCO",$J16,"")) | S16: =IF($G16="","",IF($G16="ICG",$J16,"")) | T16: =IF($F16="","",IF($F16="BOT",$J16,"")) | U16: =IF($F16="","",IF($F16="DEA",$J16,"")) | V16: =IF($F16="","",IF($F16="DON",$J16,"")) | W16: =IF($F16="","",IF($F16="MAR",$J16,"")) | X16: =IF($F16="","",IF($F16="RAM",$J16,"")) | Y16: =IF($F16="","",IF($F16="RIC",$J16,"")) | Z16: =IF($F16="","",IF($F16="RMA",$J16,"")) | AA16: =IF($F16="","",IF($F16="VID",$J16,"")) | AB16: =IF($F16="","",IF($F16="ADA",$J16,"")) -> 0 | AC16: =IF($F16="","",IF($F16="GAM",$J16,"")) | AD16: =IF($F16="","",IF($F16="TRO",$J16,""))
A17: 15 | B17: 4032 | C17: =IF($B17="","",VLOOKUP($B17,'Class. Personale'!$B:$I,2,)) -> LANZA | D17: =IF($B17="","",VLOOKUP($B17,'Class. Personale'!$B:$I,3,)) -> LEONARDO | E17: =CONCATENATE(C17,D17) -> LANZALEONARDO | F17: =IF($B17="","",VLOOKUP($B17,'Class. Personale'!$B:$I,5,)) -> DON | G17: =IF($B17="","",VLOOKUP($B17,'Class. Personale'!$B:$I,6,)) -> VV | H17: =IF($B17="","",VLOOKUP($B17,'Class. Personale'!$B:$I,7,)) -> V | I17: 8.18 | K17: 986 | L17: =IF($G17="","",IF($G17="AB",$J17,"")) | M17: =IF($G17="","",IF($G17="VF",$J17,"")) | N17: =IF($G17="","",IF($G17="VL",$J17,"")) | O17: =IF($G17="","",IF($G17="VV",$J17,"")) -> 0 | P17: =IF($G17="","",IF($G17="CAS",$J17,"")) | Q17: =IF($G17="","",IF($G17="SAN",$J17,"")) | R17: =IF($F17="","",IF($F17="DCO",$J17,"")) | S17: =IF($G17="","",IF($G17="ICG",$J17,"")) | T17: =IF($F17="","",IF($F17="BOT",$J17,"")) | U17: =IF($F17="","",IF($F17="DEA",$J17,"")) | V17: =IF($F17="","",IF($F17="DON",$J17,"")) -> 0 | W17: =IF($F17="","",IF($F17="MAR",$J17,"")) | X17: =IF($F17="","",IF($F17="RAM",$J17,"")) | Y17: =IF($F17="","",IF($F17="RIC",$J17,"")) | Z17: =IF($F17="","",IF($F17="RMA",$J17,"")) | AA17: =IF($F17="","",IF($F17="VID",$J17,"")) | AB17: =IF($F17="","",IF($F17="ADA",$J17,"")) | AC17: =IF($F17="","",IF($F17="GAM",$J17,"")) | AD17: =IF($F17="","",IF($F17="TRO",$J17,""))
A18: 16 | B18: 4067 | C18: =IF($B18="","",VLOOKUP($B18,'Class. Personale'!$B:$I,2,)) -> IBRAHIM | D18: =IF($B18="","",VLOOKUP($B18,'Class. Personale'!$B:$I,3,)) -> MAHMOUD | E18: =CONCATENATE(C18,D18) -> IBRAHIMMAHMOUD | F18: =IF($B18="","",VLOOKUP($B18,'Class. Personale'!$B:$I,5,)) -> VID | G18: =IF($B18="","",VLOOKUP($B18,'Class. Personale'!$B:$I,6,)) -> VF | H18: =IF($B18="","",VLOOKUP($B18,'Class. Personale'!$B:$I,7,)) -> V | I18: 8.18 | K18: 985 | L18: =IF($G18="","",IF($G18="AB",$J18,"")) | M18: =IF($G18="","",IF($G18="VF",$J18,"")) -> 0 | N18: =IF($G18="","",IF($G18="VL",$J18,"")) | O18: =IF($G18="","",IF($G18="VV",$J18,"")) | P18: =IF($G18="","",IF($G18="CAS",$J18,"")) | Q18: =IF($G18="","",IF($G18="SAN",$J18,"")) | R18: =IF($F18="","",IF($F18="DCO",$J18,"")) | S18: =IF($G18="","",IF($G18="ICG",$J18,"")) | T18: =IF($F18="","",IF($F18="BOT",$J18,"")) | U18: =IF($F18="","",IF($F18="DEA",$J18,"")) | V18: =IF($F18="","",IF($F18="DON",$J18,"")) | W18: =IF($F18="","",IF($F18="MAR",$J18,"")) | X18: =IF($F18="","",IF($F18="RAM",$J18,"")) | Y18: =IF($F18="","",IF($F18="RIC",$J18,"")) | Z18: =IF($F18="","",IF($F18="RMA",$J18,"")) | AA18: =IF($F18="","",IF($F18="VID",$J18,"")) -> 0 | AB18: =IF($F18="","",IF($F18="ADA",$J18,"")) | AC18: =IF($F18="","",IF($F18="GAM",$J18,"")) | AD18: =IF($F18="","",IF($F18="TRO",$J18,""))
A19: 17 | B19: 4065 | C19: =IF($B19="","",VLOOKUP($B19,'Class. Personale'!$B:$I,2,)) -> ALI | D19: =IF($B19="","",VLOOKUP($B19,'Class. Personale'!$B:$I,3,)) -> ISLAM | E19: =CONCATENATE(C19,D19) -> ALIISLAM | F19: =IF($B19="","",VLOOKUP($B19,'Class. Personale'!$B:$I,5,)) -> VID | G19: =IF($B19="","",VLOOKUP($B19,'Class. Personale'!$B:$I,6,)) -> VF | H19: =IF($B19="","",VLOOKUP($B19,'Class. Personale'!$B:$I,7,)) -> V | I19: 8.19 | K19: 984 | L19: =IF($G19="","",IF($G19="AB",$J19,"")) | M19: =IF($G19="","",IF($G19="VF",$J19,"")) -> 0 | N19: =IF($G19="","",IF($G19="VL",$J19,"")) | O19: =IF($G19="","",IF($G19="VV",$J19,"")) | P19: =IF($G19="","",IF($G19="CAS",$J19,"")) | Q19: =IF($G19="","",IF($G19="SAN",$J19,"")) | R19: =IF($F19="","",IF($F19="DCO",$J19,"")) | S19: =IF($G19="","",IF($G19="ICG",$J19,"")) | T19: =IF($F19="","",IF($F19="BOT",$J19,"")) | U19: =IF($F19="","",IF($F19="DEA",$J19,"")) | V19: =IF($F19="","",IF($F19="DON",$J19,"")) | W19: =IF($F19="","",IF($F19="MAR",$J19,"")) | X19: =IF($F19="","",IF($F19="RAM",$J19,"")) | Y19: =IF($F19="","",IF($F19="RIC",$J19,"")) | Z19: =IF($F19="","",IF($F19="RMA",$J19,"")) | AA19: =IF($F19="","",IF($F19="VID",$J19,"")) -> 0 | AB19: =IF($F19="","",IF($F19="ADA",$J19,"")) | AC19: =IF($F19="","",IF($F19="GAM",$J19,"")) | AD19: =IF($F19="","",IF($F19="TRO",$J19,""))
A20: 18 | B20: 4082 | C20: =IF($B20="","",VLOOKUP($B20,'Class. Personale'!$B:$I,2,)) -> LAVAGNO | D20: =IF($B20="","",VLOOKUP($B20,'Class. Personale'!$B:$I,3,)) -> VITTORIO | E20: =CONCATENATE(C20,D20) -> LAVAGNOVITTORIO | F20: =IF($B20="","",VLOOKUP($B20,'Class. Personale'!$B:$I,5,)) -> RAM | G20: =IF($B20="","",VLOOKUP($B20,'Class. Personale'!$B:$I,6,)) -> AB | H20: =IF($B20="","",VLOOKUP($B20,'Class. Personale'!$B:$I,7,)) -> V | I20: 8.24 | K20: 983 | L20: =IF($G20="","",IF($G20="AB",$J20,"")) -> 0 | M20: =IF($G20="","",IF($G20="VF",$J20,"")) | N20: =IF($G20="","",IF($G20="VL",$J20,"")) | O20: =IF($G20="","",IF($G20="VV",$J20,"")) | P20: =IF($G20="","",IF($G20="CAS",$J20,"")) | Q20: =IF($G20="","",IF($G20="SAN",$J20,"")) | R20: =IF($F20="","",IF($F20="DCO",$J20,"")) | S20: =IF($G20="","",IF($G20="ICG",$J20,"")) | T20: =IF($F20="","",IF($F20="BOT",$J20,"")) | U20: =IF($F20="","",IF($F20="DEA",$J20,"")) | V20: =IF($F20="","",IF($F20="DON",$J20,"")) | W20: =IF($F20="","",IF($F20="MAR",$J20,"")) | X20: =IF($F20="","",IF($F20="RAM",$J20,"")) -> 0 | Y20: =IF($F20="","",IF($F20="RIC",$J20,"")) | Z20: =IF($F20="","",IF($F20="RMA",$J20,"")) | AA20: =IF($F20="","",IF($F20="VID",$J20,"")) | AB20: =IF($F20="","",IF($F20="ADA",$J20,"")) | AC20: =IF($F20="","",IF($F20="GAM",$J20,"")) | AD20: =IF($F20="","",IF($F20="TRO",$J20,""))
A21: 19 | B21: 4087 | C21: =IF($B21="","",VLOOKUP($B21,'Class. Personale'!$B:$I,2,)) -> FIORELLO | D21: =IF($B21="","",VLOOKUP($B21,'Class. Personale'!$B:$I,3,)) -> LORENZO | E21: =CONCATENATE(C21,D21) -> FIORELLOLORENZO | F21: =IF($B21="","",VLOOKUP($B21,'Class. Personale'!$B:$I,5,)) -> RAM | G21: =IF($B21="","",VLOOKUP($B21,'Class. Personale'!$B:$I,6,)) -> AB | H21: =IF($B21="","",VLOOKUP($B21,'Class. Personale'!$B:$I,7,)) -> V | I21: 8.34 | K21: 982 | L21: =IF($G21="","",IF($G21="AB",$J21,"")) -> 0 | M21: =IF($G21="","",IF($G21="VF",$J21,"")) | N21: =IF($G21="","",IF($G21="VL",$J21,"")) | O21: =IF($G21="","",IF($G21="VV",$J21,"")) | P21: =IF($G21="","",IF($G21="CAS",$J21,"")) | Q21: =IF($G21="","",IF($G21="SAN",$J21,"")) | R21: =IF($F21="","",IF($F21="DCO",$J21,"")) | S21: =IF($G21="","",IF($G21="ICG",$J21,"")) | T21: =IF($F21="","",IF($F21="BOT",$J21,"")) | U21: =IF($F21="","",IF($F21="DEA",$J21,"")) | V21: =IF($F21="","",IF($F21="DON",$J21,"")) | W21: =IF($F21="","",IF($F21="MAR",$J21,"")) | X21: =IF($F21="","",IF($F21="RAM",$J21,"")) -> 0 | Y21: =IF($F21="","",IF($F21="RIC",$J21,"")) | Z21: =IF($F21="","",IF($F21="RMA",$J21,"")) | AA21: =IF($F21="","",IF($F21="VID",$J21,"")) | AB21: =IF($F21="","",IF($F21="ADA",$J21,"")) | AC21: =IF($F21="","",IF($F21="GAM",$J21,"")) | AD21: =IF($F21="","",IF($F21="TRO",$J21,""))
A22: 20 | B22: 4046 | C22: =IF($B22="","",VLOOKUP($B22,'Class. Personale'!$B:$I,2,)) -> PARRINO | D22: =IF($B22="","",VLOOKUP($B22,'Class. Personale'!$B:$I,3,)) -> DIEGO | E22: =CONCATENATE(C22,D22) -> PARRINODIEGO | F22: =IF($B22="","",VLOOKUP($B22,'Class. Personale'!$B:$I,5,)) -> RIC | G22: =IF($B22="","",VLOOKUP($B22,'Class. Personale'!$B:$I,6,)) -> VF | H22: =IF($B22="","",VLOOKUP($B22,'Class. Personale'!$B:$I,7,)) -> V | I22: 8.35 | K22: 981 | L22: =IF($G22="","",IF($G22="AB",$J22,"")) | M22: =IF($G22="","",IF($G22="VF",$J22,"")) -> 0 | N22: =IF($G22="","",IF($G22="VL",$J22,"")) | O22: =IF($G22="","",IF($G22="VV",$J22,"")) | P22: =IF($G22="","",IF($G22="CAS",$J22,"")) | Q22: =IF($G22="","",IF($G22="SAN",$J22,"")) | R22: =IF($F22="","",IF($F22="DCO",$J22,"")) | S22: =IF($G22="","",IF($G22="ICG",$J22,"")) | T22: =IF($F22="","",IF($F22="BOT",$J22,"")) | U22: =IF($F22="","",IF($F22="DEA",$J22,"")) | V22: =IF($F22="","",IF($F22="DON",$J22,"")) | W22: =IF($F22="","",IF($F22="MAR",$J22,"")) | X22: =IF($F22="","",IF($F22="RAM",$J22,"")) | Y22: =IF($F22="","",IF($F22="RIC",$J22,"")) -> 0 | Z22: =IF($F22="","",IF($F22="RMA",$J22,"")) | AA22: =IF($F22="","",IF($F22="VID",$J22,"")) | AB22: =IF($F22="","",IF($F22="ADA",$J22,"")) | AC22: =IF($F22="","",IF($F22="GAM",$J22,"")) | AD22: =IF($F22="","",IF($F22="TRO",$J22,""))
