Workbook
Name Excel_BuiltIn__FilterDatabase: 'Class. Personale'!$A$1:$V$1

Sheet 50 IV Femm_
L1: =SUM(L3:L52) -> 17 | M1: =SUM(M3:M52) -> 17 | N1: =SUM(N3:N52) -> 0 | O1: =SUM(O3:O52) -> 24 | P1: =SUM(P3:P52) -> 0 | Q1: =SUM(Q3:Q52) -> 8 | R1: =SUM(R3:R52) -> 0 | S1: =SUM(S3:S52) -> 12 | ... AD1: =SUM(AD3:AD52) -> 12
B2: PETT | C2: COGNOME | D2: NOME | E2: COGNOME NOME | F2: SCUOLA | G2: CIRCOLO | H2: CLASSE | I2: TEMPO | J2: P.TI | K2: P.ti Personali | L2: AB | M2: VF | N2: VL | O2: VV | P2: CAS | Q2: SAN | R2: DCO | S2: ICG | T2: BOT | U2: DEA | V2: DON | W2: MAR | X2: RAM | Y2: RIC | Z2: RMA | AA2: VID | AB2: ADA | AC2: GAM | AD2: TRO
A3: 1 | B3: 1097 | C3: =IF($B3="","",VLOOKUP($B3,'Class. Personale'!$B:$I,2,)) -> TIRABOSCHI | D3: =IF($B3="","",VLOOKUP($B3,'Class. Personale'!$B:$I,3,)) -> ANGELICA | E3: =CONCATENATE(C3,D3) -> TIRABOSCHIANGELICA | F3: =IF($B3="","",VLOOKUP($B3,'Class. Personale'!$B:$I,5,)) -> TRO | G3: =IF($B3="","",VLOOKUP($B3,'Class. Personale'!$B:$I,6,)) -> ICG | H3: =IF($B3="","",VLOOKUP($B3,'Class. Personale'!$B:$I,7,)) -> IV | I3: 8.1 | J3: 12 | K3: 1000 | L3: =IF($G3="","",IF($G3="AB",$J3,"")) | M3: =IF($G3="","",IF($G3="VF",$J3,"")) | N3: =IF($G3="","",IF($G3="VL",$J3,"")) | O3: =IF($G3="","",IF($G3="VV",$J3,"")) | P3: =IF($G3="","",IF($G3="CAS",$J3,"")) | Q3: =IF($G3="","",IF($G3="SAN",$J3,"")) | R3: =IF($F3="","",IF($F3="DCO",$J3,"")) | S3: =IF($G3="","",IF($G3="ICG",$J3,"")) -> 12 | T3: =IF($F3="","",IF($F3="BOT",$J3,"")) | U3: =IF($F3="","",IF($F3="DEA",$J3,"")) | V3: =IF($F3="","",IF($F3="DON",$J3,"")) | W3: =IF($F3="","",IF($F3="MAR",$J3,"")) | X3: =IF($F3="","",IF($F3="RAM",$J3,"")) | Y3: =IF($F3="","",IF($F3="RIC",$J3,"")) | Z3: =IF($F3="","",IF($F3="RMA",$J3,"")) | AA3: =IF($F3="","",IF($F3="VID",$J3,"")) | AB3: =IF($F3="","",IF($F3="ADA",$J3,"")) | AC3: =IF($F3="","",IF($F3="GAM",$J3,"")) | AD3: =IF($F3="","",IF($F3="TRO",$J3,"")) -> 12
A4: 2 | B4: 1066 | C4: =IF($B4="","",VLOOKUP($B4,'Class. Personale'!$B:$I,2,)) -> BRANDOLINI | D4: =IF($B4="","",VLOOKUP($B4,'Class. Personale'!$B:$I,3,)) -> GIULIA | E4: =CONCATENATE(C4,D4) -> BRANDOLINIGIULIA | F4: =IF($B4="","",VLOOKUP($B4,'Class. Personale'!$B:$I,5,)) -> VID | G4: =IF($B4="","",VLOOKUP($B4,'Class. Personale'!$B:$I,6,)) -> VF | H4: =IF($B4="","",VLOOKUP($B4,'Class. Personale'!$B:$I,7,)) -> IV | I4: 8.13 | J4: 11 | K4: 999 | L4: =IF($G4="","",IF($G4="AB",$J4,"")) | M4: =IF($G4="","",IF($G4="VF",$J4,"")) -> 11 | N4: =IF($G4="","",IF($G4="VL",$J4,"")) | O4: =IF($G4="","",IF($G4="VV",$J4,"")) | P4: =IF($G4="","",IF($G4="CAS",$J4,"")) | Q4: =IF($G4="","",IF($G4="SAN",$J4,"")) | R4: =IF($F4="","",IF($F4="DCO",$J4,"")) | S4: =IF($G4="","",IF($G4="ICG",$J4,"")) | T4: =IF($F4="","",IF($F4="BOT",$J4,"")) | U4: =IF($F4="","",IF($F4="DEA",$J4,"")) | V4: =IF($F4="","",IF($F4="DON",$J4,"")) | W4: =IF($F4="","",IF($F4="MAR",$J4,"")) | X4: =IF($F4="","",IF($F4="RAM",$J4,"")) | Y4: =IF($F4="","",IF($F4="RIC",$J4,"")) | Z4: =IF($F4="","",IF($F4="RMA",$J4,"")) | AA4: =IF($F4="","",IF($F4="VID",$J4,"")) -> 11 | AB4: =IF($F4="","",IF($F4="ADA",$J4,"")) | AC4: =IF($F4="","",IF($F4="GAM",$J4,"")) | AD4: =IF($F4="","",IF($F4="TRO",$J4,""))
A5: 3 | B5: 1081 | C5: =IF($B5="","",VLOOKUP($B5,'Class. Personale'!$B:$I,2,)) -> FARACI | D5: =IF($B5="","",VLOOKUP($B5,'Class. Personale'!$B:$I,3,)) -> BEATRICE | E5: =CONCATENATE(C5,D5) -> FARACIBEATRICE | F5: =IF($B5="","",VLOOKUP($B5,'Class. Personale'!$B:$I,5,)) -> RAM | G5: =IF($B5="","",VLOOKUP($B5,'Class. Personale'!$B:$I,6,)) -> AB | H5: =IF($B5="","",VLOOKUP($B5,'Class. Personale'!$B:$I,7,)) -> IV | I5: 8.32 | J5: 10 | K5: 998 | L5: =IF($G5="","",IF($G5="AB",$J5,"")) -> 10 | M5: =IF($G5="","",IF($G5="VF",$J5,"")) | N5: =IF($G5="","",IF($G5="VL",$J5,"")) | O5: =IF($G5="","",IF($G5="VV",$J5,"")) | P5: =IF($G5="","",IF($G5="CAS",$J5,"")) | Q5: =IF($G5="","",IF($G5="SAN",$J5,"")) | R5: =IF($F5="","",IF($F5="DCO",$J5,"")) | S5: =IF($G5="","",IF($G5="ICG",$J5,"")) | T5: =IF($F5="","",IF($F5="BOT",$J5,"")) | U5: =IF($F5="","",IF($F5="DEA",$J5,"")) | V5: =IF($F5="","",IF($F5="DON",$J5,"")) | W5: =IF($F5="","",IF($F5="MAR",$J5,"")) | X5: =IF($F5="","",IF($F5="RAM",$J5,"")) -> 10 | Y5: =IF($F5="","",IF($F5="RIC",$J5,"")) | Z5: =IF($F5="","",IF($F5="RMA",$J5,"")) | AA5: =IF($F5="","",IF($F5="VID",$J5,"")) | AB5: =IF($F5="","",IF($F5="ADA",$J5,"")) | AC5: =IF($F5="","",IF($F5="GAM",$J5,"")) | AD5: =IF($F5="","",IF($F5="TRO",$J5,""))
A6: 4 | B6: 1030 | C6: =IF($B6="","",VLOOKUP($B6,'Class. Personale'!$B:$I,2,)) -> MANGANO | D6: =IF($B6="","",VLOOKUP($B6,'Class. Personale'!$B:$I,3,)) -> CHLOE | E6: =CONCATENATE(C6,D6) -> MANGANOCHLOE | F6: =IF($B6="","",VLOOKUP($B6,'Class. Personale'!$B:$I,5,)) -> DON | G6: =IF($B6="","",VLOOKUP($B6,'Class. Personale'!$B:$I,6,)) -> VV | H6: =IF($B6="","",VLOOKUP($B6,'Class. Personale'!$B:$I,7,)) -> IV | I6: 8.33 | J6: 9 | K6: 997 | L6: =IF($G6="","",IF($G6="AB",$J6,"")) | M6: =IF($G6="","",IF($G6="VF",$J6,"")) | N6: =IF($G6="","",IF($G6="VL",$J6,"")) | O6: =IF($G6="","",IF($G6="VV",$J6,"")) -> 9 | P6: =IF($G6="","",IF($G6="CAS",$J6,"")) | Q6: =IF($G6="","",IF($G6="SAN",$J6,"")) | R6: =IF($F6="","",IF($F6="DCO",$J6,"")) | S6: =IF($G6="","",IF($G6="ICG",$J6,"")) | T6: =IF($F6="","",IF($F6="BOT",$J6,"")) | U6: =IF($F6="","",IF($F6="DEA",$J6,"")) | V6: =IF($F6="","",IF($F6="DON",$J6,"")) -> 9 | W6: =IF($F6="","",IF($F6="MAR",$J6,"")) | X6: =IF($F6="","",IF($F6="RAM",$J6,"")) | Y6: =IF($F6="","",IF($F6="RIC",$J6,"")) | Z6: =IF($F6="","",IF($F6="RMA",$J6,"")) | AA6: =IF($F6="","",IF($F6="VID",$J6,"")) | AB6: =IF($F6="","",IF($F6="ADA",$J6,"")) | AC6: =IF($F6="","",IF($F6="GAM",$J6,"")) | AD6: =IF($F6="","",IF($F6="TRO",$J6,""))
A7: 5 | B7: 1057 | C7: =IF($B7="","",VLOOKUP($B7,'Class. Personale'!$B:$I,2,)) -> Krasnitskaya | D7: =IF($B7="","",VLOOKUP($B7,'Class. Personale'!$B:$I,3,)) -> Noemi | E7: =CONCATENATE(C7,D7) -> KrasnitskayaNoemi | F7: =IF($B7="","",VLOOKUP($B7,'Class. Personale'!$B:$I,5,)) -> SAN | G7: SAN | H7: =IF($B7="","",VLOOKUP($B7,'Class. Personale'!$B:$I,7,)) -> IV | I7: 8.39 | J7: 8 | K7: 996 | L7: =IF($G7="","",IF($G7="AB",$J7,"")) | M7: =IF($G7="","",IF($G7="VF",$J7,"")) | N7: =IF($G7="","",IF($G7="VL",$J7,"")) | O7: =IF($G7="","",IF($G7="VV",$J7,"")) | P7: =IF($G7="","",IF($G7="CAS",$J7,"")) | Q7: =IF($G7="","",IF($G7="SAN",$J7,"")) -> 8 | R7: =IF($F7="","",IF($F7="DCO",$J7,"")) | S7: =IF($G7="","",IF($G7="ICG",$J7,"")) | T7: =IF($F7="","",IF($F7="BOT",$J7,"")) | U7: =IF($F7="","",IF($F7="DEA",$J7,"")) | V7: =IF($F7="","",IF($F7="DON",$J7,"")) | W7: =IF($F7="","",IF($F7="MAR",$J7,"")) | X7: =IF($F7="","",IF($F7="RAM",$J7,"")) | Y7: =IF($F7="","",IF($F7="RIC",$J7,"")) | Z7: =IF($F7="","",IF($F7="RMA",$J7,"")) | AA7: =IF($F7="","",IF($F7="VID",$J7,"")) | AB7: =IF($F7="","",IF($F7="ADA",$J7,"")) | AC7: =IF($F7="","",IF($F7="GAM",$J7,"")) | AD7: =IF($F7="","",IF($F7="TRO",$J7,""))
A8: 6 | B8: 1082 | C8: =IF($B8="","",VLOOKUP($B8,'Class. Personale'!$B:$I,2,)) -> NEGRINI | D8: =IF($B8="","",VLOOKUP($B8,'Class. Personale'!$B:$I,3,)) -> REBECCA | E8: =CONCATENATE(C8,D8) -> NEGRINIREBECCA | F8: =IF($B8="","",VLOOKUP($B8,'Class. Personale'!$B:$I,5,)) -> RAM | G8: =IF($B8="","",VLOOKUP($B8,'Class. Personale'!$B:$I,6,)) -> AB | H8: =IF($B8="","",VLOOKUP($B8,'Class. Personale'!$B:$I,7,)) -> IV | I8: 8.43 | J8: 7 | K8: 995 | L8: =IF($G8="","",IF($G8="AB",$J8,"")) -> 7 | M8: =IF($G8="","",IF($G8="VF",$J8,"")) | N8: =IF($G8="","",IF($G8="VL",$J8,"")) | O8: =IF($G8="","",IF($G8="VV",$J8,"")) | P8: =IF($G8="","",IF($G8="CAS",$J8,"")) | Q8: =IF($G8="","",IF($G8="SAN",$J8,"")) | R8: =IF($F8="","",IF($F8="DCO",$J8,"")) | S8: =IF($G8="","",IF($G8="ICG",$J8,"")) | T8: =IF($F8="","",IF($F8="BOT",$J8,"")) | U8: =IF($F8="","",IF($F8="DEA",$J8,"")) | V8: =IF($F8="","",IF($F8="DON",$J8,"")) | W8: =IF($F8="","",IF($F8="MAR",$J8,"")) | X8: =IF($F8="","",IF($F8="RAM",$J8,"")) -> 7 | Y8: =IF($F8="","",IF($F8="RIC",$J8,"")) | Z8: =IF($F8="","",IF($F8="RMA",$J8,"")) | AA8: =IF($F8="","",IF($F8="VID",$J8,"")) | AB8: =IF($F8="","",IF($F8="ADA",$J8,"")) | AC8: =IF($F8="","",IF($F8="GAM",$J8,"")) | AD8: =IF($F8="","",IF($F8="TRO",$J8,""))
A9: 7 | B9: 1065 | C9: =IF($B9="","",VLOOKUP($B9,'Class. Personale'!$B:$I,2,)) -> MACCARONE | D9: =IF($B9="","",VLOOKUP($B9,'Class. Personale'!$B:$I,3,)) -> ASIA | E9: =CONCATENATE(C9,D9) -> MACCARONEASIA | F9: =IF($B9="","",VLOOKUP($B9,'Class. Personale'!$B:$I,5,)) -> VID | G9: =IF($B9="","",VLOOKUP($B9,'Class. Personale'!$B:$I,6,)) -> VF | H9: =IF($B9="","",VLOOKUP($B9,'Class. Personale'!$B:$I,7,)) -> IV | I9: 8.46 | J9: 6 | K9: 994 | L9: =IF($G9="","",IF($G9="AB",$J9,"")) | M9: =IF($G9="","",IF($G9="VF",$J9,"")) -> 6 | N9: =IF($G9="","",IF($G9="VL",$J9,"")) | O9: =IF($G9="","",IF($G9="VV",$J9,"")) | P9: =IF($G9="","",IF($G9="CAS",$J9,"")) | Q9: =IF($G9="","",IF($G9="SAN",$J9,"")) | R9: =IF($F9="","",IF($F9="DCO",$J9,"")) | S9: =IF($G9="","",IF($G9="ICG",$J9,"")) | T9: =IF($F9="","",IF($F9="BOT",$J9,"")) | U9: =IF($F9="","",IF($F9="DEA",$J9,"")) | V9: =IF($F9="","",IF($F9="DON",$J9,"")) | W9: =IF($F9="","",IF($F9="MAR",$J9,"")) | X9: =IF($F9="","",IF($F9="RAM",$J9,"")) | Y9: =IF($F9="","",IF($F9="RIC",$J9,"")) | Z9: =IF($F9="","",IF($F9="RMA",$J9,"")) | AA9: =IF($F9="","",IF($F9="VID",$J9,"")) -> 6 | AB9: =IF($F9="","",IF($F9="ADA",$J9,"")) | AC9: =IF($F9="","",IF($F9="GAM",$J9,"")) | AD9: =IF($F9="","",IF($F9="TRO",$J9,""))
A10: 8 | B10: 1040 | C10: =IF($B10="","",VLOOKUP($B10,'Class. Personale'!$B:$I,2,)) -> CASTILLO | D10: =IF($B10="","",VLOOKUP($B10,'Class. Personale'!$B:$I,3,)) -> JADINE GLYZEL | E10: =CONCATENATE(C10,D10) -> CASTILLOJADINE GLYZEL | F10: =IF($B10="","",VLOOKUP($B10,'Class. Personale'!$B:$I,5,)) -> RMA | G10: =IF($B10="","",VLOOKUP($B10,'Class. Personale'!$B:$I,6,)) -> VV | H10: =IF($B10="","",VLOOKUP($B10,'Class. Personale'!$B:$I,7,)) -> IV | I10: 8.57 | J10: 5 | K10: 993 | L10: =IF($G10="","",IF($G10="AB",$J10,"")) | M10: =IF($G10="","",IF($G10="VF",$J10,"")) | N10: =IF($G10="","",IF($G10="VL",$J10,"")) | O10: =IF($G10="","",IF($G10="VV",$J10,"")) -> 5 | P10: =IF($G10="","",IF($G10="CAS",$J10,"")) | Q10: =IF($G10="","",IF($G10="SAN",$J10,"")) | R10: =IF($F10="","",IF($F10="DCO",$J10,"")) | S10: =IF($G10="","",IF($G10="ICG",$J10,"")) | T10: =IF($F10="","",IF($F10="BOT",$J10,"")) | U10: =IF($F10="","",IF($F10="DEA",$J10,"")) | V10: =IF($F10="","",IF($F10="DON",$J10,"")) | W10: =IF($F10="","",IF($F10="MAR",$J10,"")) | X10: =IF($F10="","",IF($F10="RAM",$J10,"")) | Y10: =IF($F10="","",IF($F10="RIC",$J10,"")) | Z10: =IF($F10="","",IF($F10="RMA",$J10,"")) -> 5 | AA10: =IF($F10="","",IF($F10="VID",$J10,"")) | AB10: =IF($F10="","",IF($F10="ADA",$J10,"")) | AC10: =IF($F10="","",IF($F10="GAM",$J10,"")) | AD10: =IF($F10="","",IF($F10="TRO",$J10,""))
A11: 9 | B11: 1039 | C11: =IF($B11="","",VLOOKUP($B11,'Class. Personale'!$B:$I,2,)) -> OUANDAOGO | D11: =IF($B11="","",VLOOKUP($B11,'Class. Personale'!$B:$I,3,)) -> KARIMA NAYLA | E11: =CONCATENATE(C11,D11) -> OUANDAOGOKARIMA NAYLA | F11: =IF($B11="","",VLOOKUP($B11,'Class. Personale'!$B:$I,5,)) -> MAR | G11: =IF($B11="","",VLOOKUP($B11,'Class. Personale'!$B:$I,6,)) -> VV | H11: =IF($B11="","",VLOOKUP($B11,'Class. Personale'!$B:$I,7,)) -> IV | I11: 8.58 | J11: 4 | K11: 992 | L11: =IF($G11="","",IF($G11="AB",$J11,"")) | M11: =IF($G11="","",IF($G11="VF",$J11,"")) | N11: =IF($G11="","",IF($G11="VL",$J11,"")) | O11: =IF($G11="","",IF($G11="VV",$J11,"")) -> 4 | P11: =IF($G11="","",IF($G11="CAS",$J11,"")) | Q11: =IF($G11="","",IF($G11="SAN",$J11,"")) | R11: =IF($F11="","",IF($F11="DCO",$J11,"")) | S11: =IF($G11="","",IF($G11="ICG",$J11,"")) | T11: =IF($F11="","",IF($F11="BOT",$J11,"")) | U11: =IF($F11="","",IF($F11="DEA",$J11,"")) | V11: =IF($F11="","",IF($F11="DON",$J11,"")) | W11: =IF($F11="","",IF($F11="MAR",$J11,"")) -> 4 | X11: =IF($F11="","",IF($F11="RAM",$J11,"")) | Y11: =IF($F11="","",IF($F11="RIC",$J11,"")) | Z11: =IF($F11="","",IF($F11="RMA",$J11,"")) | AA11: =IF($F11="","",IF($F11="VID",$J11,"")) | AB11: =IF($F11="","",IF($F11="ADA",$J11,"")) | AC11: =IF($F11="","",IF($F11="GAM",$J11,"")) | AD11: =IF($F11="","",IF($F11="TRO",$J11,""))
A12: 10 | B12: 1046 | C12: =IF($B12="","",VLOOKUP($B12,'Class. Personale'!$B:$I,2,)) -> FALL | D12: =IF($B12="","",VLOOKUP($B12,'Class. Personale'!$B:$I,3,)) -> MBATHIO | E12: =CONCATENATE(C12,D12) -> FALLMBATHIO | F12: =IF($B12="","",VLOOKUP($B12,'Class. Personale'!$B:$I,5,)) -> RMA | G12: =IF($B12="","",VLOOKUP($B12,'Class. Personale'!$B:$I,6,)) -> VV | H12: =IF($B12="","",VLOOKUP($B12,'Class. Personale'!$B:$I,7,)) -> IV | I12: 8.64 | J12: 3 | K12: 991 | L12: =IF($G12="","",IF($G12="AB",$J12,"")) | M12: =IF($G12="","",IF($G12="VF",$J12,"")) | N12: =IF($G12="","",IF($G12="VL",$J12,"")) | O12: =IF($G12="","",IF($G12="VV",$J12,"")) -> 3 | P12: =IF($G12="","",IF($G12="CAS",$J12,"")) | Q12: =IF($G12="","",IF($G12="SAN",$J12,"")) | R12: =IF($F12="","",IF($F12="DCO",$J12,"")) | S12: =IF($G12="","",IF($G12="ICG",$J12,"")) | T12: =IF($F12="","",IF($F12="BOT",$J12,"")) | U12: =IF($F12="","",IF($F12="DEA",$J12,"")) | V12: =IF($F12="","",IF($F12="DON",$J12,"")) | W12: =IF($F12="","",IF($F12="MAR",$J12,"")) | X12: =IF($F12="","",IF($F12="RAM",$J12,"")) | Y12: =IF($F12="","",IF($F12="RIC",$J12,"")) | Z12: =IF($F12="","",IF($F12="RMA",$J12,"")) -> 3 | AA12: =IF($F12="","",IF($F12="VID",$J12,"")) | AB12: =IF($F12="","",IF($F12="ADA",$J12,"")) | AC12: =IF($F12="","",IF($F12="GAM",$J12,"")) | AD12: =IF($F12="","",IF($F12="TRO",$J12,""))
A13: 11 | B13: 1032 | C13: =IF($B13="","",VLOOKUP($B13,'Class. Personale'!$B:$I,2,)) -> DI GUGLIELMO | D13: =IF($B13="","",VLOOKUP($B13,'Class. Personale'!$B:$I,3,)) -> AGNESE | E13: =CONCATENATE(C13,D13) -> DI GUGLIELMOAGNESE | F13: =IF($B13="","",VLOOKUP($B13,'Class. Personale'!$B:$I,5,)) -> DON | G13: =IF($B13="","",VLOOKUP($B13,'Class. Personale'!$B:$I,6,)) -> VV | H13: =IF($B13="","",VLOOKUP($B13,'Class. Personale'!$B:$I,7,)) -> IV | I13: 8.68 | J13: 2 | K13: 990 | L13: =IF($G13="","",IF($G13="AB",$J13,"")) | M13: =IF($G13="","",IF($G13="VF",$J13,"")) | N13: =IF($G13="","",IF($G13="VL",$J13,"")) | O13: =IF($G13="","",IF($G13="VV",$J13,"")) -> 2 | P13: =IF($G13="","",IF($G13="CAS",$J13,"")) | Q13: =IF($G13="","",IF($G13="SAN",$J13,"")) | R13: =IF($F13="","",IF($F13="DCO",$J13,"")) | S13: =IF($G13="","",IF($G13="ICG",$J13,"")) | T13: =IF($F13="","",IF($F13="BOT",$J13,"")) | U13: =IF($F13="","",IF($F13="DEA",$J13,"")) | V13: =IF($F13="","",IF($F13="DON",$J13,"")) -> 2 | W13: =IF($F13="","",IF($F13="MAR",$J13,"")) | X13: =IF($F13="","",IF($F13="RAM",$J13,"")) | Y13: =IF($F13="","",IF($F13="RIC",$J13,"")) | Z13: =IF($F13="","",IF($F13="RMA",$J13,"")) | AA13: =IF($F13="","",IF($F13="VID",$J13,"")) | AB13: =IF($F13="","",IF($F13="ADA",$J13,"")) | AC13: =IF($F13="","",IF($F13="GAM",$J13,"")) | AD13: =IF($F13="","",IF($F13="TRO",$J13,""))
A14: 12 | B14: 1049 | C14: =IF($B14="","",VLOOKUP($B14,'Class. Personale'!$B:$I,2,)) -> PREVIDE MASSARA | D14: =IF($B14="","",VLOOKUP($B14,'Class. Personale'!$B:$I,3,)) -> MIA | E14: =CONCATENATE(C14,D14) -> PREVIDE MASSARAMIA | F14: =IF($B14="","",VLOOKUP($B14,'Class. Personale'!$B:$I,5,)) -> RMA | G14: =IF($B14="","",VLOOKUP($B14,'Class. Personale'!$B:$I,6,)) -> VV | H14: =IF($B14="","",VLOOKUP($B14,'Class. Personale'!$B:$I,7,)) -> IV | I14: 8.73 | J14: 1 | K14: 989 | L14: =IF($G14="","",IF($G14="AB",$J14,"")) | M14: =IF($G14="","",IF($G14="VF",$J14,"")) | N14: =IF($G14="","",IF($G14="VL",$J14,"")) | O14: =IF($G14="","",IF($G14="VV",$J14,"")) -> 1 | P14: =IF($G14="","",IF($G14="CAS",$J14,"")) | Q14: =IF($G14="","",IF($G14="SAN",$J14,"")) | R14: =IF($F14="","",IF($F14="DCO",$J14,"")) | S14: =IF($G14="","",IF($G14="ICG",$J14,"")) | T14: =IF($F14="","",IF($F14="BOT",$J14,"")) | U14: =IF($F14="","",IF($F14="DEA",$J14,"")) | V14: =IF($F14="","",IF($F14="DON",$J14,"")) | W14: =IF($F14="","",IF($F14="MAR",$J14,"")) | X14: =IF($F14="","",IF($F14="RAM",$J14,"")) | Y14: =IF($F14="","",IF($F14="RIC",$J14,"")) | Z14: =IF($F14="","",IF($F14="RMA",$J14,"")) -> 1 | AA14: =IF($F14="","",IF($F14="VID",$J14,"")) | AB14: =IF($F14="","",IF($F14="ADA",$J14,"")) | AC14: =IF($F14="","",IF($F14="GAM",$J14,"")) | AD14: =IF($F14="","",IF($F14="TRO",$J14,""))
A15: 13 | B15: 1051 | C15: =IF($B15="","",VLOOKUP($B15,'Class. Personale'!$B:$I,2,)) -> FERRARI TRECATE | D15: =IF($B15="","",VLOOKUP($B15,'Class. Personale'!$B:$I,3,)) -> SELINA | E15: =CONCATENATE(C15,D15) -> FERRARI TRECATESELINA | F15: =IF($B15="","",VLOOKUP($B15,'Class. Personale'!$B:$I,5,)) -> RIC | G15: VF | H15: =IF($B15="","",VLOOKUP($B15,'Class. Personale'!$B:$I,7,)) -> IV | I15: 8.76 | J15: 0 | K15: 988 | L15: =IF($G15="","",IF($G15="AB",$J15,"")) | M15: =IF($G15="","",IF($G15="VF",$J15,"")) -> 0 | N15: =IF($G15="","",IF($G15="VL",$J15,"")) | O15: =IF($G15="","",IF($G15="VV",$J15,"")) | P15: =IF($G15="","",IF($G15="CAS",$J15,"")) | Q15: =IF($G15="","",IF($G15="SAN",$J15,"")) | R15: =IF($F15="","",IF($F15="DCO",$J15,"")) | S15: =IF($G15="","",IF($G15="ICG",$J15,"")) | T15: =IF($F15="","",IF($F15="BOT",$J15,"")) | U15: =IF($F15="","",IF($F15="DEA",$J15,"")) | V15: =IF($F15="","",IF($F15="DON",$J15,"")) | W15: =IF($F15="","",IF($F15="MAR",$J15,"")) | X15: =IF($F15="","",IF($F15="RAM",$J15,"")) | Y15: =IF($F15="","",IF($F15="RIC",$J15,"")) -> 0 | Z15: =IF($F15="","",IF($F15="RMA",$J15,"")) | AA15: =IF($F15="","",IF($F15="VID",$J15,"")) | AB15: =IF($F15="","",IF($F15="ADA",$J15,"")) | AC15: =IF($F15="","",IF($F15="GAM",$J15,"")) | AD15: =IF($F15="","",IF($F15="TRO",$J15,""))
A16: 14 | B16: 1084 | C16: =IF($B16="","",VLOOKUP($B16,'Class. Personale'!$B:$I,2,)) -> ZARIQA | D16: =IF($B16="","",VLOOKUP($B16,'Class. Personale'!$B:$I,3,)) -> KAWTHAR | E16: =CONCATENATE(C16,D16) -> ZARIQAKAWTHAR | F16: =IF($B16="","",VLOOKUP($B16,'Class. Personale'!$B:$I,5,)) -> RAM | G16: =IF($B16="","",VLOOKUP($B16,'Class. Personale'!$B:$I,6,)) -> AB | H16: =IF($B16="","",VLOOKUP($B16,'Class. Personale'!$B:$I,7,)) -> IV | I16: 8.79 | K16: 987 | L16: =IF($G16="","",IF($G16="AB",$J16,"")) -> 0 | M16: =IF($G16="","",IF($G16="VF",$J16,"")) | N16: =IF($G16="","",IF($G16="VL",$J16,"")) | O16: =IF($G16="","",IF($G16="VV",$J16,"")) | P16: =IF($G16="","",IF($G16="CAS",$J16,"")) | Q16: =IF($G16="","",IF($G16="SAN",$J16,"")) | R16: =IF($F16="","",IF($F16="DCO",$J16,"")) | S16: =IF($G16="","",IF($G16="ICG",$J16,"")) | T16: =IF($F16="","",IF($F16="BOT",$J16,"")) | U16: =IF($F16="","",IF($F16="DEA",$J16,"")) | V16: =IF($F16="","",IF($F16="DON",$J16,"")) | W16: =IF($F16="","",IF($F16="MAR",$J16,"")) | X16: =IF($F16="","",IF($F16="RAM",$J16,"")) -> 0 | Y16: =IF($F16="","",IF($F16="RIC",$J16,"")) | Z16: =IF($F16="","",IF($F16="RMA",$J16,"")) | AA16: =IF($F16="","",IF($F16="VID",$J16,"")) | AB16: =IF($F16="","",IF($F16="ADA",$J16,"")) | AC16: =IF($F16="","",IF($F16="GAM",$J16,"")) | AD16: =IF($F16="","",IF($F16="TRO",$J16,""))
A17: 15 | B17: 1041 | C17: =IF($B17="","",VLOOKUP($B17,'Class. Personale'!$B:$I,2,)) -> LOZOVAN | D17: =IF($B17="","",VLOOKUP($B17,'Class. Personale'!$B:$I,3,)) -> LIA | E17: =CONCATENATE(C17,D17) -> LOZOVANLIA | F17: =IF($B17="","",VLOOKUP($B17,'Class. Personale'!$B:$I,5,)) -> RMA | G17: =IF($B17="","",VLOOKUP($B17,'Class. Personale'!$B:$I,6,)) -> VV | H17: =IF($B17="","",VLOOKUP($B17,'Class. Personale'!$B:$I,7,)) -> IV | I17: 8.8 | K17: 986 | L17: =IF($G17="","",IF($G17="AB",$J17,"")) | M17: =IF($G17="","",IF($G17="VF",$J17,"")) | N17: =IF($G17="","",IF($G17="VL",$J17,"")) | O17: =IF($G17="","",IF($G17="VV",$J17,"")) -> 0 | P17: =IF($G17="","",IF($G17="CAS",$J17,"")) | Q17: =IF($G17="","",IF($G17="SAN",$J17,"")) | R17: =IF($F17="","",IF($F17="DCO",$J17,"")) | S17: =IF($G17="","",IF($G17="ICG",$J17,"")) | T17: =IF($F17="","",IF($F17="BOT",$J17,"")) | U17: =IF($F17="","",IF($F17="DEA",$J17,"")) | V17: =IF($F17="","",IF($F17="DON",$J17,"")) | W17: =IF($F17="","",IF($F17="MAR",$J17,"")) | X17: =IF($F17="","",IF($F17="RAM",$J17,"")) | Y17: =IF($F17="","",IF($F17="RIC",$J17,"")) | Z17: =IF($F17="","",IF($F17="RMA",$J17,"")) -> 0 | AA17: =IF($F17="","",IF($F17="VID",$J17,"")) | AB17: =IF($F17="","",IF($F17="ADA",$J17,"")) | AC17: =IF($F17="","",IF($F17="GAM",$J17,"")) | AD17: =IF($F17="","",IF($F17="TRO",$J17,""))
A18: 16 | B18: 1028 | C18: =IF($B18="","",VLOOKUP($B18,'Class. Personale'!$B:$I,2,)) -> CECHETTO | D18: =IF($B18="","",VLOOKUP($B18,'Class. Personale'!$B:$I,3,)) -> VIOLA | E18: =CONCATENATE(C18,D18) -> CECHETTOVIOLA | F18: =IF($B18="","",VLOOKUP($B18,'Class. Personale'!$B:$I,5,)) -> DON | G18: =IF($B18="","",VLOOKUP($B18,'Class. Personale'!$B:$I,6,)) -> VV | H18: =IF($B18="","",VLOOKUP($B18,'Class. Personale'!$B:$I,7,)) -> IV | I18: 8.86 | K18: 985 | L18: =IF($G18="","",IF($G18="AB",$J18,"")) | M18: =IF($G18="","",IF($G18="VF",$J18,"")) | N18: =IF($G18="","",IF($G18="VL",$J18,"")) | O18: =IF($G18="","",IF($G18="VV",$J18,"")) -> 0 | P18: =IF($G18="","",IF($G18="CAS",$J18,"")) | Q18: =IF($G18="","",IF($G18="SAN",$J18,"")) | R18: =IF($F18="","",IF($F18="DCO",$J18,"")) | S18: =IF($G18="","",IF($G18="ICG",$J18,"")) | T18: =IF($F18="","",IF($F18="BOT",$J18,"")) | U18: =IF($F18="","",IF($F18="DEA",$J18,"")) | V18: =IF($F18="","",IF($F18="DON",$J18,"")) -> 0 | W18: =IF($F18="","",IF($F18="MAR",$J18,"")) | X18: =IF($F18="","",IF($F18="RAM",$J18,"")) | Y18: =IF($F18="","",IF($F18="RIC",$J18,"")) | Z18: =IF($F18="","",IF($F18="RMA",$J18,"")) | AA18: =IF($F18="","",IF($F18="VID",$J18,"")) | AB18: =IF($F18="","",IF($F18="ADA",$J18,"")) | AC18: =IF($F18="","",IF($F18="GAM",$J18,"")) | AD18: =IF($F18="","",IF($F18="TRO",$J18,""))
A19: 17 | B19: 1038 | C19: =IF($B19="","",VLOOKUP($B19,'Class. Personale'!$B:$I,2,)) -> RUGGERI | D19: =IF($B19="","",VLOOKUP($B19,'Class. Personale'!$B:$I,3,)) -> BIANCA | E19: =CONCATENATE(C19,D19) -> RUGGERIBIANCA | F19: =IF($B19="","",VLOOKUP($B19,'Class. Personale'!$B:$I,5,)) -> MAR | G19: =IF($B19="","",VLOOKUP($B19,'Class. Personale'!$B:$I,6,)) -> VV | H19: =IF($B19="","",VLOOKUP($B19,'Class. Personale'!$B:$I,7,)) -> IV | I19: 8.87 | K19: 984 | L19: =IF($G19="","",IF($G19="AB",$J19,"")) | M19: =IF($G19="","",IF($G19="VF",$J19,"")) | N19: =IF($G19="","",IF($G19="VL",$J19,"")) | O19: =IF($G19="","",IF($G19="VV",$J19,"")) -> 0 | P19: =IF($G19="","",IF($G19="CAS",$J19,"")) | Q19: =IF($G19="","",IF($G19="SAN",$J19,"")) | R19: =IF($F19="","",IF($F19="DCO",$J19,"")) | S19: =IF($G19="","",IF($G19="ICG",$J19,"")) | T19: =IF($F19="","",IF($F19="BOT",$J19,"")) | U19: =IF($F19="","",IF($F19="DEA",$J19,"")) | V19: =IF($F19="","",IF($F19="DON",$J19,"")) | W19: =IF($F19="","",IF($F19="MAR",$J19,"")) -> 0 | X19: =IF($F19="","",IF($F19="RAM",$J19,"")) | Y19: =IF($F19="","",IF($F19="RIC",$J19,"")) | Z19: =IF($F19="","",IF($F19="RMA",$J19,"")) | AA19: =IF($F19="","",IF($F19="VID",$J19,"")) | AB19: =IF($F19="","",IF($F19="ADA",$J19,"")) | AC19: =IF($F19="","",IF($F19="GAM",$J19,"")) | AD19: =IF($F19="","",IF($F19="TRO",$J19,""))
A20: 18 | B20: 1036 | C20: =IF($B20="","",VLOOKUP($B20,'Class. Personale'!$B:$I,2,)) -> GOZZINI | D20: =IF($B20="","",VLOOKUP($B20,'Class. Personale'!$B:$I,3,)) -> ANITA | E20: =CONCATENATE(C20,D20) -> GOZZINIANITA | F20: =IF($B20="","",VLOOKUP($B20,'Class. Personale'!$B:$I,5,)) -> MAR | G20: VV | H20: =IF($B20="","",VLOOKUP($B20,'Class. Personale'!$B:$I,7,)) -> IV | I20: 8.9 | K20: 983 | L20: =IF($G20="","",IF($G20="AB",$J20,"")) | M20: =IF($G20="","",IF($G20="VF",$J20,"")) | N20: =IF($G20="","",IF($G20="VL",$J20,"")) | O20: =IF($G20="","",IF($G20="VV",$J20,"")) -> 0 | P20: =IF($G20="","",IF($G20="CAS",$J20,"")) | Q20: =IF($G20="","",IF($G20="SAN",$J20,"")) | R20: =IF($F20="","",IF($F20="DCO",$J20,"")) | S20: =IF($G20="","",IF($G20="ICG",$J20,"")) | T20: =IF($F20="","",IF($F20="BOT",$J20,"")) | U20: =IF($F20="","",IF($F20="DEA",$J20,"")) | V20: =IF($F20="","",IF($F20="DON",$J20,"")) | W20: =IF($F20="","",IF($F20="MAR",$J20,"")) -> 0 | X20: =IF($F20="","",IF($F20="RAM",$J20,"")) | Y20: =IF($F20="","",IF($F20="RIC",$J20,"")) | Z20: =IF($F20="","",IF($F20="RMA",$J20,"")) | AA20: =IF($F20="","",IF($F20="VID",$J20,"")) | AB20: =IF($F20="","",IF($F20="ADA",$J20,"")) | AC20: =IF($F20="","",IF($F20="GAM",$J20,"")) | AD20: =IF($F20="","",IF($F20="TRO",$J20,""))
A21: 19 | B21: 1027 | C21: =IF($B21="","",VLOOKUP($B21,'Class. Personale'!$B:$I,2,)) -> CANAZZA | D21: =IF($B21="","",VLOOKUP($B21,'Class. Personale'!$B:$I,3,)) -> CECILIA | E21: =CONCATENATE(C21,D21) -> CANAZZACECILIA | F21: =IF($B21="","",VLOOKUP($B21,'Class. Personale'!$B:$I,5,)) -> DON | G21: =IF($B21="","",VLOOKUP($B21,'Class. Personale'!$B:$I,6,)) -> VV | H21: =IF($B21="","",VLOOKUP($B21,'Class. Personale'!$B:$I,7,)) -> IV | I21: 8.9 | K21: 982 | L21: =IF($G21="","",IF($G21="AB",$J21,"")) | M21: =IF($G21="","",IF($G21="VF",$J21,"")) | N21: =IF($G21="","",IF($G21="VL",$J21,"")) | O21: =IF($G21="","",IF($G21="VV",$J21,"")) -> 0 | P21: =IF($G21="","",IF($G21="CAS",$J21,"")) | Q21: =IF($G21="","",IF($G21="SAN",$J21,"")) | R21: =IF($F21="","",IF($F21="DCO",$J21,"")) | S21: =IF($G21="","",IF($G21="ICG",$J21,"")) | T21: =IF($F21="","",IF($F21="BOT",$J21,"")) | U21: =IF($F21="","",IF($F21="DEA",$J21,"")) | V21: =IF($F21="","",IF($F21="DON",$J21,"")) -> 0 | W21: =IF($F21="","",IF($F21="MAR",$J21,"")) | X21: =IF($F21="","",IF($F21="RAM",$J21,"")) | Y21: =IF($F21="","",IF($F21="RIC",$J21,"")) | Z21: =IF($F21="","",IF($F21="RMA",$J21,"")) | AA21: =IF($F21="","",IF($F21="VID",$J21,"")) | AB21: =IF($F21="","",IF($F21="ADA",$J21,"")) | AC21: =IF($F21="","",IF($F21="GAM",$J21,"")) | AD21: =IF($F21="","",IF($F21="TRO",$J21,""))
A22: 20 | B22: 1013 | C22: =IF($B22="","",VLOOKUP($B22,'Class. Personale'!$B:$I,2,)) -> ZANETTI | D22: =IF($B22="","",VLOOKUP($B22,'Class. Personale'!$B:$I,3,)) -> ELISA | E22: =CONCATENATE(C22,D22) -> ZANETTIELISA | F22: =IF($B22="","",VLOOKUP($B22,'Class. Personale'!$B:$I,5,)) -> DEA | G22: =IF($B22="","",VLOOKUP($B22,'Class. Personale'!$B:$I,6,)) -> VL | H22: =IF($B22="","",VLOOKUP($B22,'Class. Personale'!$B:$I,7,)) -> IV | I22: 8.91 | K22: 981 | L22: =IF($G22="","",IF($G22="AB",$J22,"")) | M22: =IF($G22="","",IF($G22="VF",$J22,"")) | N22: =IF($G22="","",IF($G22="VL",$J22,"")) -> 0 | O22: =IF($G22="","",IF($G22="VV",$J22,"")) | P22: =IF($G22="","",IF($G22="CAS",$J22,"")) | Q22: =IF($G22="","",IF($G22="SAN",$J22,"")) | R22: =IF($F22="","",IF($F22="DCO",$J22,"")) | S22: =IF($G22="","",IF($G22="ICG",$J22,"")) | T22: =IF($F22="","",IF($F22="BOT",$J22,"")) | U22: =IF($F22="","",IF($F22="DEA",$J22,"")) -> 0 | V22: =IF($F22="","",IF($F22="DON",$J22,"")) | W22: =IF($F22="","",IF($F22="MAR",$J22,"")) | X22: =IF($F22="","",IF($F22="RAM",$J22,"")) | Y22: =IF($F22="","",IF($F22="RIC",$J22,"")) | Z22: =IF($F22="","",IF($F22="RMA",$J22,"")) | AA22: =IF($F22="","",IF($F22="VID",$J22,"")) | AB22: =IF($F22="","",IF($F22="ADA",$J22,"")) | AC22: =IF($F22="","",IF($F22="GAM",$J22,"")) | AD22: =IF($F22="","",IF($F22="TRO",$J22,""))
A23: 21 | B23: 1083 | C23: =IF($B23="","",VLOOKUP($B23,'Class. Personale'!$B:$I,2,)) -> EL SAIED | D23: =IF($B23="","",VLOOKUP($B23,'Class. Personale'!$B:$I,3,)) -> RENAD | E23: =CONCATENATE(C23,D23) -> EL SAIEDRENAD | F23: =IF($B23="","",VLOOKUP($B23,'Class. Personale'!$B:$I,5,)) -> RAM | G23: =IF($B23="","",VLOOKUP($B23,'Class. Personale'!$B:$I,6,)) -> AB | H23: =IF($B23="","",VLOOKUP($B23,'Class. Personale'!$B:$I,7,)) -> IV | I23: 8.95 | K23: 980 | L23: =IF($G23="","",IF($G23="AB",$J23,"")) -> 0 | M23: =IF($G23="","",IF($G23="VF",$J23,"")) | N23: =IF($G23="","",IF($G23="VL",$J23,"")) | O23: =IF($G23="","",IF($G23="VV",$J23,"")) | P23: =IF($G23="","",IF($G23="CAS",$J23,"")) | Q23: =IF($G23="","",IF($G23="SAN",$J23,"")) | R23: =IF($F23="","",IF($F23="DCO",$J23,"")) | S23: =IF($G23="","",IF($G23="ICG",$J23,"")) | T23: =IF($F23="","",IF($F23="BOT",$J23,"")) | U23: =IF($F23="","",IF($F23="DEA",$J23,"")) | V23: =IF($F23="","",IF($F23="DON",$J23,"")) | W23: =IF($F23="","",IF($F23="MAR",$J23,"")) | X23: =IF($F23="","",IF($F23="RAM",$J23,"")) -> 0 | Y23: =IF($F23="","",IF($F23="RIC",$J23,"")) | Z23: =IF($F23="","",IF($F23="RMA",$J23,"")) | AA23: =IF($F23="","",IF($F23="VID",$J23,"")) | AB23: =IF($F23="","",IF($F23="ADA",$J23,"")) | AC23: =IF($F23="","",IF($F23="GAM",$J23,"")) | AD23: =IF($F23="","",IF($F23="TRO",$J23,""))
A24: 22 | B24: 1004 | C24: =IF($B24="","",VLOOKUP($B24,'Class. Personale'!$B:$I,2,)) -> ARDIANI | D24: =IF($B24="","",VLOOKUP($B24,'Class. Personale'!$B:$I,3,)) -> MATILDE | E24: =CONCATENATE(C24,D24) -> ARDIANIMATILDE | F24: =IF($B24="","",VLOOKUP($B24,'Class. Personale'!$B:$I,5,)) -> DEA | G24: =IF($B24="","",VLOOKUP($B24,'Class. Personale'!$B:$I,6,)) -> VL | H24: =IF($B24="","",VLOOKUP($B24,'Class. Personale'!$B:$I,7,)) -> IV | I24: 8.97 | K24: 979 | L24: =IF($G24="","",IF($G24="AB",$J24,"")) | M24: =IF($G24="","",IF($G24="VF",$J24,"")) | N24: =IF($G24="","",IF($G24="VL",$J24,"")) -> 0 | O24: =IF($G24="","",IF($G24="VV",$J24,"")) | P24: =IF($G24="","",IF($G24="CAS",$J24,"")) | Q24: =IF($G24="","",IF($G24="SAN",$J24,"")) | R24: =IF($F24="","",IF($F24="DCO",$J24,"")) | S24: =IF($G24="","",IF($G24="ICG",$J24,"")) | T24: =IF($F24="","",IF($F24="BOT",$J24,"")) | U24: =IF($F24="","",IF($F24="DEA",$J24,"")) -> 0 | V24: =IF($F24="","",IF($F24="DON",$J24,"")) | W24: =IF($F24="","",IF($F24="MAR",$J24,"")) | X24: =IF($F24="","",IF($F24="RAM",$J24,"")) | Y24: =IF($F24="","",IF($F24="RIC",$J24,"")) | Z24: =IF($F24="","",IF($F24="RMA",$J24,"")) | AA24: =IF($F24="","",IF($F24="VID",$J24,"")) | AB24: =IF($F24="","",IF($F24="ADA",$J24,"")) | AC24: =IF($F24="","",IF($F24="GAM",$J24,"")) | AD24: =IF($F24="","",IF($F24="TRO",$J24,""))
A25: 23 | B25: 1007 | C25: =IF($B25="","",VLOOKUP($B25,'Class. Personale'!$B:$I,2,)) -> MACCHIA | D25: =IF($B25="","",VLOOKUP($B25,'Class. Personale'!$B:$I,3,)) -> FRANCESCA | E25: =CONCATENATE(C25,D25) -> MACCHIAFRANCESCA | F25: =IF($B25="","",VLOOKUP($B25,'Class. Personale'!$B:$I,5,)) -> DEA | G25: LIB | H25: =IF($B25="","",VLOOKUP($B25,'Class. Personale'!$B:$I,7,)) -> IV | I25: 9.1 | K25: 978 | L25: =IF($G25="","",IF($G25="AB",$J25,"")) | M25: =IF($G25="","",IF($G25="VF",$J25,"")) | N25: =IF($G25="","",IF($G25="VL",$J25,"")) | O25: =IF($G25="","",IF($G25="VV",$J25,"")) | P25: =IF($G25="","",IF($G25="CAS",$J25,"")) | Q25: =IF($G25="","",IF($G25="SAN",$J25,"")) | R25: =IF($F25="","",IF($F25="DCO",$J25,"")) | S25: =IF($G25="","",IF($G25="ICG",$J25,"")) | T25: =IF($F25="","",IF($F25="BOT",$J25,"")) | U25: =IF($F25="","",IF($F25="DEA",$J25,"")) -> 0 | V25: =IF($F25="","",IF($F25="DON",$J25,"")) | W25: =IF($F25="","",IF($F25="MAR",$J25,"")) | X25: =IF($F25="","",IF($F25="RAM",$J25,"")) | Y25: =IF($F25="","",IF($F25="RIC",$J25,"")) | Z25: =IF($F25="","",IF($F25="RMA",$J25,"")) | AA25: =IF($F25="","",IF($F25="VID",$J25,"")) | AB25: =IF($F25="","",IF($F25="ADA",$J25,"")) | AC25: =IF($F25="","",IF($F25="GAM",$J25,"")) | AD25: =IF($F25="","",IF($F25="TRO",$J25,""))
A26: 24 | B26: 1056 | C26: =IF($B26="","",VLOOKUP($B26,'Class. Personale'!$B:$I,2,)) -> SANSONE | D26: =IF($B26="","",VLOOKUP($B26,'Class. Personale'!$B:$I,3,)) -> AGNESE | E26: =CONCATENATE(C26,D26) -> SANSONEAGNESE | F26: =IF($B26="","",VLOOKUP($B26,'Class. Personale'!$B:$I,5,)) -> RIC | G26: =IF($B26="","",VLOOKUP($B26,'Class. Personale'!$B:$I,6,)) -> VF | H26: =IF($B26="","",VLOOKUP($B26,'Class. Personale'!$B:$I,7,)) -> IV | I26: 9.12 | K26: 977 | L26: =IF($G26="","",IF($G26="AB",$J26,"")) | M26: =IF($G26="","",IF($G26="VF",$J26,"")) -> 0 | N26: =IF($G26="","",IF($G26="VL",$J26,"")) | O26: =IF($G26="","",IF($G26="VV",$J26,"")) | P26: =IF($G26="","",IF($G26="CAS",$J26,"")) | Q26: =IF($G26="","",IF($G26="SAN",$J26,"")) | R26: =IF($F26="","",IF($F26="DCO",$J26,"")) | S26: =IF($G26="","",IF($G26="ICG",$J26,"")) | T26: =IF($F26="","",IF($F26="BOT",$J26,"")) | U26: =IF($F26="","",IF($F26="DEA",$J26,"")) | V26: =IF($F26="","",IF($F26="DON",$J26,"")) | W26: =IF($F26="","",IF($F26="MAR",$J26,"")) | X26: =IF($F26="","",IF($F26="RAM",$J26,"")) | Y26: =IF($F26="","",IF($F26="RIC",$J26,"")) -> 0 | Z26: =IF($F26="","",IF($F26="RMA",$J26,"")) | AA26: =IF($F26="","",IF($F26="VID",$J26,"")) | AB26: =IF($F26="","",IF($F26="ADA",$J26,"")) | AC26: =IF($F26="","",IF($F26="GAM",$J26,"")) | AD26: =IF($F26="","",IF($F26="TRO",$J26,""))
A27: 25 | B27: 1072 | C27: =IF($B27="","",VLOOKUP($B27,'Class. Personale'!$B:$I,2,)) -> MIGLIAVACCA | D27: =IF($B27="","",VLOOKUP($B27,'Class. Personale'!$B:$I,3,)) -> ALIDA | E27: =CONCATENATE(C27,D27) -> MIGLIAVACCAALIDA | F27: =IF($B27="","",VLOOKUP($B27,'Class. Personale'!$B:$I,5,)) -> VID | G27: =IF($B27="","",VLOOKUP($B27,'Class. Personale'!$B:$I,6,)) -> VF | H27: =IF($B27="","",VLOOKUP($B27,'Class. Personale'!$B:$I,7,)) -> IV | I27: 9.12 | K27: 976 | L27: =IF($G27="","",IF($G27="AB",$J27,"")) | M27: =IF($G27="","",IF($G27="VF",$J27,"")) -> 0 | N27: =IF($G27="","",IF($G27="VL",$J27,"")) | O27: =IF($G27="","",IF($G27="VV",$J27,"")) | P27: =IF($G27="","",IF($G27="CAS",$J27,"")) | Q27: =IF($G27="","",IF($G27="SAN",$J27,"")) | R27: =IF($F27="","",IF($F27="DCO",$J27,"")) | S27: =IF($G27="","",IF($G27="ICG",$J27,"")) | T27: =IF($F27="","",IF($F27="BOT",$J27,"")) | U27: =IF($F27="","",IF($F27="DEA",$J27,"")) | V27: =IF($F27="","",IF($F27="DON",$J27,"")) | W27: =IF($F27="","",IF($F27="MAR",$J27,"")) | X27: =IF($F27="","",IF($F27="RAM",$J27,"")) | Y27: =IF($F27="","",IF($F27="RIC",$J27,"")) | Z27: =IF($F27="","",IF($F27="RMA",$J27,"")) | AA27: =IF($F27="","",IF($F27="VID",$J27,"")) -> 0 | AB27: =IF($F27="","",IF($F27="ADA",$J27,"")) | AC27: =IF($F27="","",IF($F27="GAM",$J27,"")) | AD27: =IF($F27="","",IF($F27="TRO",$J27,""))
A28: 26 | B28: 1025 | C28: =IF($B28="","",VLOOKUP($B28,'Class. Personale'!$B:$I,2,)) -> BERTAZZOLO | D28: =IF($B28="","",VLOOKUP($B28,'Class. Personale'!$B:$I,3,)) -> MIA | E28: =CONCATENATE(C28,D28) -> BERTAZZOLOMIA | F28: =IF($B28="","",VLOOKUP($B28,'Class. Personale'!$B:$I,5,)) -> TRO | G28: =IF($B28="","",VLOOKUP($B28,'Class. Personale'!$B:$I,6,)) -> ICG | H28: =IF($B28="","",VLOOKUP($B28,'Class. Personale'!$B:$I,7,)) -> IV | I28: 9.15 | K28: 975 | L28: =IF($G28="","",IF($G28="AB",$J28,"")) | M28: =IF($G28="","",IF($G28="VF",$J28,"")) | N28: =IF($G28="","",IF($G28="VL",$J28,"")) | O28: =IF($G28="","",IF($G28="VV",$J28,"")) | P28: =IF($G28="","",IF($G28="CAS",$J28,"")) | Q28: =IF($G28="","",IF($G28="SAN",$J28,"")) | R28: =IF($F28="","",IF($F28="DCO",$J28,"")) | S28: =IF($G28="","",IF($G28="ICG",$J28,"")) -> 0 | T28: =IF($F28="","",IF($F28="BOT",$J28,"")) | U28: =IF($F28="","",IF($F28="DEA",$J28,"")) | V28: =IF($F28="","",IF($F28="DON",$J28,"")) | W28: =IF($F28="","",IF($F28="MAR",$J28,"")) | X28: =IF($F28="","",IF($F28="RAM",$J28,"")) | Y28: =IF($F28="","",IF($F28="RIC",$J28,"")) | Z28: =IF($F28="","",IF($F28="RMA",$J28,"")) | AA28: =IF($F28="","",IF($F28="VID",$J28,"")) | AB28: =IF($F28="","",IF($F28="ADA",$J28,"")) | AC28: =IF($F28="","",IF($F28="GAM",$J28,"")) | AD28: =IF($F28="","",IF($F28="TRO",$J28,"")) -> 0
A29: 27 | B29: 1023 | C29: =IF($B29="","",VLOOKUP($B29,'Class. Personale'!$B:$I,2,)) -> GANZI | D29: =IF($B29="","",VLOOKUP($B29,'Class. Personale'!$B:$I,3,)) -> GRETA | E29: =CONCATENATE(C29,D29) -> GANZIGRETA | F29: =IF($B29="","",VLOOKUP($B29,'Class. Personale'!$B:$I,5,)) -> GAM | G29: =IF($B29="","",VLOOKUP($B29,'Class. Personale'!$B:$I,6,)) -> ICG | H29: =IF($B29="","",VLOOKUP($B29,'Class. Personale'!$B:$I,7,)) -> IV | I29: 9.16 | K29: 974 | L29: =IF($G29="","",IF($G29="AB",$J29,"")) | M29: =IF($G29="","",IF($G29="VF",$J29,"")) | N29: =IF($G29="","",IF($G29="VL",$J29,"")) | O29: =IF($G29="","",IF($G29="VV",$J29,"")) | P29: =IF($G29="","",IF($G29="CAS",$J29,"")) | Q29: =IF($G29="","",IF($G29="SAN",$J29,"")) | R29: =IF($F29="","",IF($F29="DCO",$J29,"")) | S29: =IF($G29="","",IF($G29="ICG",$J29,"")) -> 0 | T29: =IF($F29="","",IF($F29="BOT",$J29,"")) | U29: =IF($F29="","",IF($F29="DEA",$J29,"")) | V29: =IF($F29="","",IF($F29="DON",$J29,"")) | W29: =IF($F29="","",IF($F29="MAR",$J29,"")) | X29: =IF($F29="","",IF($F29="RAM",$J29,"")) | Y29: =IF($F29="","",IF($F29="RIC",$J29,"")) | Z29: =IF($F29="","",IF($F29="RMA",$J29,"")) | AA29: =IF($F29="","",IF($F29="VID",$J29,"")) | AB29: =IF($F29="","",IF($F29="ADA",$J29,"")) | AC29: =IF($F29="","",IF($F29="GAM",$J29,"")) -> 0 | AD29: =IF($F29="","",IF($F29="TRO",$J29,""))
A30: 28 | B30: 1085 | C30: =IF($B30="","",VLOOKUP($B30,'Class. Personale'!$B:$I,2,)) -> TONSI | D30: =IF($B30="","",VLOOKUP($B30,'Class. Personale'!$B:$I,3,)) -> BEATRICE | E30: =CONCATENATE(C30,D30) -> TONSIBEATRICE | F30: =IF($B30="","",VLOOKUP($B30,'Class. Personale'!$B:$I,5,)) -> RAM | G30: =IF($B30="","",VLOOKUP($B30,'Class. Personale'!$B:$I,6,)) -> AB | H30: =IF($B30="","",VLOOKUP($B30,'Class. Personale'!$B:$I,7,)) -> IV | I30: 9.16 | K30: 973 | L30: =IF($G30="","",IF($G30="AB",$J30,"")) -> 0 | M30: =IF($G30="","",IF($G30="VF",$J30,"")) | N30: =IF($G30="","",IF($G30="VL",$J30,"")) | O30: =IF($G30="","",IF($G30="VV",$J30,"")) | P30: =IF($G30="","",IF($G30="CAS",$J30,"")) | Q30: =IF($G30="","",IF($G30="SAN",$J30,"")) | R30: =IF($F30="","",IF($F30="DCO",$J30,"")) | S30: =IF($G30="","",IF($G30="ICG",$J30,"")) | T30: =IF($F30="","",IF($F30="BOT",$J30,"")) | U30: =IF($F30="","",IF($F30="DEA",$J30,"")) | V30: =IF($F30="","",IF($F30="DON",$J30,"")) | W30: =IF($F30="","",IF($F30="MAR",$J30,"")) | X30: =IF($F30="","",IF($F30="RAM",$J30,"")) -> 0 | Y30: =IF($F30="","",IF($F30="RIC",$J30,"")) | Z30: =IF($F30="","",IF($F30="RMA",$J30,"")) | AA30: =IF($F30="","",IF($F30="VID",$J30,"")) | AB30: =IF($F30="","",IF($F30="ADA",$J30,"")) | AC30: =IF($F30="","",IF($F30="GAM",$J30,"")) | AD30: =IF($F30="","",IF($F30="TRO",$J30,""))
A31: 29 | B31: 1042 | C31: =IF($B31="","",VLOOKUP($B31,'Class. Personale'!$B:$I,2,)) -> MOHAMED | D31: =IF($B31="","",VLOOKUP($B31,'Class. Personale'!$B:$I,3,)) -> HAGAR | E31: =CONCATENATE(C31,D31) -> MOHAMEDHAGAR | F31: =IF($B31="","",VLOOKUP($B31,'Class. Personale'!$B:$I,5,)) -> RMA | G31: =IF($B31="","",VLOOKUP($B31,'Class. Personale'!$B:$I,6,)) -> VV | H31: =IF($B31="","",VLOOKUP($B31,'Class. Personale'!$B:$I,7,)) -> IV | I31: 9.19 | K31: 972 | L31: =IF($G31="","",IF($G31="AB",$J31,"")) | M31: =IF($G31="","",IF($G31="VF",$J31,"")) | N31: =IF($G31="","",IF($G31="VL",$J31,"")) | O31: =IF($G31="","",IF($G31="VV",$J31,"")) -> 0 | P31: =IF($G31="","",IF($G31="CAS",$J31,"")) | Q31: =IF($G31="","",IF($G31="SAN",$J31,"")) | R31: =IF($F31="","",IF($F31="DCO",$J31,"")) | S31: =IF($G31="","",IF($G31="ICG",$J31,"")) | T31: =IF($F31="","",IF($F31="BOT",$J31,"")) | U31: =IF($F31="","",IF($F31="DEA",$J31,"")) | V31: =IF($F31="","",IF($F31="DON",$J31,"")) | W31: =IF($F31="","",IF($F31="MAR",$J31,"")) | X31: =IF($F31="","",IF($F31="RAM",$J31,"")) | Y31: =IF($F31="","",IF($F31="RIC",$J31,"")) | Z31: =IF($F31="","",IF($F31="RMA",$J31,"")) -> 0 | AA31: =IF($F31="","",IF($F31="VID",$J31,"")) | AB31: =IF($F31="","",IF($F31="ADA",$J31,"")) | AC31: =IF($F31="","",IF($F31="GAM",$J31,"")) | AD31: =IF($F31="","",IF($F31="TRO",$J31,""))
A32: 30 | B32: 1024 | C32: =IF($B32="","",VLOOKUP($B32,'Class. Personale'!$B:$I,2,)) -> FERLISI | D32: =IF($B32="","",VLOOKUP($B32,'Class. Personale'!$B:$I,3,)) -> EMILY | E32: =CONCATENATE(C32,D32) -> FERLISIEMILY | F32: =IF($B32="","",VLOOKUP($B32,'Class. Personale'!$B:$I,5,)) -> GAM | G32: =IF($B32="","",VLOOKUP($B32,'Class. Personale'!$B:$I,6,)) -> ICG | H32: =IF($B32="","",VLOOKUP($B32,'Class. Personale'!$B:$I,7,)) -> IV | I32: 9.2 | K32: 971 | L32: =IF($G32="","",IF($G32="AB",$J32,"")) | M32: =IF($G32="","",IF($G32="VF",$J32,"")) | N32: =IF($G32="","",IF($G32="VL",$J32,"")) | O32: =IF($G32="","",IF($G32="VV",$J32,"")) | P32: =IF($G32="","",IF($G32="CAS",$J32,"")) | Q32: =IF($G32="","",IF($G32="SAN",$J32,"")) | R32: =IF($F32="","",IF($F32="DCO",$J32,"")) | S32: =IF($G32="","",IF($G32="ICG",$J32,"")) -> 0 | T32: =IF($F32="","",IF($F32="BOT",$J32,"")) | U32: =IF($F32="","",IF($F32="DEA",$J32,"")) | V32: =IF($F32="","",IF($F32="DON",$J32,"")) | W32: =IF($F32="","",IF($F32="MAR",$J32,"")) | X32: =IF($F32="","",IF($F32="RAM",$J32,"")) | Y32: =IF($F32="","",IF($F32="RIC",$J32,"")) | Z32: =IF($F32="","",IF($F32="RMA",$J32,"")) | AA32: =IF($F32="","",IF($F32="VID",$J32,"")) | AB32: =IF($F32="","",IF($F32="ADA",$J32,"")) | AC32: =IF($F32="","",IF($F32="GAM",$J32,"")) -> 0 | AD32: =IF($F32="","",IF($F32="TRO",$J32,""))
A33: 31 | B33: 1064 | C33: =IF($B33="","",VLOOKUP($B33,'Class. Personale'!$B:$I,2,)) -> GIANNINI | D33: =IF($B33="","",VLOOKUP($B33,'Class. Personale'!$B:$I,3,)) -> SOFIA | E33: =CONCATENATE(C33,D33) -> GIANNINISOFIA | F33: =IF($B33="","",VLOOKUP($B33,'Class. Personale'!$B:$I,5,)) -> VID | G33: =IF($B33="","",VLOOKUP($B33,'Class. Personale'!$B:$I,6,)) -> VF | H33: =IF($B33="","",VLOOKUP($B33,'Class. Personale'!$B:$I,7,)) -> IV | I33: 9.26 | K33: 970 | L33: =IF($G33="","",IF($G33="AB",$J33,"")) | M33: =IF($G33="","",IF($G33="VF",$J33,"")) -> 0 | N33: =IF($G33="","",IF($G33="VL",$J33,"")) | O33: =IF($G33="","",IF($G33="VV",$J33,"")) | P33: =IF($G33="","",IF($G33="CAS",$J33,"")) | Q33: =IF($G33="","",IF($G33="SAN",$J33,"")) | R33: =IF($F33="","",IF($F33="DCO",$J33,"")) | S33: =IF($G33="","",IF($G33="ICG",$J33,"")) | T33: =IF($F33="","",IF($F33="BOT",$J33,"")) | U33: =IF($F33="","",IF($F33="DEA",$J33,"")) | V33: =IF($F33="","",IF($F33="DON",$J33,"")) | W33: =IF($F33="","",IF($F33="MAR",$J33,"")) | X33: =IF($F33="","",IF($F33="RAM",$J33,"")) | Y33: =IF($F33="","",IF($F33="RIC",$J33,"")) | Z33: =IF($F33="","",IF($F33="RMA",$J33,"")) | AA33: =IF($F33="","",IF($F33="VID",$J33,"")) -> 0 | AB33: =IF($F33="","",IF($F33="ADA",$J33,"")) | AC33: =IF($F33="","",IF($F33="GAM",$J33,"")) | AD33: =IF($F33="","",IF($F33="TRO",$J33,""))
A34: 32 | B34: 1091 | C34: =IF($B34="","",VLOOKUP($B34,'Class. Personale'!$B:$I,2,)) -> SCANDALITTI | D34: =IF($B34="","",VLOOKUP($B34,'Class. Personale'!$B:$I,3,)) -> CHIARA | E34: =CONCATENATE(C34,D34) -> SCANDALITTICHIARA | F34: =IF($B34="","",VLOOKUP($B34,'Class. Personale'!$B:$I,5,)) -> RAM | G34: =IF($B34="","",VLOOKUP($B34,'Class. Personale'!$B:$I,6,)) -> AB | H34: =IF($B34="","",VLOOKUP($B34,'Class. Personale'!$B:$I,7,)) -> IV | I34: 9.3 | K34: 969
A35: 33 | B35: 1037 | C35: =IF($B35="","",VLOOKUP($B35,'Class. Personale'!$B:$I,2,)) -> NICODEMO | D35: =IF($B35="","",VLOOKUP($B35,'Class. Personale'!$B:$I,3,)) -> TEA | E35: =CONCATENATE(C35,D35) -> NICODEMOTEA | F35: =IF($B35="","",VLOOKUP($B35,'Class. Personale'!$B:$I,5,)) -> MAR | G35: =IF($B35="","",VLOOKUP($B35,'Class. Personale'!$B:$I,6,)) -> VV | H35: =IF($B35="","",VLOOKUP($B35,'Class. Personale'!$B:$I,7,)) -> IV | I35: 9.3 | K35: 968
A36: 34 | B36: 1086 | C36: =IF($B36="","",VLOOKUP($B36,'Class. Personale'!$B:$I,2,)) -> POLOLLA | D36: =IF($B36="","",VLOOKUP($B36,'Class. Personale'!$B:$I,3,)) -> MILA | E36: =CONCATENATE(C36,D36) -> POLOLLAMILA | F36: =IF($B36="","",VLOOKUP($B36,'Class. Personale'!$B:$I,5,)) -> RAM | G36: =IF($B36="","",VLOOKUP($B36,'Class. Personale'!$B:$I,6,)) -> AB | H36: =IF($B36="","",VLOOKUP($B36,'Class. Personale'!$B:$I,7,)) -> IV | I36: 9.31 | K36: 967
A37: 35 | B37: 1020 | C37: =IF($B37="","",VLOOKUP($B37,'Class. Personale'!$B:$I,2,)) -> SEMAGN | D37: =IF($B37="","",VLOOKUP($B37,'Class. Personale'!$B:$I,3,)) -> ERICA | E37: =CONCATENATE(C37,D37) -> SEMAGNERICA | F37: =IF($B37="","",VLOOKUP($B37,'Class. Personale'!$B:$I,5,)) -> DEA | G37: =IF($B37="","",VLOOKUP($B37,'Class. Personale'!$B:$I,6,)) -> VL | H37: =IF($B37="","",VLOOKUP($B37,'Class. Personale'!$B:$I,7,)) -> IV | I37: 9.32 | K37: 966
A38: 36 | B38: 1034 | C38: =IF($B38="","",VLOOKUP($B38,'Class. Personale'!$B:$I,2,)) -> PANETTA | D38: =IF($B38="","",VLOOKUP($B38,'Class. Personale'!$B:$I,3,)) -> SOFIA | E38: =CONCATENATE(C38,D38) -> PANETTASOFIA | F38: =IF($B38="","",VLOOKUP($B38,'Class. Personale'!$B:$I,5,)) -> DON | G38: =IF($B38="","",VLOOKUP($B38,'Class. Personale'!$B:$I,6,)) -> VV | H38: =IF($B38="","",VLOOKUP($B38,'Class. Personale'!$B:$I,7,)) -> IV | I38: 9.34 | K38: 965
A39: 37 | B39: 1052 | C39: =IF($B39="","",VLOOKUP($B39,'Class. Personale'!$B:$I,2,)) -> VASSORI | D39: =IF($B39="","",VLOOKUP($B39,'Class. Personale'!$B:$I,3,)) -> ADELE | E39: =CONCATENATE(C39,D39) -> VASSORIADELE | F39: =IF($B39="","",VLOOKUP($B39,'Class. Personale'!$B:$I,5,)) -> RIC | G39: =IF($B39="","",VLOOKUP($B39,'Class. Personale'!$B:$I,6,)) -> VF | H39: =IF($B39="","",VLOOKUP($B39,'Class. Personale'!$B:$I,7,)) -> IV | I39: 9.36 | K39: 964
A40: 38 | B40: 1009 | C40: =IF($B40="","",VLOOKUP($B40,'Class. Personale'!$B:$I,2,)) -> MOBARAK | D40: =IF($B40="","",VLOOKUP($B40,'Class. Personale'!$B:$I,3,)) -> SOFIA | E40: =CONCATENATE(C40,D40) -> MOBARAKSOFIA | F40: =IF($B40="","",VLOOKUP($B40,'Class. Personale'!$B:$I,5,)) -> DEA | G40: =IF($B40="","",VLOOKUP($B40,'Class. Personale'!$B:$I,6,)) -> VL | H40: =IF($B40="","",VLOOKUP($B40,'Class. Personale'!$B:$I,7,)) -> IV | I40: 9.4 | K40: 963
...

Sheet 50 IV Masc_
L1: =SUM(L3:L52) -> 5 | M1: =SUM(M3:M52) -> 27 | N1: =SUM(N3:N52) -> 0 | O1: =SUM(O3:O52) -> 39 | P1: =SUM(P3:P52) -> 0 | Q1: =SUM(Q3:Q52) -> 0 | R1: =SUM(R3:R52) -> 0 | S1: =SUM(S3:S52) -> 0 | ... AD1: =SUM(AD3:AD52) -> 0
B2: PETT | C2: COGNOME | D2: NOME | E2: COGNOME NOME | F2: SCUOLA | G2: CIRCOLO | H2: CLASSE | I2: TEMPO | J2: P.TI | K2: P.ti Personali | L2: AB | M2: VF | N2: VL | O2: VV | P2: CAS | Q2: SAN | R2: DCO | S2: ICG | T2: BOT | U2: DEA | V2: DON | W2: MAR | X2: RAM | Y2: RIC | Z2: RMA | AA2: VID | AB2: ADA | AC2: GAM | AD2: TRO
A3: 1 | B3: 2095 | C3: =IF($B3="","",VLOOKUP($B3,'Class. Personale'!$B:$I,2,)) -> BAZZAN | D3: =IF($B3="","",VLOOKUP($B3,'Class. Personale'!$B:$I,3,)) -> FILIPPO VITTORIO | E3: =CONCATENATE(C3,D3) -> BAZZANFILIPPO VITTORIO | F3: =IF($B3="","",VLOOKUP($B3,'Class. Personale'!$B:$I,5,)) -> VID | G3: VF | H3: =IF($B3="","",VLOOKUP($B3,'Class. Personale'!$B:$I,7,)) -> IV | I3: 7.63 | J3: 12 | K3: 1000 | L3: =IF($G3="","",IF($G3="AB",$J3,"")) | M3: =IF($G3="","",IF($G3="VF",$J3,"")) -> 12 | N3: =IF($G3="","",IF($G3="VL",$J3,"")) | O3: =IF($G3="","",IF($G3="VV",$J3,"")) | P3: =IF($G3="","",IF($G3="CAS",$J3,"")) | Q3: =IF($G3="","",IF($G3="SAN",$J3,"")) | R3: =IF($F3="","",IF($F3="DCO",$J3,"")) | S3: =IF($G3="","",IF($G3="ICG",$J3,"")) | T3: =IF($F3="","",IF($F3="BOT",$J3,"")) | U3: =IF($F3="","",IF($F3="DEA",$J3,"")) | V3: =IF($F3="","",IF($F3="DON",$J3,"")) | W3: =IF($F3="","",IF($F3="MAR",$J3,"")) | X3: =IF($F3="","",IF($F3="RAM",$J3,"")) | Y3: =IF($F3="","",IF($F3="RIC",$J3,"")) | Z3: =IF($F3="","",IF($F3="RMA",$J3,"")) | AA3: =IF($F3="","",IF($F3="VID",$J3,"")) -> 12 | AB3: =IF($F3="","",IF($F3="ADA",$J3,"")) | AC3: =IF($F3="","",IF($F3="GAM",$J3,"")) | AD3: =IF($F3="","",IF($F3="TRO",$J3,""))
A4: 2 | B4: 2034 | C4: =IF($B4="","",VLOOKUP($B4,'Class. Personale'!$B:$I,2,)) -> EMANUELE | D4: =IF($B4="","",VLOOKUP($B4,'Class. Personale'!$B:$I,3,)) -> GIORGIO ANTONINO | E4: =CONCATENATE(C4,D4) -> EMANUELEGIORGIO ANTONINO | F4: =IF($B4="","",VLOOKUP($B4,'Class. Personale'!$B:$I,5,)) -> DON | G4: =IF($B4="","",VLOOKUP($B4,'Class. Personale'!$B:$I,6,)) -> VV | H4: =IF($B4="","",VLOOKUP($B4,'Class. Personale'!$B:$I,7,)) -> IV | I4: 7.75 | J4: 11 | K4: 999 | L4: =IF($G4="","",IF($G4="AB",$J4,"")) | M4: =IF($G4="","",IF($G4="VF",$J4,"")) | N4: =IF($G4="","",IF($G4="VL",$J4,"")) | O4: =IF($G4="","",IF($G4="VV",$J4,"")) -> 11 | P4: =IF($G4="","",IF($G4="CAS",$J4,"")) | Q4: =IF($G4="","",IF($G4="SAN",$J4,"")) | R4: =IF($F4="","",IF($F4="DCO",$J4,"")) | S4: =IF($G4="","",IF($G4="ICG",$J4,"")) | T4: =IF($F4="","",IF($F4="BOT",$J4,"")) | U4: =IF($F4="","",IF($F4="DEA",$J4,"")) | V4: =IF($F4="","",IF($F4="DON",$J4,"")) -> 11 | W4: =IF($F4="","",IF($F4="MAR",$J4,"")) | X4: =IF($F4="","",IF($F4="RAM",$J4,"")) | Y4: =IF($F4="","",IF($F4="RIC",$J4,"")) | Z4: =IF($F4="","",IF($F4="RMA",$J4,"")) | AA4: =IF($F4="","",IF($F4="VID",$J4,"")) | AB4: =IF($F4="","",IF($F4="ADA",$J4,"")) | AC4: =IF($F4="","",IF($F4="GAM",$J4,"")) | AD4: =IF($F4="","",IF($F4="TRO",$J4,""))
A5: 3 | B5: 2030 | C5: =IF($B5="","",VLOOKUP($B5,'Class. Personale'!$B:$I,2,)) -> BACCOSI | D5: =IF($B5="","",VLOOKUP($B5,'Class. Personale'!$B:$I,3,)) -> RICCARDO | E5: =CONCATENATE(C5,D5) -> BACCOSIRICCARDO | F5: =IF($B5="","",VLOOKUP($B5,'Class. Personale'!$B:$I,5,)) -> DON | G5: =IF($B5="","",VLOOKUP($B5,'Class. Personale'!$B:$I,6,)) -> VV | H5: =IF($B5="","",VLOOKUP($B5,'Class. Personale'!$B:$I,7,)) -> IV | I5: 7.79 | J5: 10 | K5: 998 | L5: =IF($G5="","",IF($G5="AB",$J5,"")) | M5: =IF($G5="","",IF($G5="VF",$J5,"")) | N5: =IF($G5="","",IF($G5="VL",$J5,"")) | O5: =IF($G5="","",IF($G5="VV",$J5,"")) -> 10 | P5: =IF($G5="","",IF($G5="CAS",$J5,"")) | Q5: =IF($G5="","",IF($G5="SAN",$J5,"")) | R5: =IF($F5="","",IF($F5="DCO",$J5,"")) | S5: =IF($G5="","",IF($G5="ICG",$J5,"")) | T5: =IF($F5="","",IF($F5="BOT",$J5,"")) | U5: =IF($F5="","",IF($F5="DEA",$J5,"")) | V5: =IF($F5="","",IF($F5="DON",$J5,"")) -> 10 | W5: =IF($F5="","",IF($F5="MAR",$J5,"")) | X5: =IF($F5="","",IF($F5="RAM",$J5,"")) | Y5: =IF($F5="","",IF($F5="RIC",$J5,"")) | Z5: =IF($F5="","",IF($F5="RMA",$J5,"")) | AA5: =IF($F5="","",IF($F5="VID",$J5,"")) | AB5: =IF($F5="","",IF($F5="ADA",$J5,"")) | AC5: =IF($F5="","",IF($F5="GAM",$J5,"")) | AD5: =IF($F5="","",IF($F5="TRO",$J5,""))
A6: 4 | B6: 2047 | C6: =IF($B6="","",VLOOKUP($B6,'Class. Personale'!$B:$I,2,)) -> FILIGHERA | D6: =IF($B6="","",VLOOKUP($B6,'Class. Personale'!$B:$I,3,)) -> NICOLO' | E6: =CONCATENATE(C6,D6) -> FILIGHERANICOLO' | F6: =IF($B6="","",VLOOKUP($B6,'Class. Personale'!$B:$I,5,)) -> RMA | G6: =IF($B6="","",VLOOKUP($B6,'Class. Personale'!$B:$I,6,)) -> VV | H6: =IF($B6="","",VLOOKUP($B6,'Class. Personale'!$B:$I,7,)) -> IV | I6: 7.8 | J6: 9 | K6: 997 | L6: =IF($G6="","",IF($G6="AB",$J6,"")) | M6: =IF($G6="","",IF($G6="VF",$J6,"")) | N6: =IF($G6="","",IF($G6="VL",$J6,"")) | O6: =IF($G6="","",IF($G6="VV",$J6,"")) -> 9 | P6: =IF($G6="","",IF($G6="CAS",$J6,"")) | Q6: =IF($G6="","",IF($G6="SAN",$J6,"")) | R6: =IF($F6="","",IF($F6="DCO",$J6,"")) | S6: =IF($G6="","",IF($G6="ICG",$J6,"")) | T6: =IF($F6="","",IF($F6="BOT",$J6,"")) | U6: =IF($F6="","",IF($F6="DEA",$J6,"")) | V6: =IF($F6="","",IF($F6="DON",$J6,"")) | W6: =IF($F6="","",IF($F6="MAR",$J6,"")) | X6: =IF($F6="","",IF($F6="RAM",$J6,"")) | Y6: =IF($F6="","",IF($F6="RIC",$J6,"")) | Z6: =IF($F6="","",IF($F6="RMA",$J6,"")) -> 9 | AA6: =IF($F6="","",IF($F6="VID",$J6,"")) | AB6: =IF($F6="","",IF($F6="ADA",$J6,"")) | AC6: =IF($F6="","",IF($F6="GAM",$J6,"")) | AD6: =IF($F6="","",IF($F6="TRO",$J6,""))
A7: 5 | B7: 2097 | C7: =IF($B7="","",VLOOKUP($B7,'Class. Personale'!$B:$I,2,)) -> NATOLA | D7: =IF($B7="","",VLOOKUP($B7,'Class. Personale'!$B:$I,3,)) -> SAMUEL | E7: =CONCATENATE(C7,D7) -> NATOLASAMUEL | F7: =IF($B7="","",VLOOKUP($B7,'Class. Personale'!$B:$I,5,)) -> VID | G7: =IF($B7="","",VLOOKUP($B7,'Class. Personale'!$B:$I,6,)) -> VF | H7: =IF($B7="","",VLOOKUP($B7,'Class. Personale'!$B:$I,7,)) -> IV | I7: 7.81 | J7: 8 | K7: 996 | L7: =IF($G7="","",IF($G7="AB",$J7,"")) | M7: =IF($G7="","",IF($G7="VF",$J7,"")) -> 8 | N7: =IF($G7="","",IF($G7="VL",$J7,"")) | O7: =IF($G7="","",IF($G7="VV",$J7,"")) | P7: =IF($G7="","",IF($G7="CAS",$J7,"")) | Q7: =IF($G7="","",IF($G7="SAN",$J7,"")) | R7: =IF($F7="","",IF($F7="DCO",$J7,"")) | S7: =IF($G7="","",IF($G7="ICG",$J7,"")) | T7: =IF($F7="","",IF($F7="BOT",$J7,"")) | U7: =IF($F7="","",IF($F7="DEA",$J7,"")) | V7: =IF($F7="","",IF($F7="DON",$J7,"")) | W7: =IF($F7="","",IF($F7="MAR",$J7,"")) | X7: =IF($F7="","",IF($F7="RAM",$J7,"")) | Y7: =IF($F7="","",IF($F7="RIC",$J7,"")) | Z7: =IF($F7="","",IF($F7="RMA",$J7,"")) | AA7: =IF($F7="","",IF($F7="VID",$J7,"")) -> 8 | AB7: =IF($F7="","",IF($F7="ADA",$J7,"")) | AC7: =IF($F7="","",IF($F7="GAM",$J7,"")) | AD7: =IF($F7="","",IF($F7="TRO",$J7,""))
A8: 6 | B8: 2114 | C8: =IF($B8="","",VLOOKUP($B8,'Class. Personale'!$B:$I,2,)) -> ALY SAMIR | D8: =IF($B8="","",VLOOKUP($B8,'Class. Personale'!$B:$I,3,)) -> RAMADAN | E8: =CONCATENATE(C8,D8) -> ALY SAMIRRAMADAN | F8: =IF($B8="","",VLOOKUP($B8,'Class. Personale'!$B:$I,5,)) -> RAM | G8: VB | H8: =IF($B8="","",VLOOKUP($B8,'Class. Personale'!$B:$I,7,)) -> IV | I8: 7.84 | J8: 7 | K8: 995 | L8: =IF($G8="","",IF($G8="AB",$J8,"")) | M8: =IF($G8="","",IF($G8="VF",$J8,"")) | N8: =IF($G8="","",IF($G8="VL",$J8,"")) | O8: =IF($G8="","",IF($G8="VV",$J8,"")) | P8: =IF($G8="","",IF($G8="CAS",$J8,"")) | Q8: =IF($G8="","",IF($G8="SAN",$J8,"")) | R8: =IF($F8="","",IF($F8="DCO",$J8,"")) | S8: =IF($G8="","",IF($G8="ICG",$J8,"")) | T8: =IF($F8="","",IF($F8="BOT",$J8,"")) | U8: =IF($F8="","",IF($F8="DEA",$J8,"")) | V8: =IF($F8="","",IF($F8="DON",$J8,"")) | W8: =IF($F8="","",IF($F8="MAR",$J8,"")) | X8: =IF($F8="","",IF($F8="RAM",$J8,"")) -> 7 | Y8: =IF($F8="","",IF($F8="RIC",$J8,"")) | Z8: =IF($F8="","",IF($F8="RMA",$J8,"")) | AA8: =IF($F8="","",IF($F8="VID",$J8,"")) | AB8: =IF($F8="","",IF($F8="ADA",$J8,"")) | AC8: =IF($F8="","",IF($F8="GAM",$J8,"")) | AD8: =IF($F8="","",IF($F8="TRO",$J8,""))
A9: 7 | B9: 2043 | C9: =IF($B9="","",VLOOKUP($B9,'Class. Personale'!$B:$I,2,)) -> KRADRA | D9: =IF($B9="","",VLOOKUP($B9,'Class. Personale'!$B:$I,3,)) -> ROBERT MARLON | E9: =CONCATENATE(C9,D9) -> KRADRAROBERT MARLON | F9: =IF($B9="","",VLOOKUP($B9,'Class. Personale'!$B:$I,5,)) -> MAR | G9: =IF($B9="","",VLOOKUP($B9,'Class. Personale'!$B:$I,6,)) -> VV | H9: =IF($B9="","",VLOOKUP($B9,'Class. Personale'!$B:$I,7,)) -> IV | I9: 7.86 | J9: 6 | K9: 994 | L9: =IF($G9="","",IF($G9="AB",$J9,"")) | M9: =IF($G9="","",IF($G9="VF",$J9,"")) | N9: =IF($G9="","",IF($G9="VL",$J9,"")) | O9: =IF($G9="","",IF($G9="VV",$J9,"")) -> 6 | P9: =IF($G9="","",IF($G9="CAS",$J9,"")) | Q9: =IF($G9="","",IF($G9="SAN",$J9,"")) | R9: =IF($F9="","",IF($F9="DCO",$J9,"")) | S9: =IF($G9="","",IF($G9="ICG",$J9,"")) | T9: =IF($F9="","",IF($F9="BOT",$J9,"")) | U9: =IF($F9="","",IF($F9="DEA",$J9,"")) | V9: =IF($F9="","",IF($F9="DON",$J9,"")) | W9: =IF($F9="","",IF($F9="MAR",$J9,"")) -> 6 | X9: =IF($F9="","",IF($F9="RAM",$J9,"")) | Y9: =IF($F9="","",IF($F9="RIC",$J9,"")) | Z9: =IF($F9="","",IF($F9="RMA",$J9,"")) | AA9: =IF($F9="","",IF($F9="VID",$J9,"")) | AB9: =IF($F9="","",IF($F9="ADA",$J9,"")) | AC9: =IF($F9="","",IF($F9="GAM",$J9,"")) | AD9: =IF($F9="","",IF($F9="TRO",$J9,""))
A10: 8 | B10: 2125 | C10: =IF($B10="","",VLOOKUP($B10,'Class. Personale'!$B:$I,2,)) -> MAZZON | D10: =IF($B10="","",VLOOKUP($B10,'Class. Personale'!$B:$I,3,)) -> GIULIO | E10: =CONCATENATE(C10,D10) -> MAZZONGIULIO | F10: =IF($B10="","",VLOOKUP($B10,'Class. Personale'!$B:$I,5,)) -> RAM | G10: =IF($B10="","",VLOOKUP($B10,'Class. Personale'!$B:$I,6,)) -> AB | H10: =IF($B10="","",VLOOKUP($B10,'Class. Personale'!$B:$I,7,)) -> IV | I10: 7.89 | J10: 5 | K10: 993 | L10: =IF($G10="","",IF($G10="AB",$J10,"")) -> 5 | M10: =IF($G10="","",IF($G10="VF",$J10,"")) | N10: =IF($G10="","",IF($G10="VL",$J10,"")) | O10: =IF($G10="","",IF($G10="VV",$J10,"")) | P10: =IF($G10="","",IF($G10="CAS",$J10,"")) | Q10: =IF($G10="","",IF($G10="SAN",$J10,"")) | R10: =IF($F10="","",IF($F10="DCO",$J10,"")) | S10: =IF($G10="","",IF($G10="ICG",$J10,"")) | T10: =IF($F10="","",IF($F10="BOT",$J10,"")) | U10: =IF($F10="","",IF($F10="DEA",$J10,"")) | V10: =IF($F10="","",IF($F10="DON",$J10,"")) | W10: =IF($F10="","",IF($F10="MAR",$J10,"")) | X10: =IF($F10="","",IF($F10="RAM",$J10,"")) -> 5 | Y10: =IF($F10="","",IF($F10="RIC",$J10,"")) | Z10: =IF($F10="","",IF($F10="RMA",$J10,"")) | AA10: =IF($F10="","",IF($F10="VID",$J10,"")) | AB10: =IF($F10="","",IF($F10="ADA",$J10,"")) | AC10: =IF($F10="","",IF($F10="GAM",$J10,"")) | AD10: =IF($F10="","",IF($F10="TRO",$J10,""))
A11: 9 | B11: 2070 | C11: =IF($B11="","",VLOOKUP($B11,'Class. Personale'!$B:$I,2,)) -> LUCCHESE | D11: =IF($B11="","",VLOOKUP($B11,'Class. Personale'!$B:$I,3,)) -> PIETRO | E11: =CONCATENATE(C11,D11) -> LUCCHESEPIETRO | F11: =IF($B11="","",VLOOKUP($B11,'Class. Personale'!$B:$I,5,)) -> RIC | G11: =IF($B11="","",VLOOKUP($B11,'Class. Personale'!$B:$I,6,)) -> VF | H11: =IF($B11="","",VLOOKUP($B11,'Class. Personale'!$B:$I,7,)) -> IV | I11: 7.9 | J11: 4 | K11: 992 | L11: =IF($G11="","",IF($G11="AB",$J11,"")) | M11: =IF($G11="","",IF($G11="VF",$J11,"")) -> 4 | N11: =IF($G11="","",IF($G11="VL",$J11,"")) | O11: =IF($G11="","",IF($G11="VV",$J11,"")) | P11: =IF($G11="","",IF($G11="CAS",$J11,"")) | Q11: =IF($G11="","",IF($G11="SAN",$J11,"")) | R11: =IF($F11="","",IF($F11="DCO",$J11,"")) | S11: =IF($G11="","",IF($G11="ICG",$J11,"")) | T11: =IF($F11="","",IF($F11="BOT",$J11,"")) | U11: =IF($F11="","",IF($F11="DEA",$J11,"")) | V11: =IF($F11="","",IF($F11="DON",$J11,"")) | W11: =IF($F11="","",IF($F11="MAR",$J11,"")) | X11: =IF($F11="","",IF($F11="RAM",$J11,"")) | Y11: =IF($F11="","",IF($F11="RIC",$J11,"")) -> 4 | Z11: =IF($F11="","",IF($F11="RMA",$J11,"")) | AA11: =IF($F11="","",IF($F11="VID",$J11,"")) | AB11: =IF($F11="","",IF($F11="ADA",$J11,"")) | AC11: =IF($F11="","",IF($F11="GAM",$J11,"")) | AD11: =IF($F11="","",IF($F11="TRO",$J11,""))
A12: 10 | B12: 2085 | C12: =IF($B12="","",VLOOKUP($B12,'Class. Personale'!$B:$I,2,)) -> ARRIGONE | D12: =IF($B12="","",VLOOKUP($B12,'Class. Personale'!$B:$I,3,)) -> SAMUELE | E12: =CONCATENATE(C12,D12) -> ARRIGONE SAMUELE | F12: =IF($B12="","",VLOOKUP($B12,'Class. Personale'!$B:$I,5,)) -> VID | G12: =IF($B12="","",VLOOKUP($B12,'Class. Personale'!$B:$I,6,)) -> VF | H12: =IF($B12="","",VLOOKUP($B12,'Class. Personale'!$B:$I,7,)) -> IV | I12: 7.92 | J12: 3 | K12: 991 | L12: =IF($G12="","",IF($G12="AB",$J12,"")) | M12: =IF($G12="","",IF($G12="VF",$J12,"")) -> 3 | N12: =IF($G12="","",IF($G12="VL",$J12,"")) | O12: =IF($G12="","",IF($G12="VV",$J12,"")) | P12: =IF($G12="","",IF($G12="CAS",$J12,"")) | Q12: =IF($G12="","",IF($G12="SAN",$J12,"")) | R12: =IF($F12="","",IF($F12="DCO",$J12,"")) | S12: =IF($G12="","",IF($G12="ICG",$J12,"")) | T12: =IF($F12="","",IF($F12="BOT",$J12,"")) | U12: =IF($F12="","",IF($F12="DEA",$J12,"")) | V12: =IF($F12="","",IF($F12="DON",$J12,"")) | W12: =IF($F12="","",IF($F12="MAR",$J12,"")) | X12: =IF($F12="","",IF($F12="RAM",$J12,"")) | Y12: =IF($F12="","",IF($F12="RIC",$J12,"")) | Z12: =IF($F12="","",IF($F12="RMA",$J12,"")) | AA12: =IF($F12="","",IF($F12="VID",$J12,"")) -> 3 | AB12: =IF($F12="","",IF($F12="ADA",$J12,"")) | AC12: =IF($F12="","",IF($F12="GAM",$J12,"")) | AD12: =IF($F12="","",IF($F12="TRO",$J12,""))
A13: 11 | B13: 2055 | C13: =IF($B13="","",VLOOKUP($B13,'Class. Personale'!$B:$I,2,)) -> LOMBARDO | D13: =IF($B13="","",VLOOKUP($B13,'Class. Personale'!$B:$I,3,)) -> ALESSIO | E13: =CONCATENATE(C13,D13) -> LOMBARDOALESSIO | F13: =IF($B13="","",VLOOKUP($B13,'Class. Personale'!$B:$I,5,)) -> RMA | G13: =IF($B13="","",VLOOKUP($B13,'Class. Personale'!$B:$I,6,)) -> VV | H13: =IF($B13="","",VLOOKUP($B13,'Class. Personale'!$B:$I,7,)) -> IV | I13: 7.98 | J13: 2 | K13: 990 | L13: =IF($G13="","",IF($G13="AB",$J13,"")) | M13: =IF($G13="","",IF($G13="VF",$J13,"")) | N13: =IF($G13="","",IF($G13="VL",$J13,"")) | O13: =IF($G13="","",IF($G13="VV",$J13,"")) -> 2 | P13: =IF($G13="","",IF($G13="CAS",$J13,"")) | Q13: =IF($G13="","",IF($G13="SAN",$J13,"")) | R13: =IF($F13="","",IF($F13="DCO",$J13,"")) | S13: =IF($G13="","",IF($G13="ICG",$J13,"")) | T13: =IF($F13="","",IF($F13="BOT",$J13,"")) | U13: =IF($F13="","",IF($F13="DEA",$J13,"")) | V13: =IF($F13="","",IF($F13="DON",$J13,"")) | W13: =IF($F13="","",IF($F13="MAR",$J13,"")) | X13: =IF($F13="","",IF($F13="RAM",$J13,"")) | Y13: =IF($F13="","",IF($F13="RIC",$J13,"")) | Z13: =IF($F13="","",IF($F13="RMA",$J13,"")) -> 2 | AA13: =IF($F13="","",IF($F13="VID",$J13,"")) | AB13: =IF($F13="","",IF($F13="ADA",$J13,"")) | AC13: =IF($F13="","",IF($F13="GAM",$J13,"")) | AD13: =IF($F13="","",IF($F13="TRO",$J13,""))
